BEGIN:VCALENDAR
VERSION:2.0
PRODID:-//Comic Quest - ECPv6.15.20//NONSGML v1.0//EN
CALSCALE:GREGORIAN
METHOD:PUBLISH
X-ORIGINAL-URL:https://comicquest.org
X-WR-CALDESC:Events for Comic Quest
REFRESH-INTERVAL;VALUE=DURATION:PT1H
X-Robots-Tag:noindex
X-PUBLISHED-TTL:PT1H
BEGIN:VTIMEZONE
TZID:UTC
BEGIN:STANDARD
TZOFFSETFROM:+0000
TZOFFSETTO:+0000
TZNAME:UTC
DTSTART:20220101T000000
END:STANDARD
END:VTIMEZONE
BEGIN:VEVENT
DTSTART;VALUE=DATE:20231230
DTEND;VALUE=DATE:20231231
DTSTAMP:20260423T170615
CREATED:20231029T205240Z
LAST-MODIFIED:20231029T205240Z
UID:10000623-1703894400-1703980799@comicquest.org
SUMMARY:Mini Club Turn In - St Nicholas the Mighty
DESCRIPTION:  \nEvery two months we select a unique miniature\, and offer it for 25% Off for everyone.   Then at the end of the period\, painters turn their miniatures in for an exhibition. Everyone paints the same miniature\, but do in in unique ways.  Color choices\, techniques\, conversation\, etc. \nThe new mini club is available. \nSt Nicholas the Mighty \nTurn in Dec 30 \nThe Mini-Club turn in date is this Saturday. Get to the finishing touches (or you should start now?). \n\nTurn in you mini on Saturday\nWe take glamour shots of all the minis that night\nLeave your mini for display (if you can) for a few days.\nThen sometime during the week pick up your mini\, and you get another mini for FREE!\n\n  \n  \n 
URL:https://comicquest.org/event/mini-club-turn-in-st-nicholas-the-mighty/
LOCATION:Comic Quest\, 23811 Bridger #111 CA 92630\, Lake Forest\, CA\, 92630\, United States
CATEGORIES:Event,Mini Club
ATTACH;FMTTYPE=image/png:https://comicquest.org/wp-content/uploads/2023/10/mini-club-dec-2023.png
END:VEVENT
BEGIN:VEVENT
DTSTART;VALUE=DATE:20231028
DTEND;VALUE=DATE:20231029
DTSTAMP:20260423T170615
CREATED:20231018T013430Z
LAST-MODIFIED:20231018T013430Z
UID:10000564-1698451200-1698537599@comicquest.org
SUMMARY:Mini Club Turn In - Harbinger
DESCRIPTION:  \nEvery two months we select a unique miniature\, and offer it for 25% Off for everyone.   Then at the end of the period\, painters turn their miniatures in for an exhibition. Everyone paints the same miniature\, but do in in unique ways.  Color choices\, techniques\, conversation\, etc. \nThe new mini club is available. \nHarbinger \nTurn in Saturday Oct 28th \nThe Mini-Club turn in date is this Saturday. Get to the finishing touches (or you should start now?). \n\nTurn in you mini on Saturday\nWe take glamour shots of all the minis that night\nLeave your mini for display (if you can) for a few days.\nThen sometime during the week pick up your mini\, and you get another mini for FREE!\n\n  \n  \n 
URL:https://comicquest.org/event/mini-club-turn-in-harbinger/
LOCATION:Comic Quest\, 23811 Bridger #111 CA 92630\, Lake Forest\, CA\, 92630\, United States
CATEGORIES:Event,Mini Club
ATTACH;FMTTYPE=image/png:https://comicquest.org/wp-content/uploads/2023/10/Harbinger-Oct-23.png
END:VEVENT
BEGIN:VEVENT
DTSTART;VALUE=DATE:20230826
DTEND;VALUE=DATE:20230827
DTSTAMP:20260423T170615
CREATED:20230814T213320Z
LAST-MODIFIED:20230814T213411Z
UID:10000383-1693008000-1693094399@comicquest.org
SUMMARY:Mini Club Turn In - Tengu Rogue
DESCRIPTION:  \nEvery two months we select a unique miniature\, and offer it for 25% Off for everyone.   Then at the end of the period\, painters turn their miniatures in for an exhibition. Everyone paints the same miniature\, but do in in unique ways.  Color choices\, techniques\, conversation\, etc. \nThe new mini club is available. \nTengu Rogue \nTurn in Saturday Aug 26th \nThe Mini-Club turn in date is this Saturday. Get to the finishing touches (or you should start now?). \n\nTurn in you mini on Saturday\nWe take glamour shots of all the minis that night\nLeave your mini for display (if you can) for a few days.\nThen sometime during the week pick up your mini\, and you get another mini for FREE!\n\n  \n  \n 
URL:https://comicquest.org/event/mini-club-turn-in-tengu-rogue/
LOCATION:Comic Quest\, 23811 Bridger #111 CA 92630\, Lake Forest\, CA\, 92630\, United States
CATEGORIES:Event,Mini Club
ATTACH;FMTTYPE=image/png:https://comicquest.org/wp-content/uploads/2023/03/Orangotang-Banner.png
END:VEVENT
BEGIN:VEVENT
DTSTART;VALUE=DATE:20230624
DTEND;VALUE=DATE:20230625
DTSTAMP:20260423T170615
CREATED:20230303T033337Z
LAST-MODIFIED:20230617T001943Z
UID:10000045-1687564800-1687651199@comicquest.org
SUMMARY:Mini Club Turn In
DESCRIPTION:  \nThe Mini-Club turn in date is this Saturday. Get to the finishing touches (or you should start now?). \n\nTurn in your mini on Saturday\nWe take glamour shots of all the minis that night\nLeave your mini for display (if you can) for a few days.\nThen sometime during the week pick up your mini\, and you get another mini for FREE!\n\n  \n  \nEvery two months we select a unique miniature\, and offer it for 25% Off for everyone.   Then at the end of the period\, painters turn their miniatures in for an exhibition. Everyone paints the same miniature\, but do in in unique ways.  Color choices\, techniques\, conversation\, etc. \nThe new mini club is available. \nMinotaur with Flaming Sword \n  \n 
URL:https://comicquest.org/event/mini-club-turn-in-2/
LOCATION:Comic Quest\, 23811 Bridger #111 CA 92630\, Lake Forest\, CA\, 92630\, United States
CATEGORIES:Event,Mini Club
ATTACH;FMTTYPE=image/png:https://comicquest.org/wp-content/uploads/2023/03/mini_club_logo.png
END:VEVENT
BEGIN:VEVENT
DTSTART;VALUE=DATE:20230429
DTEND;VALUE=DATE:20230430
DTSTAMP:20260423T170615
CREATED:20230307T174511Z
LAST-MODIFIED:20230307T174511Z
UID:10000180-1682726400-1682812799@comicquest.org
SUMMARY:Mini Club Turn In
DESCRIPTION:  \nEvery two months we select a unique miniature\, and offer it for 25% Off for everyone.   Then at the end of the period\, painters turn their miniatures in for an exhibition. Everyone paints the same miniature\, but do in in unique ways.  Color choices\, techniques\, conversation\, etc. \nThe new mini club is available. \n  \n  \nThe Mini-Club turn in date is this Saturday. Get to the finishing touches (or you should start now?). \n\nTurn in you mini on Saturday\nWe take glamour shots of all the minis that night\nLeave your mini for display (if you can) for a few days.\nThen sometime during the week pick up your mini\, and you get another mini for FREE!\n\n  \n  \n 
URL:https://comicquest.org/event/mini-club-turn-in-3/
LOCATION:Comic Quest\, 23811 Bridger #111 CA 92630\, Lake Forest\, CA\, 92630\, United States
CATEGORIES:Event,Mini Club
ATTACH;FMTTYPE=image/png:https://comicquest.org/wp-content/uploads/2023/03/Orangotang-Banner.png
END:VEVENT
BEGIN:VEVENT
DTSTART;VALUE=DATE:20230304
DTEND;VALUE=DATE:20230305
DTSTAMP:20260423T170615
CREATED:20230303T024635Z
LAST-MODIFIED:20230303T003707Z
UID:10000031-1677888000-1677974399@comicquest.org
SUMMARY:Mini Club Turn In
DESCRIPTION:Every two months we select a unique miniature\, and offer it for 25% Off for everyone.   Then at the end of the period\, painters turn their miniatures in for an exhibition. Everyone paints the same miniature\, but do in in unique ways.  Color choices\, techniques\, conversation\, etc. \nThe new mini club is available. \nCaptain Herdak Bonefist \n  \nThe Mini-Club turn in date is this Saturday. Get to the finishing touches (or you should start now?). \n\nTurn in you mini on Saturday\nWe take glamour shots of all the minis that night\nLeave your mini for display (if you can) for a few days.\nThen sometime during the week pick up your mini\, and you get another mini for FREE!\n\n  \n  \n 
URL:https://comicquest.org/event/star-wars-legion-2/
LOCATION:Comic Quest\, 23811 Bridger #111 CA 92630\, Lake Forest\, CA\, 92630\, United States
CATEGORIES:Event,Mini Club
ATTACH;FMTTYPE=image/png:https://comicquest.org/wp-content/uploads/2023/03/mini_club_logo.png
END:VEVENT
END:VCALENDAR