BEGIN:VCALENDAR
VERSION:2.0
PRODID:-//Comic Quest - ECPv6.15.20//NONSGML v1.0//EN
CALSCALE:GREGORIAN
METHOD:PUBLISH
X-ORIGINAL-URL:https://comicquest.org
X-WR-CALDESC:Events for Comic Quest
REFRESH-INTERVAL;VALUE=DURATION:PT1H
X-Robots-Tag:noindex
X-PUBLISHED-TTL:PT1H
BEGIN:VTIMEZONE
TZID:UTC
BEGIN:STANDARD
TZOFFSETFROM:+0000
TZOFFSETTO:+0000
TZNAME:UTC
DTSTART:20220101T000000
END:STANDARD
END:VTIMEZONE
BEGIN:VEVENT
DTSTART;VALUE=DATE:20231015
DTEND;VALUE=DATE:20231016
DTSTAMP:20260425T161328
CREATED:20230920T013321Z
LAST-MODIFIED:20231010T212645Z
UID:10000394-1697328000-1697414399@comicquest.org
SUMMARY:Moonstone
DESCRIPTION:Moonstone Event. \n. \nMoonstone Tournament \nSunday Oct 15th.  11am \n$10 Entry Fee \nMore Info and how to sign up: \nhttps://www.longshanks.org/event/10961/
URL:https://comicquest.org/event/moonstone/
LOCATION:Comic Quest\, 23811 Bridger #111 CA 92630\, Lake Forest\, CA\, 92630\, United States
CATEGORIES:Event,Moonstone,Tournament
ATTACH;FMTTYPE=image/png:https://comicquest.org/wp-content/uploads/2023/09/Moonstone-logo.png
END:VEVENT
END:VCALENDAR