BEGIN:VCALENDAR
VERSION:2.0
PRODID:-//Comic Quest - ECPv6.15.20//NONSGML v1.0//EN
CALSCALE:GREGORIAN
METHOD:PUBLISH
X-ORIGINAL-URL:https://comicquest.org
X-WR-CALDESC:Events for Comic Quest
REFRESH-INTERVAL;VALUE=DURATION:PT1H
X-Robots-Tag:noindex
X-PUBLISHED-TTL:PT1H
BEGIN:VTIMEZONE
TZID:UTC
BEGIN:STANDARD
TZOFFSETFROM:+0000
TZOFFSETTO:+0000
TZNAME:UTC
DTSTART:20230101T000000
END:STANDARD
END:VTIMEZONE
BEGIN:VEVENT
DTSTART;TZID=UTC:20241208T113000
DTEND;TZID=UTC:20241208T170000
DTSTAMP:20260424T093127
CREATED:20241114T232607Z
LAST-MODIFIED:20241116T230355Z
UID:10001344-1733657400-1733677200@comicquest.org
SUMMARY:Moonstone Casual Tourney
DESCRIPTION:Moonstone Event. \nMoonstone Tournament \nCheck in: 11:00am \nStarts: 11:30 am \nEntry $10 \nOP Kit Prizes \n3 Rounds \nSign Ups: Longshanks. Link below \nhttps://moonstone.longshanks.org/event/21316/ \n  \n 
URL:https://comicquest.org/event/moonstone-casual-tourney/
LOCATION:Comic Quest\, 23811 Bridger #111 CA 92630\, Lake Forest\, CA\, 92630\, United States
CATEGORIES:Event,Moonstone,Tournament
ATTACH;FMTTYPE=image/png:https://comicquest.org/wp-content/uploads/2023/09/Moonstone-logo.png
END:VEVENT
END:VCALENDAR