BEGIN:VCALENDAR
VERSION:2.0
PRODID:-//Comic Quest - ECPv6.15.20//NONSGML v1.0//EN
CALSCALE:GREGORIAN
METHOD:PUBLISH
X-ORIGINAL-URL:https://comicquest.org
X-WR-CALDESC:Events for Comic Quest
REFRESH-INTERVAL;VALUE=DURATION:PT1H
X-Robots-Tag:noindex
X-PUBLISHED-TTL:PT1H
BEGIN:VTIMEZONE
TZID:Asia/Shanghai
BEGIN:STANDARD
TZOFFSETFROM:+0800
TZOFFSETTO:+0800
TZNAME:CST
DTSTART:20250101T000000
END:STANDARD
END:VTIMEZONE
BEGIN:VEVENT
DTSTART;TZID=Asia/Shanghai:20260522T190000
DTEND;TZID=Asia/Shanghai:20260522T210000
DTSTAMP:20260423T124705
CREATED:20260102T074344Z
LAST-MODIFIED:20260211T041104Z
UID:10004201-1779476400-1779483600@comicquest.org
SUMMARY:Movie Release - Madalorian & Grogu
DESCRIPTION:  \n 
URL:https://comicquest.org/event/movie-release-madalorian-grogu/
LOCATION:Comic Quest\, 23811 Bridger #111 CA 92630\, Lake Forest\, CA\, 92630\, United States
CATEGORIES:Movie Release
ATTACH;FMTTYPE=image/jpeg:https://comicquest.org/wp-content/uploads/2026/01/Mandalorian-and-Grogu-The-2026.jpg
END:VEVENT
END:VCALENDAR