BEGIN:VCALENDAR
VERSION:2.0
PRODID:-//Comic Quest - ECPv6.15.20//NONSGML v1.0//EN
CALSCALE:GREGORIAN
METHOD:PUBLISH
X-WR-CALNAME:Comic Quest
X-ORIGINAL-URL:https://comicquest.org
X-WR-CALDESC:Events for Comic Quest
REFRESH-INTERVAL;VALUE=DURATION:PT1H
X-Robots-Tag:noindex
X-PUBLISHED-TTL:PT1H
BEGIN:VTIMEZONE
TZID:Asia/Shanghai
BEGIN:STANDARD
TZOFFSETFROM:+0800
TZOFFSETTO:+0800
TZNAME:CST
DTSTART:20230101T000000
END:STANDARD
END:VTIMEZONE
BEGIN:VEVENT
DTSTART;VALUE=DATE:20240402
DTEND;VALUE=DATE:20240403
DTSTAMP:20260425T060730
CREATED:20230930T023909Z
LAST-MODIFIED:20230930T023909Z
UID:10000484-1712016000-1712102399@comicquest.org
SUMMARY:New DC Comics
DESCRIPTION:New DC comics arrive each Tuesday. \nAll other comics (Including Marvel) arrive Wednesday. \n  \nList of new comics arrived and expected are located here: \nhttps://comicquest.org/category/comic-releases/ \n 
URL:https://comicquest.org/event/new-dc-comics-50/
LOCATION:Comic Quest\, 23811 Bridger #111 CA 92630\, Lake Forest\, CA\, 92630\, United States
CATEGORIES:New Comics
ATTACH;FMTTYPE=image/jpeg:https://comicquest.org/wp-content/uploads/2023/03/DC_Comics.jpg
END:VEVENT
BEGIN:VEVENT
DTSTART;VALUE=DATE:20240403
DTEND;VALUE=DATE:20240404
DTSTAMP:20260425T060730
CREATED:20230930T023433Z
LAST-MODIFIED:20230930T023433Z
UID:10000476-1712102400-1712188799@comicquest.org
SUMMARY:New Comics
DESCRIPTION:New DC comics arrive each Tuesday. \nAll other comics (Including Marvel) arrive Wednesday. \n  \nList of new comics arrived and expected are located here: \nhttps://comicquest.org/category/comic-releases/ \nhttps://comicquest.org/category/comic-releases/
URL:https://comicquest.org/event/new-comics-58/
LOCATION:Comic Quest\, 23811 Bridger #111 CA 92630\, Lake Forest\, CA\, 92630\, United States
CATEGORIES:New Comics
ATTACH;FMTTYPE=image/jpeg:https://comicquest.org/wp-content/uploads/2023/03/imgE1.jpg
END:VEVENT
BEGIN:VEVENT
DTSTART;VALUE=DATE:20240409
DTEND;VALUE=DATE:20240410
DTSTAMP:20260425T060730
CREATED:20230930T023937Z
LAST-MODIFIED:20230930T023937Z
UID:10000485-1712620800-1712707199@comicquest.org
SUMMARY:New DC Comics
DESCRIPTION:New DC comics arrive each Tuesday. \nAll other comics (Including Marvel) arrive Wednesday. \n  \nList of new comics arrived and expected are located here: \nhttps://comicquest.org/category/comic-releases/ \n 
URL:https://comicquest.org/event/new-dc-comics-51/
LOCATION:Comic Quest\, 23811 Bridger #111 CA 92630\, Lake Forest\, CA\, 92630\, United States
CATEGORIES:New Comics
ATTACH;FMTTYPE=image/jpeg:https://comicquest.org/wp-content/uploads/2023/03/DC_Comics.jpg
END:VEVENT
BEGIN:VEVENT
DTSTART;VALUE=DATE:20240410
DTEND;VALUE=DATE:20240411
DTSTAMP:20260425T060730
CREATED:20230930T023507Z
LAST-MODIFIED:20230930T023507Z
UID:10000477-1712707200-1712793599@comicquest.org
SUMMARY:New Comics
DESCRIPTION:New DC comics arrive each Tuesday. \nAll other comics (Including Marvel) arrive Wednesday. \n  \nList of new comics arrived and expected are located here: \nhttps://comicquest.org/category/comic-releases/ \nhttps://comicquest.org/category/comic-releases/
URL:https://comicquest.org/event/new-comics-59/
LOCATION:Comic Quest\, 23811 Bridger #111 CA 92630\, Lake Forest\, CA\, 92630\, United States
CATEGORIES:New Comics
ATTACH;FMTTYPE=image/jpeg:https://comicquest.org/wp-content/uploads/2023/03/imgE1.jpg
END:VEVENT
BEGIN:VEVENT
DTSTART;VALUE=DATE:20240416
DTEND;VALUE=DATE:20240417
DTSTAMP:20260425T060730
CREATED:20230930T024006Z
LAST-MODIFIED:20230930T024006Z
UID:10000486-1713225600-1713311999@comicquest.org
SUMMARY:New DC Comics
DESCRIPTION:New DC comics arrive each Tuesday. \nAll other comics (Including Marvel) arrive Wednesday. \n  \nList of new comics arrived and expected are located here: \nhttps://comicquest.org/category/comic-releases/ \n 
URL:https://comicquest.org/event/new-dc-comics-52/
LOCATION:Comic Quest\, 23811 Bridger #111 CA 92630\, Lake Forest\, CA\, 92630\, United States
CATEGORIES:New Comics
ATTACH;FMTTYPE=image/jpeg:https://comicquest.org/wp-content/uploads/2023/03/DC_Comics.jpg
END:VEVENT
BEGIN:VEVENT
DTSTART;VALUE=DATE:20240417
DTEND;VALUE=DATE:20240418
DTSTAMP:20260425T060730
CREATED:20230930T023532Z
LAST-MODIFIED:20230930T023543Z
UID:10000478-1713312000-1713398399@comicquest.org
SUMMARY:New Comics
DESCRIPTION:New DC comics arrive each Tuesday. \nAll other comics (Including Marvel) arrive Wednesday. \n  \nList of new comics arrived and expected are located here: \nhttps://comicquest.org/category/comic-releases/ \nhttps://comicquest.org/category/comic-releases/
URL:https://comicquest.org/event/new-comics-60/
LOCATION:Comic Quest\, 23811 Bridger #111 CA 92630\, Lake Forest\, CA\, 92630\, United States
CATEGORIES:New Comics
ATTACH;FMTTYPE=image/jpeg:https://comicquest.org/wp-content/uploads/2023/03/imgE1.jpg
END:VEVENT
BEGIN:VEVENT
DTSTART;VALUE=DATE:20240423
DTEND;VALUE=DATE:20240424
DTSTAMP:20260425T060730
CREATED:20230930T024033Z
LAST-MODIFIED:20230930T024033Z
UID:10000487-1713830400-1713916799@comicquest.org
SUMMARY:New DC Comics
DESCRIPTION:New DC comics arrive each Tuesday. \nAll other comics (Including Marvel) arrive Wednesday. \n  \nList of new comics arrived and expected are located here: \nhttps://comicquest.org/category/comic-releases/ \n 
URL:https://comicquest.org/event/new-dc-comics-53/
LOCATION:Comic Quest\, 23811 Bridger #111 CA 92630\, Lake Forest\, CA\, 92630\, United States
CATEGORIES:New Comics
ATTACH;FMTTYPE=image/jpeg:https://comicquest.org/wp-content/uploads/2023/03/DC_Comics.jpg
END:VEVENT
BEGIN:VEVENT
DTSTART;VALUE=DATE:20240424
DTEND;VALUE=DATE:20240425
DTSTAMP:20260425T060730
CREATED:20230930T023615Z
LAST-MODIFIED:20230930T023615Z
UID:10000479-1713916800-1714003199@comicquest.org
SUMMARY:New Comics
DESCRIPTION:New DC comics arrive each Tuesday. \nAll other comics (Including Marvel) arrive Wednesday. \n  \nList of new comics arrived and expected are located here: \nhttps://comicquest.org/category/comic-releases/ \nhttps://comicquest.org/category/comic-releases/
URL:https://comicquest.org/event/new-comics-61/
LOCATION:Comic Quest\, 23811 Bridger #111 CA 92630\, Lake Forest\, CA\, 92630\, United States
CATEGORIES:New Comics
ATTACH;FMTTYPE=image/jpeg:https://comicquest.org/wp-content/uploads/2023/03/imgE1.jpg
END:VEVENT
BEGIN:VEVENT
DTSTART;VALUE=DATE:20240430
DTEND;VALUE=DATE:20240501
DTSTAMP:20260425T060730
CREATED:20230930T024100Z
LAST-MODIFIED:20230930T024100Z
UID:10000488-1714435200-1714521599@comicquest.org
SUMMARY:New DC Comics
DESCRIPTION:New DC comics arrive each Tuesday. \nAll other comics (Including Marvel) arrive Wednesday. \n  \nList of new comics arrived and expected are located here: \nhttps://comicquest.org/category/comic-releases/ \n 
URL:https://comicquest.org/event/new-dc-comics-54/
LOCATION:Comic Quest\, 23811 Bridger #111 CA 92630\, Lake Forest\, CA\, 92630\, United States
CATEGORIES:New Comics
ATTACH;FMTTYPE=image/jpeg:https://comicquest.org/wp-content/uploads/2023/03/DC_Comics.jpg
END:VEVENT
END:VCALENDAR