BEGIN:VCALENDAR
VERSION:2.0
PRODID:-//Comic Quest - ECPv6.15.20//NONSGML v1.0//EN
CALSCALE:GREGORIAN
METHOD:PUBLISH
X-WR-CALNAME:Comic Quest
X-ORIGINAL-URL:https://comicquest.org
X-WR-CALDESC:Events for Comic Quest
REFRESH-INTERVAL;VALUE=DURATION:PT1H
X-Robots-Tag:noindex
X-PUBLISHED-TTL:PT1H
BEGIN:VTIMEZONE
TZID:Asia/Shanghai
BEGIN:STANDARD
TZOFFSETFROM:+0800
TZOFFSETTO:+0800
TZNAME:CST
DTSTART:20240101T000000
END:STANDARD
END:VTIMEZONE
BEGIN:VEVENT
DTSTART;VALUE=DATE:20251001
DTEND;VALUE=DATE:20251002
DTSTAMP:20260423T194107
CREATED:20241112T045952Z
LAST-MODIFIED:20241112T045952Z
UID:10001306-1759276800-1759363199@comicquest.org
SUMMARY:New Comics
DESCRIPTION:New DC comics arrive each Tuesday. \nAll other comics (Including Marvel) arrive Wednesday. \n  \nList of new comics arrived and expected are located here: \nhttps://comicquest.org/category/comic-releases/ \nhttps://comicquest.org/category/comic-releases/
URL:https://comicquest.org/event/new-comics-134/
LOCATION:Comic Quest\, 23811 Bridger #111 CA 92630\, Lake Forest\, CA\, 92630\, United States
CATEGORIES:New Comics
ATTACH;FMTTYPE=image/jpeg:https://comicquest.org/wp-content/uploads/2023/03/imgE1.jpg
END:VEVENT
BEGIN:VEVENT
DTSTART;VALUE=DATE:20251008
DTEND;VALUE=DATE:20251009
DTSTAMP:20260423T194107
CREATED:20241112T050014Z
LAST-MODIFIED:20241112T050014Z
UID:10001307-1759881600-1759967999@comicquest.org
SUMMARY:New Comics
DESCRIPTION:New DC comics arrive each Tuesday. \nAll other comics (Including Marvel) arrive Wednesday. \n  \nList of new comics arrived and expected are located here: \nhttps://comicquest.org/category/comic-releases/ \nhttps://comicquest.org/category/comic-releases/
URL:https://comicquest.org/event/new-comics-135/
LOCATION:Comic Quest\, 23811 Bridger #111 CA 92630\, Lake Forest\, CA\, 92630\, United States
CATEGORIES:New Comics
ATTACH;FMTTYPE=image/jpeg:https://comicquest.org/wp-content/uploads/2023/03/imgE1.jpg
END:VEVENT
BEGIN:VEVENT
DTSTART;VALUE=DATE:20251015
DTEND;VALUE=DATE:20251016
DTSTAMP:20260423T194107
CREATED:20241112T050036Z
LAST-MODIFIED:20241112T050036Z
UID:10001308-1760486400-1760572799@comicquest.org
SUMMARY:New Comics
DESCRIPTION:New DC comics arrive each Tuesday. \nAll other comics (Including Marvel) arrive Wednesday. \n  \nList of new comics arrived and expected are located here: \nhttps://comicquest.org/category/comic-releases/ \nhttps://comicquest.org/category/comic-releases/
URL:https://comicquest.org/event/new-comics-136/
LOCATION:Comic Quest\, 23811 Bridger #111 CA 92630\, Lake Forest\, CA\, 92630\, United States
CATEGORIES:New Comics
ATTACH;FMTTYPE=image/jpeg:https://comicquest.org/wp-content/uploads/2023/03/imgE1.jpg
END:VEVENT
BEGIN:VEVENT
DTSTART;VALUE=DATE:20251022
DTEND;VALUE=DATE:20251023
DTSTAMP:20260423T194107
CREATED:20241112T050059Z
LAST-MODIFIED:20241112T050059Z
UID:10001309-1761091200-1761177599@comicquest.org
SUMMARY:New Comics
DESCRIPTION:New DC comics arrive each Tuesday. \nAll other comics (Including Marvel) arrive Wednesday. \n  \nList of new comics arrived and expected are located here: \nhttps://comicquest.org/category/comic-releases/ \nhttps://comicquest.org/category/comic-releases/
URL:https://comicquest.org/event/new-comics-137/
LOCATION:Comic Quest\, 23811 Bridger #111 CA 92630\, Lake Forest\, CA\, 92630\, United States
CATEGORIES:New Comics
ATTACH;FMTTYPE=image/jpeg:https://comicquest.org/wp-content/uploads/2023/03/imgE1.jpg
END:VEVENT
BEGIN:VEVENT
DTSTART;VALUE=DATE:20251029
DTEND;VALUE=DATE:20251030
DTSTAMP:20260423T194107
CREATED:20241112T050116Z
LAST-MODIFIED:20241112T050116Z
UID:10001310-1761696000-1761782399@comicquest.org
SUMMARY:New Comics
DESCRIPTION:New DC comics arrive each Tuesday. \nAll other comics (Including Marvel) arrive Wednesday. \n  \nList of new comics arrived and expected are located here: \nhttps://comicquest.org/category/comic-releases/ \nhttps://comicquest.org/category/comic-releases/
URL:https://comicquest.org/event/new-comics-138/
LOCATION:Comic Quest\, 23811 Bridger #111 CA 92630\, Lake Forest\, CA\, 92630\, United States
CATEGORIES:New Comics
ATTACH;FMTTYPE=image/jpeg:https://comicquest.org/wp-content/uploads/2023/03/imgE1.jpg
END:VEVENT
END:VCALENDAR