BEGIN:VCALENDAR
VERSION:2.0
PRODID:-//Comic Quest - ECPv6.15.20//NONSGML v1.0//EN
CALSCALE:GREGORIAN
METHOD:PUBLISH
X-WR-CALNAME:Comic Quest
X-ORIGINAL-URL:https://comicquest.org
X-WR-CALDESC:Events for Comic Quest
REFRESH-INTERVAL;VALUE=DURATION:PT1H
X-Robots-Tag:noindex
X-PUBLISHED-TTL:PT1H
BEGIN:VTIMEZONE
TZID:Asia/Shanghai
BEGIN:STANDARD
TZOFFSETFROM:+0800
TZOFFSETTO:+0800
TZNAME:CST
DTSTART:20270101T000000
END:STANDARD
END:VTIMEZONE
BEGIN:VEVENT
DTSTART;VALUE=DATE:20280524
DTEND;VALUE=DATE:20280525
DTSTAMP:20260424T073916
CREATED:20250807T232151Z
LAST-MODIFIED:20250807T232151Z
UID:10002479-1842739200-1842825599@comicquest.org
SUMMARY:New Comics
DESCRIPTION:New DC comics arrive each Tuesday. \nAll other comics (Including Marvel) arrive Wednesday. \n  \nList of new comics arrived and expected are located here: \nhttps://comicquest.org/category/comic-releases/ \nhttps://comicquest.org/category/comic-releases/
URL:https://comicquest.org/event/new-comics-150/2028-05-24/
LOCATION:Comic Quest\, 23811 Bridger #111 CA 92630\, Lake Forest\, CA\, 92630\, United States
CATEGORIES:New Comics
ATTACH;FMTTYPE=image/jpeg:https://comicquest.org/wp-content/uploads/2023/03/imgE1.jpg
END:VEVENT
BEGIN:VEVENT
DTSTART;VALUE=DATE:20280531
DTEND;VALUE=DATE:20280601
DTSTAMP:20260424T073916
CREATED:20250807T232151Z
LAST-MODIFIED:20250807T232151Z
UID:10002480-1843344000-1843430399@comicquest.org
SUMMARY:New Comics
DESCRIPTION:New DC comics arrive each Tuesday. \nAll other comics (Including Marvel) arrive Wednesday. \n  \nList of new comics arrived and expected are located here: \nhttps://comicquest.org/category/comic-releases/ \nhttps://comicquest.org/category/comic-releases/
URL:https://comicquest.org/event/new-comics-150/2028-05-31/
LOCATION:Comic Quest\, 23811 Bridger #111 CA 92630\, Lake Forest\, CA\, 92630\, United States
CATEGORIES:New Comics
ATTACH;FMTTYPE=image/jpeg:https://comicquest.org/wp-content/uploads/2023/03/imgE1.jpg
END:VEVENT
BEGIN:VEVENT
DTSTART;VALUE=DATE:20280607
DTEND;VALUE=DATE:20280608
DTSTAMP:20260424T073916
CREATED:20250807T232151Z
LAST-MODIFIED:20250807T232151Z
UID:10002481-1843948800-1844035199@comicquest.org
SUMMARY:New Comics
DESCRIPTION:New DC comics arrive each Tuesday. \nAll other comics (Including Marvel) arrive Wednesday. \n  \nList of new comics arrived and expected are located here: \nhttps://comicquest.org/category/comic-releases/ \nhttps://comicquest.org/category/comic-releases/
URL:https://comicquest.org/event/new-comics-150/2028-06-07/
LOCATION:Comic Quest\, 23811 Bridger #111 CA 92630\, Lake Forest\, CA\, 92630\, United States
CATEGORIES:New Comics
ATTACH;FMTTYPE=image/jpeg:https://comicquest.org/wp-content/uploads/2023/03/imgE1.jpg
END:VEVENT
BEGIN:VEVENT
DTSTART;VALUE=DATE:20280614
DTEND;VALUE=DATE:20280615
DTSTAMP:20260424T073916
CREATED:20250807T232151Z
LAST-MODIFIED:20250807T232151Z
UID:10002482-1844553600-1844639999@comicquest.org
SUMMARY:New Comics
DESCRIPTION:New DC comics arrive each Tuesday. \nAll other comics (Including Marvel) arrive Wednesday. \n  \nList of new comics arrived and expected are located here: \nhttps://comicquest.org/category/comic-releases/ \nhttps://comicquest.org/category/comic-releases/
URL:https://comicquest.org/event/new-comics-150/2028-06-14/
LOCATION:Comic Quest\, 23811 Bridger #111 CA 92630\, Lake Forest\, CA\, 92630\, United States
CATEGORIES:New Comics
ATTACH;FMTTYPE=image/jpeg:https://comicquest.org/wp-content/uploads/2023/03/imgE1.jpg
END:VEVENT
BEGIN:VEVENT
DTSTART;VALUE=DATE:20280621
DTEND;VALUE=DATE:20280622
DTSTAMP:20260424T073916
CREATED:20250807T232151Z
LAST-MODIFIED:20250807T232151Z
UID:10002483-1845158400-1845244799@comicquest.org
SUMMARY:New Comics
DESCRIPTION:New DC comics arrive each Tuesday. \nAll other comics (Including Marvel) arrive Wednesday. \n  \nList of new comics arrived and expected are located here: \nhttps://comicquest.org/category/comic-releases/ \nhttps://comicquest.org/category/comic-releases/
URL:https://comicquest.org/event/new-comics-150/2028-06-21/
LOCATION:Comic Quest\, 23811 Bridger #111 CA 92630\, Lake Forest\, CA\, 92630\, United States
CATEGORIES:New Comics
ATTACH;FMTTYPE=image/jpeg:https://comicquest.org/wp-content/uploads/2023/03/imgE1.jpg
END:VEVENT
BEGIN:VEVENT
DTSTART;VALUE=DATE:20280628
DTEND;VALUE=DATE:20280629
DTSTAMP:20260424T073916
CREATED:20250807T232151Z
LAST-MODIFIED:20250807T232151Z
UID:10002484-1845763200-1845849599@comicquest.org
SUMMARY:New Comics
DESCRIPTION:New DC comics arrive each Tuesday. \nAll other comics (Including Marvel) arrive Wednesday. \n  \nList of new comics arrived and expected are located here: \nhttps://comicquest.org/category/comic-releases/ \nhttps://comicquest.org/category/comic-releases/
URL:https://comicquest.org/event/new-comics-150/2028-06-28/
LOCATION:Comic Quest\, 23811 Bridger #111 CA 92630\, Lake Forest\, CA\, 92630\, United States
CATEGORIES:New Comics
ATTACH;FMTTYPE=image/jpeg:https://comicquest.org/wp-content/uploads/2023/03/imgE1.jpg
END:VEVENT
BEGIN:VEVENT
DTSTART;VALUE=DATE:20280705
DTEND;VALUE=DATE:20280706
DTSTAMP:20260424T073916
CREATED:20250807T232151Z
LAST-MODIFIED:20250807T232151Z
UID:10002485-1846368000-1846454399@comicquest.org
SUMMARY:New Comics
DESCRIPTION:New DC comics arrive each Tuesday. \nAll other comics (Including Marvel) arrive Wednesday. \n  \nList of new comics arrived and expected are located here: \nhttps://comicquest.org/category/comic-releases/ \nhttps://comicquest.org/category/comic-releases/
URL:https://comicquest.org/event/new-comics-150/2028-07-05/
LOCATION:Comic Quest\, 23811 Bridger #111 CA 92630\, Lake Forest\, CA\, 92630\, United States
CATEGORIES:New Comics
ATTACH;FMTTYPE=image/jpeg:https://comicquest.org/wp-content/uploads/2023/03/imgE1.jpg
END:VEVENT
BEGIN:VEVENT
DTSTART;VALUE=DATE:20280712
DTEND;VALUE=DATE:20280713
DTSTAMP:20260424T073916
CREATED:20250807T232151Z
LAST-MODIFIED:20250807T232151Z
UID:10002486-1846972800-1847059199@comicquest.org
SUMMARY:New Comics
DESCRIPTION:New DC comics arrive each Tuesday. \nAll other comics (Including Marvel) arrive Wednesday. \n  \nList of new comics arrived and expected are located here: \nhttps://comicquest.org/category/comic-releases/ \nhttps://comicquest.org/category/comic-releases/
URL:https://comicquest.org/event/new-comics-150/2028-07-12/
LOCATION:Comic Quest\, 23811 Bridger #111 CA 92630\, Lake Forest\, CA\, 92630\, United States
CATEGORIES:New Comics
ATTACH;FMTTYPE=image/jpeg:https://comicquest.org/wp-content/uploads/2023/03/imgE1.jpg
END:VEVENT
BEGIN:VEVENT
DTSTART;VALUE=DATE:20280719
DTEND;VALUE=DATE:20280720
DTSTAMP:20260424T073916
CREATED:20250807T232151Z
LAST-MODIFIED:20250807T232151Z
UID:10002487-1847577600-1847663999@comicquest.org
SUMMARY:New Comics
DESCRIPTION:New DC comics arrive each Tuesday. \nAll other comics (Including Marvel) arrive Wednesday. \n  \nList of new comics arrived and expected are located here: \nhttps://comicquest.org/category/comic-releases/ \nhttps://comicquest.org/category/comic-releases/
URL:https://comicquest.org/event/new-comics-150/2028-07-19/
LOCATION:Comic Quest\, 23811 Bridger #111 CA 92630\, Lake Forest\, CA\, 92630\, United States
CATEGORIES:New Comics
ATTACH;FMTTYPE=image/jpeg:https://comicquest.org/wp-content/uploads/2023/03/imgE1.jpg
END:VEVENT
BEGIN:VEVENT
DTSTART;VALUE=DATE:20280726
DTEND;VALUE=DATE:20280727
DTSTAMP:20260424T073916
CREATED:20250807T232151Z
LAST-MODIFIED:20250807T232151Z
UID:10002488-1848182400-1848268799@comicquest.org
SUMMARY:New Comics
DESCRIPTION:New DC comics arrive each Tuesday. \nAll other comics (Including Marvel) arrive Wednesday. \n  \nList of new comics arrived and expected are located here: \nhttps://comicquest.org/category/comic-releases/ \nhttps://comicquest.org/category/comic-releases/
URL:https://comicquest.org/event/new-comics-150/2028-07-26/
LOCATION:Comic Quest\, 23811 Bridger #111 CA 92630\, Lake Forest\, CA\, 92630\, United States
CATEGORIES:New Comics
ATTACH;FMTTYPE=image/jpeg:https://comicquest.org/wp-content/uploads/2023/03/imgE1.jpg
END:VEVENT
BEGIN:VEVENT
DTSTART;VALUE=DATE:20280802
DTEND;VALUE=DATE:20280803
DTSTAMP:20260424T073916
CREATED:20250807T232151Z
LAST-MODIFIED:20250807T232151Z
UID:10002489-1848787200-1848873599@comicquest.org
SUMMARY:New Comics
DESCRIPTION:New DC comics arrive each Tuesday. \nAll other comics (Including Marvel) arrive Wednesday. \n  \nList of new comics arrived and expected are located here: \nhttps://comicquest.org/category/comic-releases/ \nhttps://comicquest.org/category/comic-releases/
URL:https://comicquest.org/event/new-comics-150/2028-08-02/
LOCATION:Comic Quest\, 23811 Bridger #111 CA 92630\, Lake Forest\, CA\, 92630\, United States
CATEGORIES:New Comics
ATTACH;FMTTYPE=image/jpeg:https://comicquest.org/wp-content/uploads/2023/03/imgE1.jpg
END:VEVENT
BEGIN:VEVENT
DTSTART;VALUE=DATE:20280809
DTEND;VALUE=DATE:20280810
DTSTAMP:20260424T073916
CREATED:20250807T232151Z
LAST-MODIFIED:20250807T232151Z
UID:10002490-1849392000-1849478399@comicquest.org
SUMMARY:New Comics
DESCRIPTION:New DC comics arrive each Tuesday. \nAll other comics (Including Marvel) arrive Wednesday. \n  \nList of new comics arrived and expected are located here: \nhttps://comicquest.org/category/comic-releases/ \nhttps://comicquest.org/category/comic-releases/
URL:https://comicquest.org/event/new-comics-150/2028-08-09/
LOCATION:Comic Quest\, 23811 Bridger #111 CA 92630\, Lake Forest\, CA\, 92630\, United States
CATEGORIES:New Comics
ATTACH;FMTTYPE=image/jpeg:https://comicquest.org/wp-content/uploads/2023/03/imgE1.jpg
END:VEVENT
BEGIN:VEVENT
DTSTART;VALUE=DATE:20280816
DTEND;VALUE=DATE:20280817
DTSTAMP:20260424T073916
CREATED:20250807T232151Z
LAST-MODIFIED:20250807T232151Z
UID:10002491-1849996800-1850083199@comicquest.org
SUMMARY:New Comics
DESCRIPTION:New DC comics arrive each Tuesday. \nAll other comics (Including Marvel) arrive Wednesday. \n  \nList of new comics arrived and expected are located here: \nhttps://comicquest.org/category/comic-releases/ \nhttps://comicquest.org/category/comic-releases/
URL:https://comicquest.org/event/new-comics-150/2028-08-16/
LOCATION:Comic Quest\, 23811 Bridger #111 CA 92630\, Lake Forest\, CA\, 92630\, United States
CATEGORIES:New Comics
ATTACH;FMTTYPE=image/jpeg:https://comicquest.org/wp-content/uploads/2023/03/imgE1.jpg
END:VEVENT
BEGIN:VEVENT
DTSTART;VALUE=DATE:20280823
DTEND;VALUE=DATE:20280824
DTSTAMP:20260424T073916
CREATED:20250807T232151Z
LAST-MODIFIED:20250807T232151Z
UID:10002492-1850601600-1850687999@comicquest.org
SUMMARY:New Comics
DESCRIPTION:New DC comics arrive each Tuesday. \nAll other comics (Including Marvel) arrive Wednesday. \n  \nList of new comics arrived and expected are located here: \nhttps://comicquest.org/category/comic-releases/ \nhttps://comicquest.org/category/comic-releases/
URL:https://comicquest.org/event/new-comics-150/2028-08-23/
LOCATION:Comic Quest\, 23811 Bridger #111 CA 92630\, Lake Forest\, CA\, 92630\, United States
CATEGORIES:New Comics
ATTACH;FMTTYPE=image/jpeg:https://comicquest.org/wp-content/uploads/2023/03/imgE1.jpg
END:VEVENT
BEGIN:VEVENT
DTSTART;VALUE=DATE:20280830
DTEND;VALUE=DATE:20280831
DTSTAMP:20260424T073916
CREATED:20250807T232151Z
LAST-MODIFIED:20250807T232151Z
UID:10002493-1851206400-1851292799@comicquest.org
SUMMARY:New Comics
DESCRIPTION:New DC comics arrive each Tuesday. \nAll other comics (Including Marvel) arrive Wednesday. \n  \nList of new comics arrived and expected are located here: \nhttps://comicquest.org/category/comic-releases/ \nhttps://comicquest.org/category/comic-releases/
URL:https://comicquest.org/event/new-comics-150/2028-08-30/
LOCATION:Comic Quest\, 23811 Bridger #111 CA 92630\, Lake Forest\, CA\, 92630\, United States
CATEGORIES:New Comics
ATTACH;FMTTYPE=image/jpeg:https://comicquest.org/wp-content/uploads/2023/03/imgE1.jpg
END:VEVENT
BEGIN:VEVENT
DTSTART;VALUE=DATE:20280906
DTEND;VALUE=DATE:20280907
DTSTAMP:20260424T073916
CREATED:20250807T232151Z
LAST-MODIFIED:20250807T232151Z
UID:10002494-1851811200-1851897599@comicquest.org
SUMMARY:New Comics
DESCRIPTION:New DC comics arrive each Tuesday. \nAll other comics (Including Marvel) arrive Wednesday. \n  \nList of new comics arrived and expected are located here: \nhttps://comicquest.org/category/comic-releases/ \nhttps://comicquest.org/category/comic-releases/
URL:https://comicquest.org/event/new-comics-150/2028-09-06/
LOCATION:Comic Quest\, 23811 Bridger #111 CA 92630\, Lake Forest\, CA\, 92630\, United States
CATEGORIES:New Comics
ATTACH;FMTTYPE=image/jpeg:https://comicquest.org/wp-content/uploads/2023/03/imgE1.jpg
END:VEVENT
BEGIN:VEVENT
DTSTART;VALUE=DATE:20280913
DTEND;VALUE=DATE:20280914
DTSTAMP:20260424T073916
CREATED:20250807T232151Z
LAST-MODIFIED:20250807T232151Z
UID:10002495-1852416000-1852502399@comicquest.org
SUMMARY:New Comics
DESCRIPTION:New DC comics arrive each Tuesday. \nAll other comics (Including Marvel) arrive Wednesday. \n  \nList of new comics arrived and expected are located here: \nhttps://comicquest.org/category/comic-releases/ \nhttps://comicquest.org/category/comic-releases/
URL:https://comicquest.org/event/new-comics-150/2028-09-13/
LOCATION:Comic Quest\, 23811 Bridger #111 CA 92630\, Lake Forest\, CA\, 92630\, United States
CATEGORIES:New Comics
ATTACH;FMTTYPE=image/jpeg:https://comicquest.org/wp-content/uploads/2023/03/imgE1.jpg
END:VEVENT
BEGIN:VEVENT
DTSTART;VALUE=DATE:20280920
DTEND;VALUE=DATE:20280921
DTSTAMP:20260424T073916
CREATED:20250807T232151Z
LAST-MODIFIED:20250807T232151Z
UID:10002496-1853020800-1853107199@comicquest.org
SUMMARY:New Comics
DESCRIPTION:New DC comics arrive each Tuesday. \nAll other comics (Including Marvel) arrive Wednesday. \n  \nList of new comics arrived and expected are located here: \nhttps://comicquest.org/category/comic-releases/ \nhttps://comicquest.org/category/comic-releases/
URL:https://comicquest.org/event/new-comics-150/2028-09-20/
LOCATION:Comic Quest\, 23811 Bridger #111 CA 92630\, Lake Forest\, CA\, 92630\, United States
CATEGORIES:New Comics
ATTACH;FMTTYPE=image/jpeg:https://comicquest.org/wp-content/uploads/2023/03/imgE1.jpg
END:VEVENT
BEGIN:VEVENT
DTSTART;VALUE=DATE:20280927
DTEND;VALUE=DATE:20280928
DTSTAMP:20260424T073916
CREATED:20250807T232151Z
LAST-MODIFIED:20250807T232151Z
UID:10002497-1853625600-1853711999@comicquest.org
SUMMARY:New Comics
DESCRIPTION:New DC comics arrive each Tuesday. \nAll other comics (Including Marvel) arrive Wednesday. \n  \nList of new comics arrived and expected are located here: \nhttps://comicquest.org/category/comic-releases/ \nhttps://comicquest.org/category/comic-releases/
URL:https://comicquest.org/event/new-comics-150/2028-09-27/
LOCATION:Comic Quest\, 23811 Bridger #111 CA 92630\, Lake Forest\, CA\, 92630\, United States
CATEGORIES:New Comics
ATTACH;FMTTYPE=image/jpeg:https://comicquest.org/wp-content/uploads/2023/03/imgE1.jpg
END:VEVENT
BEGIN:VEVENT
DTSTART;VALUE=DATE:20281004
DTEND;VALUE=DATE:20281005
DTSTAMP:20260424T073916
CREATED:20250807T232151Z
LAST-MODIFIED:20250807T232151Z
UID:10002498-1854230400-1854316799@comicquest.org
SUMMARY:New Comics
DESCRIPTION:New DC comics arrive each Tuesday. \nAll other comics (Including Marvel) arrive Wednesday. \n  \nList of new comics arrived and expected are located here: \nhttps://comicquest.org/category/comic-releases/ \nhttps://comicquest.org/category/comic-releases/
URL:https://comicquest.org/event/new-comics-150/2028-10-04/
LOCATION:Comic Quest\, 23811 Bridger #111 CA 92630\, Lake Forest\, CA\, 92630\, United States
CATEGORIES:New Comics
ATTACH;FMTTYPE=image/jpeg:https://comicquest.org/wp-content/uploads/2023/03/imgE1.jpg
END:VEVENT
BEGIN:VEVENT
DTSTART;VALUE=DATE:20281011
DTEND;VALUE=DATE:20281012
DTSTAMP:20260424T073916
CREATED:20250807T232151Z
LAST-MODIFIED:20250807T232151Z
UID:10002499-1854835200-1854921599@comicquest.org
SUMMARY:New Comics
DESCRIPTION:New DC comics arrive each Tuesday. \nAll other comics (Including Marvel) arrive Wednesday. \n  \nList of new comics arrived and expected are located here: \nhttps://comicquest.org/category/comic-releases/ \nhttps://comicquest.org/category/comic-releases/
URL:https://comicquest.org/event/new-comics-150/2028-10-11/
LOCATION:Comic Quest\, 23811 Bridger #111 CA 92630\, Lake Forest\, CA\, 92630\, United States
CATEGORIES:New Comics
ATTACH;FMTTYPE=image/jpeg:https://comicquest.org/wp-content/uploads/2023/03/imgE1.jpg
END:VEVENT
BEGIN:VEVENT
DTSTART;VALUE=DATE:20281018
DTEND;VALUE=DATE:20281019
DTSTAMP:20260424T073916
CREATED:20250807T232151Z
LAST-MODIFIED:20250807T232151Z
UID:10002500-1855440000-1855526399@comicquest.org
SUMMARY:New Comics
DESCRIPTION:New DC comics arrive each Tuesday. \nAll other comics (Including Marvel) arrive Wednesday. \n  \nList of new comics arrived and expected are located here: \nhttps://comicquest.org/category/comic-releases/ \nhttps://comicquest.org/category/comic-releases/
URL:https://comicquest.org/event/new-comics-150/2028-10-18/
LOCATION:Comic Quest\, 23811 Bridger #111 CA 92630\, Lake Forest\, CA\, 92630\, United States
CATEGORIES:New Comics
ATTACH;FMTTYPE=image/jpeg:https://comicquest.org/wp-content/uploads/2023/03/imgE1.jpg
END:VEVENT
BEGIN:VEVENT
DTSTART;VALUE=DATE:20281025
DTEND;VALUE=DATE:20281026
DTSTAMP:20260424T073916
CREATED:20250807T232151Z
LAST-MODIFIED:20250807T232151Z
UID:10002501-1856044800-1856131199@comicquest.org
SUMMARY:New Comics
DESCRIPTION:New DC comics arrive each Tuesday. \nAll other comics (Including Marvel) arrive Wednesday. \n  \nList of new comics arrived and expected are located here: \nhttps://comicquest.org/category/comic-releases/ \nhttps://comicquest.org/category/comic-releases/
URL:https://comicquest.org/event/new-comics-150/2028-10-25/
LOCATION:Comic Quest\, 23811 Bridger #111 CA 92630\, Lake Forest\, CA\, 92630\, United States
CATEGORIES:New Comics
ATTACH;FMTTYPE=image/jpeg:https://comicquest.org/wp-content/uploads/2023/03/imgE1.jpg
END:VEVENT
BEGIN:VEVENT
DTSTART;VALUE=DATE:20281101
DTEND;VALUE=DATE:20281102
DTSTAMP:20260424T073916
CREATED:20250807T232151Z
LAST-MODIFIED:20250807T232151Z
UID:10002502-1856649600-1856735999@comicquest.org
SUMMARY:New Comics
DESCRIPTION:New DC comics arrive each Tuesday. \nAll other comics (Including Marvel) arrive Wednesday. \n  \nList of new comics arrived and expected are located here: \nhttps://comicquest.org/category/comic-releases/ \nhttps://comicquest.org/category/comic-releases/
URL:https://comicquest.org/event/new-comics-150/2028-11-01/
LOCATION:Comic Quest\, 23811 Bridger #111 CA 92630\, Lake Forest\, CA\, 92630\, United States
CATEGORIES:New Comics
ATTACH;FMTTYPE=image/jpeg:https://comicquest.org/wp-content/uploads/2023/03/imgE1.jpg
END:VEVENT
BEGIN:VEVENT
DTSTART;VALUE=DATE:20281108
DTEND;VALUE=DATE:20281109
DTSTAMP:20260424T073916
CREATED:20250807T232151Z
LAST-MODIFIED:20250807T232151Z
UID:10002503-1857254400-1857340799@comicquest.org
SUMMARY:New Comics
DESCRIPTION:New DC comics arrive each Tuesday. \nAll other comics (Including Marvel) arrive Wednesday. \n  \nList of new comics arrived and expected are located here: \nhttps://comicquest.org/category/comic-releases/ \nhttps://comicquest.org/category/comic-releases/
URL:https://comicquest.org/event/new-comics-150/2028-11-08/
LOCATION:Comic Quest\, 23811 Bridger #111 CA 92630\, Lake Forest\, CA\, 92630\, United States
CATEGORIES:New Comics
ATTACH;FMTTYPE=image/jpeg:https://comicquest.org/wp-content/uploads/2023/03/imgE1.jpg
END:VEVENT
BEGIN:VEVENT
DTSTART;VALUE=DATE:20281115
DTEND;VALUE=DATE:20281116
DTSTAMP:20260424T073916
CREATED:20250807T232151Z
LAST-MODIFIED:20250807T232151Z
UID:10002504-1857859200-1857945599@comicquest.org
SUMMARY:New Comics
DESCRIPTION:New DC comics arrive each Tuesday. \nAll other comics (Including Marvel) arrive Wednesday. \n  \nList of new comics arrived and expected are located here: \nhttps://comicquest.org/category/comic-releases/ \nhttps://comicquest.org/category/comic-releases/
URL:https://comicquest.org/event/new-comics-150/2028-11-15/
LOCATION:Comic Quest\, 23811 Bridger #111 CA 92630\, Lake Forest\, CA\, 92630\, United States
CATEGORIES:New Comics
ATTACH;FMTTYPE=image/jpeg:https://comicquest.org/wp-content/uploads/2023/03/imgE1.jpg
END:VEVENT
BEGIN:VEVENT
DTSTART;VALUE=DATE:20281122
DTEND;VALUE=DATE:20281123
DTSTAMP:20260424T073916
CREATED:20250807T232151Z
LAST-MODIFIED:20250807T232151Z
UID:10002505-1858464000-1858550399@comicquest.org
SUMMARY:New Comics
DESCRIPTION:New DC comics arrive each Tuesday. \nAll other comics (Including Marvel) arrive Wednesday. \n  \nList of new comics arrived and expected are located here: \nhttps://comicquest.org/category/comic-releases/ \nhttps://comicquest.org/category/comic-releases/
URL:https://comicquest.org/event/new-comics-150/2028-11-22/
LOCATION:Comic Quest\, 23811 Bridger #111 CA 92630\, Lake Forest\, CA\, 92630\, United States
CATEGORIES:New Comics
ATTACH;FMTTYPE=image/jpeg:https://comicquest.org/wp-content/uploads/2023/03/imgE1.jpg
END:VEVENT
BEGIN:VEVENT
DTSTART;VALUE=DATE:20281129
DTEND;VALUE=DATE:20281130
DTSTAMP:20260424T073916
CREATED:20250807T232151Z
LAST-MODIFIED:20250807T232151Z
UID:10002506-1859068800-1859155199@comicquest.org
SUMMARY:New Comics
DESCRIPTION:New DC comics arrive each Tuesday. \nAll other comics (Including Marvel) arrive Wednesday. \n  \nList of new comics arrived and expected are located here: \nhttps://comicquest.org/category/comic-releases/ \nhttps://comicquest.org/category/comic-releases/
URL:https://comicquest.org/event/new-comics-150/2028-11-29/
LOCATION:Comic Quest\, 23811 Bridger #111 CA 92630\, Lake Forest\, CA\, 92630\, United States
CATEGORIES:New Comics
ATTACH;FMTTYPE=image/jpeg:https://comicquest.org/wp-content/uploads/2023/03/imgE1.jpg
END:VEVENT
BEGIN:VEVENT
DTSTART;VALUE=DATE:20281206
DTEND;VALUE=DATE:20281207
DTSTAMP:20260424T073916
CREATED:20250807T232151Z
LAST-MODIFIED:20250807T232151Z
UID:10002507-1859673600-1859759999@comicquest.org
SUMMARY:New Comics
DESCRIPTION:New DC comics arrive each Tuesday. \nAll other comics (Including Marvel) arrive Wednesday. \n  \nList of new comics arrived and expected are located here: \nhttps://comicquest.org/category/comic-releases/ \nhttps://comicquest.org/category/comic-releases/
URL:https://comicquest.org/event/new-comics-150/2028-12-06/
LOCATION:Comic Quest\, 23811 Bridger #111 CA 92630\, Lake Forest\, CA\, 92630\, United States
CATEGORIES:New Comics
ATTACH;FMTTYPE=image/jpeg:https://comicquest.org/wp-content/uploads/2023/03/imgE1.jpg
END:VEVENT
BEGIN:VEVENT
DTSTART;VALUE=DATE:20281213
DTEND;VALUE=DATE:20281214
DTSTAMP:20260424T073916
CREATED:20250807T232151Z
LAST-MODIFIED:20250807T232151Z
UID:10002508-1860278400-1860364799@comicquest.org
SUMMARY:New Comics
DESCRIPTION:New DC comics arrive each Tuesday. \nAll other comics (Including Marvel) arrive Wednesday. \n  \nList of new comics arrived and expected are located here: \nhttps://comicquest.org/category/comic-releases/ \nhttps://comicquest.org/category/comic-releases/
URL:https://comicquest.org/event/new-comics-150/2028-12-13/
LOCATION:Comic Quest\, 23811 Bridger #111 CA 92630\, Lake Forest\, CA\, 92630\, United States
CATEGORIES:New Comics
ATTACH;FMTTYPE=image/jpeg:https://comicquest.org/wp-content/uploads/2023/03/imgE1.jpg
END:VEVENT
END:VCALENDAR