BEGIN:VCALENDAR
VERSION:2.0
PRODID:-//Comic Quest - ECPv6.15.20//NONSGML v1.0//EN
CALSCALE:GREGORIAN
METHOD:PUBLISH
X-ORIGINAL-URL:https://comicquest.org
X-WR-CALDESC:Events for Comic Quest
REFRESH-INTERVAL;VALUE=DURATION:PT1H
X-Robots-Tag:noindex
X-PUBLISHED-TTL:PT1H
BEGIN:VTIMEZONE
TZID:Asia/Shanghai
BEGIN:STANDARD
TZOFFSETFROM:+0800
TZOFFSETTO:+0800
TZNAME:CST
DTSTART:20290101T000000
END:STANDARD
END:VTIMEZONE
BEGIN:VEVENT
DTSTART;VALUE=DATE:20300508
DTEND;VALUE=DATE:20300509
DTSTAMP:20260425T071548
CREATED:20250807T232151Z
LAST-MODIFIED:20250807T232151Z
UID:10002581-1904428800-1904515199@comicquest.org
SUMMARY:New Comics
DESCRIPTION:New DC comics arrive each Tuesday. \nAll other comics (Including Marvel) arrive Wednesday. \n  \nList of new comics arrived and expected are located here: \nhttps://comicquest.org/category/comic-releases/ \nhttps://comicquest.org/category/comic-releases/
URL:https://comicquest.org/event/new-comics-150/2030-05-08/
LOCATION:Comic Quest\, 23811 Bridger #111 CA 92630\, Lake Forest\, CA\, 92630\, United States
CATEGORIES:New Comics
ATTACH;FMTTYPE=image/jpeg:https://comicquest.org/wp-content/uploads/2023/03/imgE1.jpg
END:VEVENT
BEGIN:VEVENT
DTSTART;VALUE=DATE:20300515
DTEND;VALUE=DATE:20300516
DTSTAMP:20260425T071548
CREATED:20250807T232151Z
LAST-MODIFIED:20250807T232151Z
UID:10002582-1905033600-1905119999@comicquest.org
SUMMARY:New Comics
DESCRIPTION:New DC comics arrive each Tuesday. \nAll other comics (Including Marvel) arrive Wednesday. \n  \nList of new comics arrived and expected are located here: \nhttps://comicquest.org/category/comic-releases/ \nhttps://comicquest.org/category/comic-releases/
URL:https://comicquest.org/event/new-comics-150/2030-05-15/
LOCATION:Comic Quest\, 23811 Bridger #111 CA 92630\, Lake Forest\, CA\, 92630\, United States
CATEGORIES:New Comics
ATTACH;FMTTYPE=image/jpeg:https://comicquest.org/wp-content/uploads/2023/03/imgE1.jpg
END:VEVENT
BEGIN:VEVENT
DTSTART;VALUE=DATE:20300522
DTEND;VALUE=DATE:20300523
DTSTAMP:20260425T071548
CREATED:20250807T232151Z
LAST-MODIFIED:20250807T232151Z
UID:10002583-1905638400-1905724799@comicquest.org
SUMMARY:New Comics
DESCRIPTION:New DC comics arrive each Tuesday. \nAll other comics (Including Marvel) arrive Wednesday. \n  \nList of new comics arrived and expected are located here: \nhttps://comicquest.org/category/comic-releases/ \nhttps://comicquest.org/category/comic-releases/
URL:https://comicquest.org/event/new-comics-150/2030-05-22/
LOCATION:Comic Quest\, 23811 Bridger #111 CA 92630\, Lake Forest\, CA\, 92630\, United States
CATEGORIES:New Comics
ATTACH;FMTTYPE=image/jpeg:https://comicquest.org/wp-content/uploads/2023/03/imgE1.jpg
END:VEVENT
BEGIN:VEVENT
DTSTART;VALUE=DATE:20300529
DTEND;VALUE=DATE:20300530
DTSTAMP:20260425T071548
CREATED:20250807T232151Z
LAST-MODIFIED:20250807T232151Z
UID:10002584-1906243200-1906329599@comicquest.org
SUMMARY:New Comics
DESCRIPTION:New DC comics arrive each Tuesday. \nAll other comics (Including Marvel) arrive Wednesday. \n  \nList of new comics arrived and expected are located here: \nhttps://comicquest.org/category/comic-releases/ \nhttps://comicquest.org/category/comic-releases/
URL:https://comicquest.org/event/new-comics-150/2030-05-29/
LOCATION:Comic Quest\, 23811 Bridger #111 CA 92630\, Lake Forest\, CA\, 92630\, United States
CATEGORIES:New Comics
ATTACH;FMTTYPE=image/jpeg:https://comicquest.org/wp-content/uploads/2023/03/imgE1.jpg
END:VEVENT
BEGIN:VEVENT
DTSTART;VALUE=DATE:20300605
DTEND;VALUE=DATE:20300606
DTSTAMP:20260425T071548
CREATED:20250807T232151Z
LAST-MODIFIED:20250807T232151Z
UID:10002585-1906848000-1906934399@comicquest.org
SUMMARY:New Comics
DESCRIPTION:New DC comics arrive each Tuesday. \nAll other comics (Including Marvel) arrive Wednesday. \n  \nList of new comics arrived and expected are located here: \nhttps://comicquest.org/category/comic-releases/ \nhttps://comicquest.org/category/comic-releases/
URL:https://comicquest.org/event/new-comics-150/2030-06-05/
LOCATION:Comic Quest\, 23811 Bridger #111 CA 92630\, Lake Forest\, CA\, 92630\, United States
CATEGORIES:New Comics
ATTACH;FMTTYPE=image/jpeg:https://comicquest.org/wp-content/uploads/2023/03/imgE1.jpg
END:VEVENT
BEGIN:VEVENT
DTSTART;VALUE=DATE:20300612
DTEND;VALUE=DATE:20300613
DTSTAMP:20260425T071548
CREATED:20250807T232151Z
LAST-MODIFIED:20250807T232151Z
UID:10002586-1907452800-1907539199@comicquest.org
SUMMARY:New Comics
DESCRIPTION:New DC comics arrive each Tuesday. \nAll other comics (Including Marvel) arrive Wednesday. \n  \nList of new comics arrived and expected are located here: \nhttps://comicquest.org/category/comic-releases/ \nhttps://comicquest.org/category/comic-releases/
URL:https://comicquest.org/event/new-comics-150/2030-06-12/
LOCATION:Comic Quest\, 23811 Bridger #111 CA 92630\, Lake Forest\, CA\, 92630\, United States
CATEGORIES:New Comics
ATTACH;FMTTYPE=image/jpeg:https://comicquest.org/wp-content/uploads/2023/03/imgE1.jpg
END:VEVENT
BEGIN:VEVENT
DTSTART;VALUE=DATE:20300619
DTEND;VALUE=DATE:20300620
DTSTAMP:20260425T071548
CREATED:20250807T232151Z
LAST-MODIFIED:20250807T232151Z
UID:10002587-1908057600-1908143999@comicquest.org
SUMMARY:New Comics
DESCRIPTION:New DC comics arrive each Tuesday. \nAll other comics (Including Marvel) arrive Wednesday. \n  \nList of new comics arrived and expected are located here: \nhttps://comicquest.org/category/comic-releases/ \nhttps://comicquest.org/category/comic-releases/
URL:https://comicquest.org/event/new-comics-150/2030-06-19/
LOCATION:Comic Quest\, 23811 Bridger #111 CA 92630\, Lake Forest\, CA\, 92630\, United States
CATEGORIES:New Comics
ATTACH;FMTTYPE=image/jpeg:https://comicquest.org/wp-content/uploads/2023/03/imgE1.jpg
END:VEVENT
BEGIN:VEVENT
DTSTART;VALUE=DATE:20300626
DTEND;VALUE=DATE:20300627
DTSTAMP:20260425T071548
CREATED:20250807T232151Z
LAST-MODIFIED:20250807T232151Z
UID:10002588-1908662400-1908748799@comicquest.org
SUMMARY:New Comics
DESCRIPTION:New DC comics arrive each Tuesday. \nAll other comics (Including Marvel) arrive Wednesday. \n  \nList of new comics arrived and expected are located here: \nhttps://comicquest.org/category/comic-releases/ \nhttps://comicquest.org/category/comic-releases/
URL:https://comicquest.org/event/new-comics-150/2030-06-26/
LOCATION:Comic Quest\, 23811 Bridger #111 CA 92630\, Lake Forest\, CA\, 92630\, United States
CATEGORIES:New Comics
ATTACH;FMTTYPE=image/jpeg:https://comicquest.org/wp-content/uploads/2023/03/imgE1.jpg
END:VEVENT
BEGIN:VEVENT
DTSTART;VALUE=DATE:20300703
DTEND;VALUE=DATE:20300704
DTSTAMP:20260425T071548
CREATED:20250807T232151Z
LAST-MODIFIED:20250807T232151Z
UID:10002589-1909267200-1909353599@comicquest.org
SUMMARY:New Comics
DESCRIPTION:New DC comics arrive each Tuesday. \nAll other comics (Including Marvel) arrive Wednesday. \n  \nList of new comics arrived and expected are located here: \nhttps://comicquest.org/category/comic-releases/ \nhttps://comicquest.org/category/comic-releases/
URL:https://comicquest.org/event/new-comics-150/2030-07-03/
LOCATION:Comic Quest\, 23811 Bridger #111 CA 92630\, Lake Forest\, CA\, 92630\, United States
CATEGORIES:New Comics
ATTACH;FMTTYPE=image/jpeg:https://comicquest.org/wp-content/uploads/2023/03/imgE1.jpg
END:VEVENT
BEGIN:VEVENT
DTSTART;VALUE=DATE:20300710
DTEND;VALUE=DATE:20300711
DTSTAMP:20260425T071548
CREATED:20250807T232151Z
LAST-MODIFIED:20250807T232151Z
UID:10002590-1909872000-1909958399@comicquest.org
SUMMARY:New Comics
DESCRIPTION:New DC comics arrive each Tuesday. \nAll other comics (Including Marvel) arrive Wednesday. \n  \nList of new comics arrived and expected are located here: \nhttps://comicquest.org/category/comic-releases/ \nhttps://comicquest.org/category/comic-releases/
URL:https://comicquest.org/event/new-comics-150/2030-07-10/
LOCATION:Comic Quest\, 23811 Bridger #111 CA 92630\, Lake Forest\, CA\, 92630\, United States
CATEGORIES:New Comics
ATTACH;FMTTYPE=image/jpeg:https://comicquest.org/wp-content/uploads/2023/03/imgE1.jpg
END:VEVENT
BEGIN:VEVENT
DTSTART;VALUE=DATE:20300717
DTEND;VALUE=DATE:20300718
DTSTAMP:20260425T071548
CREATED:20250807T232151Z
LAST-MODIFIED:20250807T232151Z
UID:10002591-1910476800-1910563199@comicquest.org
SUMMARY:New Comics
DESCRIPTION:New DC comics arrive each Tuesday. \nAll other comics (Including Marvel) arrive Wednesday. \n  \nList of new comics arrived and expected are located here: \nhttps://comicquest.org/category/comic-releases/ \nhttps://comicquest.org/category/comic-releases/
URL:https://comicquest.org/event/new-comics-150/2030-07-17/
LOCATION:Comic Quest\, 23811 Bridger #111 CA 92630\, Lake Forest\, CA\, 92630\, United States
CATEGORIES:New Comics
ATTACH;FMTTYPE=image/jpeg:https://comicquest.org/wp-content/uploads/2023/03/imgE1.jpg
END:VEVENT
BEGIN:VEVENT
DTSTART;VALUE=DATE:20300724
DTEND;VALUE=DATE:20300725
DTSTAMP:20260425T071548
CREATED:20250807T232151Z
LAST-MODIFIED:20250807T232151Z
UID:10002592-1911081600-1911167999@comicquest.org
SUMMARY:New Comics
DESCRIPTION:New DC comics arrive each Tuesday. \nAll other comics (Including Marvel) arrive Wednesday. \n  \nList of new comics arrived and expected are located here: \nhttps://comicquest.org/category/comic-releases/ \nhttps://comicquest.org/category/comic-releases/
URL:https://comicquest.org/event/new-comics-150/2030-07-24/
LOCATION:Comic Quest\, 23811 Bridger #111 CA 92630\, Lake Forest\, CA\, 92630\, United States
CATEGORIES:New Comics
ATTACH;FMTTYPE=image/jpeg:https://comicquest.org/wp-content/uploads/2023/03/imgE1.jpg
END:VEVENT
BEGIN:VEVENT
DTSTART;VALUE=DATE:20300731
DTEND;VALUE=DATE:20300801
DTSTAMP:20260425T071548
CREATED:20250807T232151Z
LAST-MODIFIED:20250807T232151Z
UID:10002593-1911686400-1911772799@comicquest.org
SUMMARY:New Comics
DESCRIPTION:New DC comics arrive each Tuesday. \nAll other comics (Including Marvel) arrive Wednesday. \n  \nList of new comics arrived and expected are located here: \nhttps://comicquest.org/category/comic-releases/ \nhttps://comicquest.org/category/comic-releases/
URL:https://comicquest.org/event/new-comics-150/2030-07-31/
LOCATION:Comic Quest\, 23811 Bridger #111 CA 92630\, Lake Forest\, CA\, 92630\, United States
CATEGORIES:New Comics
ATTACH;FMTTYPE=image/jpeg:https://comicquest.org/wp-content/uploads/2023/03/imgE1.jpg
END:VEVENT
BEGIN:VEVENT
DTSTART;VALUE=DATE:20300807
DTEND;VALUE=DATE:20300808
DTSTAMP:20260425T071548
CREATED:20250807T232151Z
LAST-MODIFIED:20250807T232151Z
UID:10002594-1912291200-1912377599@comicquest.org
SUMMARY:New Comics
DESCRIPTION:New DC comics arrive each Tuesday. \nAll other comics (Including Marvel) arrive Wednesday. \n  \nList of new comics arrived and expected are located here: \nhttps://comicquest.org/category/comic-releases/ \nhttps://comicquest.org/category/comic-releases/
URL:https://comicquest.org/event/new-comics-150/2030-08-07/
LOCATION:Comic Quest\, 23811 Bridger #111 CA 92630\, Lake Forest\, CA\, 92630\, United States
CATEGORIES:New Comics
ATTACH;FMTTYPE=image/jpeg:https://comicquest.org/wp-content/uploads/2023/03/imgE1.jpg
END:VEVENT
END:VCALENDAR