BEGIN:VCALENDAR
VERSION:2.0
PRODID:-//Comic Quest - ECPv6.15.20//NONSGML v1.0//EN
CALSCALE:GREGORIAN
METHOD:PUBLISH
X-ORIGINAL-URL:https://comicquest.org
X-WR-CALDESC:Events for Comic Quest
REFRESH-INTERVAL;VALUE=DURATION:PT1H
X-Robots-Tag:noindex
X-PUBLISHED-TTL:PT1H
BEGIN:VTIMEZONE
TZID:Asia/Shanghai
BEGIN:STANDARD
TZOFFSETFROM:+0800
TZOFFSETTO:+0800
TZNAME:CST
DTSTART:20230101T000000
END:STANDARD
END:VTIMEZONE
BEGIN:VEVENT
DTSTART;VALUE=DATE:20240918
DTEND;VALUE=DATE:20240919
DTSTAMP:20260423T220504
CREATED:20240113T005339Z
LAST-MODIFIED:20240113T005339Z
UID:10000660-1726617600-1726703999@comicquest.org
SUMMARY:New Comics
DESCRIPTION:New DC comics arrive each Tuesday. \nAll other comics (Including Marvel) arrive Wednesday. \n  \nList of new comics arrived and expected are located here: \nhttps://comicquest.org/category/comic-releases/ \nhttps://comicquest.org/category/comic-releases/
URL:https://comicquest.org/event/new-comics-82/
LOCATION:Comic Quest\, 23811 Bridger #111 CA 92630\, Lake Forest\, CA\, 92630\, United States
CATEGORIES:New Comics
ATTACH;FMTTYPE=image/jpeg:https://comicquest.org/wp-content/uploads/2023/03/imgE1.jpg
END:VEVENT
BEGIN:VEVENT
DTSTART;VALUE=DATE:20240911
DTEND;VALUE=DATE:20240912
DTSTAMP:20260423T220504
CREATED:20240113T005312Z
LAST-MODIFIED:20240113T005312Z
UID:10000659-1726012800-1726099199@comicquest.org
SUMMARY:New Comics
DESCRIPTION:New DC comics arrive each Tuesday. \nAll other comics (Including Marvel) arrive Wednesday. \n  \nList of new comics arrived and expected are located here: \nhttps://comicquest.org/category/comic-releases/ \nhttps://comicquest.org/category/comic-releases/
URL:https://comicquest.org/event/new-comics-81/
LOCATION:Comic Quest\, 23811 Bridger #111 CA 92630\, Lake Forest\, CA\, 92630\, United States
CATEGORIES:New Comics
ATTACH;FMTTYPE=image/jpeg:https://comicquest.org/wp-content/uploads/2023/03/imgE1.jpg
END:VEVENT
BEGIN:VEVENT
DTSTART;VALUE=DATE:20240904
DTEND;VALUE=DATE:20240905
DTSTAMP:20260423T220504
CREATED:20240113T005248Z
LAST-MODIFIED:20240113T005248Z
UID:10000658-1725408000-1725494399@comicquest.org
SUMMARY:New Comics
DESCRIPTION:New DC comics arrive each Tuesday. \nAll other comics (Including Marvel) arrive Wednesday. \n  \nList of new comics arrived and expected are located here: \nhttps://comicquest.org/category/comic-releases/ \nhttps://comicquest.org/category/comic-releases/
URL:https://comicquest.org/event/new-comics-80/
LOCATION:Comic Quest\, 23811 Bridger #111 CA 92630\, Lake Forest\, CA\, 92630\, United States
CATEGORIES:New Comics
ATTACH;FMTTYPE=image/jpeg:https://comicquest.org/wp-content/uploads/2023/03/imgE1.jpg
END:VEVENT
BEGIN:VEVENT
DTSTART;VALUE=DATE:20240828
DTEND;VALUE=DATE:20240829
DTSTAMP:20260423T220504
CREATED:20231022T200850Z
LAST-MODIFIED:20231022T200850Z
UID:10000604-1724803200-1724889599@comicquest.org
SUMMARY:New Comics
DESCRIPTION:New DC comics arrive each Tuesday. \nAll other comics (Including Marvel) arrive Wednesday. \n  \nList of new comics arrived and expected are located here: \nhttps://comicquest.org/category/comic-releases/ \nhttps://comicquest.org/category/comic-releases/
URL:https://comicquest.org/event/new-comics-79/
LOCATION:Comic Quest\, 23811 Bridger #111 CA 92630\, Lake Forest\, CA\, 92630\, United States
CATEGORIES:New Comics
ATTACH;FMTTYPE=image/jpeg:https://comicquest.org/wp-content/uploads/2023/03/imgE1.jpg
END:VEVENT
BEGIN:VEVENT
DTSTART;VALUE=DATE:20240821
DTEND;VALUE=DATE:20240822
DTSTAMP:20260423T220504
CREATED:20231022T200829Z
LAST-MODIFIED:20231022T200829Z
UID:10000603-1724198400-1724284799@comicquest.org
SUMMARY:New Comics
DESCRIPTION:New DC comics arrive each Tuesday. \nAll other comics (Including Marvel) arrive Wednesday. \n  \nList of new comics arrived and expected are located here: \nhttps://comicquest.org/category/comic-releases/ \nhttps://comicquest.org/category/comic-releases/
URL:https://comicquest.org/event/new-comics-78/
LOCATION:Comic Quest\, 23811 Bridger #111 CA 92630\, Lake Forest\, CA\, 92630\, United States
CATEGORIES:New Comics
ATTACH;FMTTYPE=image/jpeg:https://comicquest.org/wp-content/uploads/2023/03/imgE1.jpg
END:VEVENT
BEGIN:VEVENT
DTSTART;VALUE=DATE:20240814
DTEND;VALUE=DATE:20240815
DTSTAMP:20260423T220504
CREATED:20231022T200800Z
LAST-MODIFIED:20231022T200800Z
UID:10000602-1723593600-1723679999@comicquest.org
SUMMARY:New Comics
DESCRIPTION:New DC comics arrive each Tuesday. \nAll other comics (Including Marvel) arrive Wednesday. \n  \nList of new comics arrived and expected are located here: \nhttps://comicquest.org/category/comic-releases/ \nhttps://comicquest.org/category/comic-releases/
URL:https://comicquest.org/event/new-comics-77/
LOCATION:Comic Quest\, 23811 Bridger #111 CA 92630\, Lake Forest\, CA\, 92630\, United States
CATEGORIES:New Comics
ATTACH;FMTTYPE=image/jpeg:https://comicquest.org/wp-content/uploads/2023/03/imgE1.jpg
END:VEVENT
BEGIN:VEVENT
DTSTART;VALUE=DATE:20240807
DTEND;VALUE=DATE:20240808
DTSTAMP:20260423T220504
CREATED:20231022T200736Z
LAST-MODIFIED:20231022T200736Z
UID:10000601-1722988800-1723075199@comicquest.org
SUMMARY:New Comics
DESCRIPTION:New DC comics arrive each Tuesday. \nAll other comics (Including Marvel) arrive Wednesday. \n  \nList of new comics arrived and expected are located here: \nhttps://comicquest.org/category/comic-releases/ \nhttps://comicquest.org/category/comic-releases/
URL:https://comicquest.org/event/new-comics-76/
LOCATION:Comic Quest\, 23811 Bridger #111 CA 92630\, Lake Forest\, CA\, 92630\, United States
CATEGORIES:New Comics
ATTACH;FMTTYPE=image/jpeg:https://comicquest.org/wp-content/uploads/2023/03/imgE1.jpg
END:VEVENT
BEGIN:VEVENT
DTSTART;VALUE=DATE:20240731
DTEND;VALUE=DATE:20240801
DTSTAMP:20260423T220504
CREATED:20231022T174649Z
LAST-MODIFIED:20231022T174649Z
UID:10000577-1722384000-1722470399@comicquest.org
SUMMARY:New Comics
DESCRIPTION:New DC comics arrive each Tuesday. \nAll other comics (Including Marvel) arrive Wednesday. \n  \nList of new comics arrived and expected are located here: \nhttps://comicquest.org/category/comic-releases/ \nhttps://comicquest.org/category/comic-releases/
URL:https://comicquest.org/event/new-comics-75/
LOCATION:Comic Quest\, 23811 Bridger #111 CA 92630\, Lake Forest\, CA\, 92630\, United States
CATEGORIES:New Comics
ATTACH;FMTTYPE=image/jpeg:https://comicquest.org/wp-content/uploads/2023/03/imgE1.jpg
END:VEVENT
BEGIN:VEVENT
DTSTART;VALUE=DATE:20240724
DTEND;VALUE=DATE:20240725
DTSTAMP:20260423T220504
CREATED:20231022T174630Z
LAST-MODIFIED:20231022T174630Z
UID:10000576-1721779200-1721865599@comicquest.org
SUMMARY:New Comics
DESCRIPTION:New DC comics arrive each Tuesday. \nAll other comics (Including Marvel) arrive Wednesday. \n  \nList of new comics arrived and expected are located here: \nhttps://comicquest.org/category/comic-releases/ \nhttps://comicquest.org/category/comic-releases/
URL:https://comicquest.org/event/new-comics-74/
LOCATION:Comic Quest\, 23811 Bridger #111 CA 92630\, Lake Forest\, CA\, 92630\, United States
CATEGORIES:New Comics
ATTACH;FMTTYPE=image/jpeg:https://comicquest.org/wp-content/uploads/2023/03/imgE1.jpg
END:VEVENT
BEGIN:VEVENT
DTSTART;VALUE=DATE:20240717
DTEND;VALUE=DATE:20240718
DTSTAMP:20260423T220504
CREATED:20231022T174611Z
LAST-MODIFIED:20231022T174611Z
UID:10000575-1721174400-1721260799@comicquest.org
SUMMARY:New Comics
DESCRIPTION:New DC comics arrive each Tuesday. \nAll other comics (Including Marvel) arrive Wednesday. \n  \nList of new comics arrived and expected are located here: \nhttps://comicquest.org/category/comic-releases/ \nhttps://comicquest.org/category/comic-releases/
URL:https://comicquest.org/event/new-comics-73/
LOCATION:Comic Quest\, 23811 Bridger #111 CA 92630\, Lake Forest\, CA\, 92630\, United States
CATEGORIES:New Comics
ATTACH;FMTTYPE=image/jpeg:https://comicquest.org/wp-content/uploads/2023/03/imgE1.jpg
END:VEVENT
BEGIN:VEVENT
DTSTART;VALUE=DATE:20240710
DTEND;VALUE=DATE:20240711
DTSTAMP:20260423T220504
CREATED:20231022T174552Z
LAST-MODIFIED:20231022T174552Z
UID:10000574-1720569600-1720655999@comicquest.org
SUMMARY:New Comics
DESCRIPTION:New DC comics arrive each Tuesday. \nAll other comics (Including Marvel) arrive Wednesday. \n  \nList of new comics arrived and expected are located here: \nhttps://comicquest.org/category/comic-releases/ \nhttps://comicquest.org/category/comic-releases/
URL:https://comicquest.org/event/new-comics-72/
LOCATION:Comic Quest\, 23811 Bridger #111 CA 92630\, Lake Forest\, CA\, 92630\, United States
CATEGORIES:New Comics
ATTACH;FMTTYPE=image/jpeg:https://comicquest.org/wp-content/uploads/2023/03/imgE1.jpg
END:VEVENT
BEGIN:VEVENT
DTSTART;VALUE=DATE:20240703
DTEND;VALUE=DATE:20240704
DTSTAMP:20260423T220504
CREATED:20231022T174523Z
LAST-MODIFIED:20231022T174523Z
UID:10000573-1719964800-1720051199@comicquest.org
SUMMARY:New Comics
DESCRIPTION:New DC comics arrive each Tuesday. \nAll other comics (Including Marvel) arrive Wednesday. \n  \nList of new comics arrived and expected are located here: \nhttps://comicquest.org/category/comic-releases/ \nhttps://comicquest.org/category/comic-releases/
URL:https://comicquest.org/event/new-comics-71/
LOCATION:Comic Quest\, 23811 Bridger #111 CA 92630\, Lake Forest\, CA\, 92630\, United States
CATEGORIES:New Comics
ATTACH;FMTTYPE=image/jpeg:https://comicquest.org/wp-content/uploads/2023/03/imgE1.jpg
END:VEVENT
BEGIN:VEVENT
DTSTART;VALUE=DATE:20240626
DTEND;VALUE=DATE:20240627
DTSTAMP:20260423T220504
CREATED:20231018T005006Z
LAST-MODIFIED:20231018T005006Z
UID:10000545-1719360000-1719446399@comicquest.org
SUMMARY:New Comics
DESCRIPTION:New DC comics arrive each Tuesday. \nAll other comics (Including Marvel) arrive Wednesday. \n  \nList of new comics arrived and expected are located here: \nhttps://comicquest.org/category/comic-releases/ \nhttps://comicquest.org/category/comic-releases/
URL:https://comicquest.org/event/new-comics-70/
LOCATION:Comic Quest\, 23811 Bridger #111 CA 92630\, Lake Forest\, CA\, 92630\, United States
CATEGORIES:New Comics
ATTACH;FMTTYPE=image/jpeg:https://comicquest.org/wp-content/uploads/2023/03/imgE1.jpg
END:VEVENT
BEGIN:VEVENT
DTSTART;VALUE=DATE:20240625
DTEND;VALUE=DATE:20240626
DTSTAMP:20260423T220504
CREATED:20231018T004815Z
LAST-MODIFIED:20231018T004815Z
UID:10000541-1719273600-1719359999@comicquest.org
SUMMARY:New DC Comics
DESCRIPTION:New DC comics arrive each Tuesday. \nAll other comics (Including Marvel) arrive Wednesday. \n  \nList of new comics arrived and expected are located here: \nhttps://comicquest.org/category/comic-releases/ \n 
URL:https://comicquest.org/event/new-dc-comics-62/
LOCATION:Comic Quest\, 23811 Bridger #111 CA 92630\, Lake Forest\, CA\, 92630\, United States
CATEGORIES:New Comics
ATTACH;FMTTYPE=image/jpeg:https://comicquest.org/wp-content/uploads/2023/03/DC_Comics.jpg
END:VEVENT
BEGIN:VEVENT
DTSTART;VALUE=DATE:20240619
DTEND;VALUE=DATE:20240620
DTSTAMP:20260423T220504
CREATED:20231018T004944Z
LAST-MODIFIED:20231018T004944Z
UID:10000544-1718755200-1718841599@comicquest.org
SUMMARY:New Comics
DESCRIPTION:New DC comics arrive each Tuesday. \nAll other comics (Including Marvel) arrive Wednesday. \n  \nList of new comics arrived and expected are located here: \nhttps://comicquest.org/category/comic-releases/ \nhttps://comicquest.org/category/comic-releases/
URL:https://comicquest.org/event/new-comics-69/
LOCATION:Comic Quest\, 23811 Bridger #111 CA 92630\, Lake Forest\, CA\, 92630\, United States
CATEGORIES:New Comics
ATTACH;FMTTYPE=image/jpeg:https://comicquest.org/wp-content/uploads/2023/03/imgE1.jpg
END:VEVENT
BEGIN:VEVENT
DTSTART;VALUE=DATE:20240618
DTEND;VALUE=DATE:20240619
DTSTAMP:20260423T220504
CREATED:20231018T004748Z
LAST-MODIFIED:20231018T004748Z
UID:10000540-1718668800-1718755199@comicquest.org
SUMMARY:New DC Comics
DESCRIPTION:New DC comics arrive each Tuesday. \nAll other comics (Including Marvel) arrive Wednesday. \n  \nList of new comics arrived and expected are located here: \nhttps://comicquest.org/category/comic-releases/ \n 
URL:https://comicquest.org/event/new-dc-comics-61/
LOCATION:Comic Quest\, 23811 Bridger #111 CA 92630\, Lake Forest\, CA\, 92630\, United States
CATEGORIES:New Comics
ATTACH;FMTTYPE=image/jpeg:https://comicquest.org/wp-content/uploads/2023/03/DC_Comics.jpg
END:VEVENT
BEGIN:VEVENT
DTSTART;VALUE=DATE:20240612
DTEND;VALUE=DATE:20240613
DTSTAMP:20260423T220504
CREATED:20231018T004919Z
LAST-MODIFIED:20231018T004919Z
UID:10000543-1718150400-1718236799@comicquest.org
SUMMARY:New Comics
DESCRIPTION:New DC comics arrive each Tuesday. \nAll other comics (Including Marvel) arrive Wednesday. \n  \nList of new comics arrived and expected are located here: \nhttps://comicquest.org/category/comic-releases/ \nhttps://comicquest.org/category/comic-releases/
URL:https://comicquest.org/event/new-comics-68/
LOCATION:Comic Quest\, 23811 Bridger #111 CA 92630\, Lake Forest\, CA\, 92630\, United States
CATEGORIES:New Comics
ATTACH;FMTTYPE=image/jpeg:https://comicquest.org/wp-content/uploads/2023/03/imgE1.jpg
END:VEVENT
BEGIN:VEVENT
DTSTART;VALUE=DATE:20240611
DTEND;VALUE=DATE:20240612
DTSTAMP:20260423T220504
CREATED:20231018T004725Z
LAST-MODIFIED:20231018T004725Z
UID:10000539-1718064000-1718150399@comicquest.org
SUMMARY:New DC Comics
DESCRIPTION:New DC comics arrive each Tuesday. \nAll other comics (Including Marvel) arrive Wednesday. \n  \nList of new comics arrived and expected are located here: \nhttps://comicquest.org/category/comic-releases/ \n 
URL:https://comicquest.org/event/new-dc-comics-60/
LOCATION:Comic Quest\, 23811 Bridger #111 CA 92630\, Lake Forest\, CA\, 92630\, United States
CATEGORIES:New Comics
ATTACH;FMTTYPE=image/jpeg:https://comicquest.org/wp-content/uploads/2023/03/DC_Comics.jpg
END:VEVENT
BEGIN:VEVENT
DTSTART;VALUE=DATE:20240605
DTEND;VALUE=DATE:20240606
DTSTAMP:20260423T220504
CREATED:20231018T004856Z
LAST-MODIFIED:20231018T004856Z
UID:10000542-1717545600-1717631999@comicquest.org
SUMMARY:New Comics
DESCRIPTION:New DC comics arrive each Tuesday. \nAll other comics (Including Marvel) arrive Wednesday. \n  \nList of new comics arrived and expected are located here: \nhttps://comicquest.org/category/comic-releases/ \nhttps://comicquest.org/category/comic-releases/
URL:https://comicquest.org/event/new-comics-67/
LOCATION:Comic Quest\, 23811 Bridger #111 CA 92630\, Lake Forest\, CA\, 92630\, United States
CATEGORIES:New Comics
ATTACH;FMTTYPE=image/jpeg:https://comicquest.org/wp-content/uploads/2023/03/imgE1.jpg
END:VEVENT
BEGIN:VEVENT
DTSTART;VALUE=DATE:20240604
DTEND;VALUE=DATE:20240605
DTSTAMP:20260423T220504
CREATED:20231018T004702Z
LAST-MODIFIED:20231018T004702Z
UID:10000538-1717459200-1717545599@comicquest.org
SUMMARY:New DC Comics
DESCRIPTION:New DC comics arrive each Tuesday. \nAll other comics (Including Marvel) arrive Wednesday. \n  \nList of new comics arrived and expected are located here: \nhttps://comicquest.org/category/comic-releases/ \n 
URL:https://comicquest.org/event/new-dc-comics-59/
LOCATION:Comic Quest\, 23811 Bridger #111 CA 92630\, Lake Forest\, CA\, 92630\, United States
CATEGORIES:New Comics
ATTACH;FMTTYPE=image/jpeg:https://comicquest.org/wp-content/uploads/2023/03/DC_Comics.jpg
END:VEVENT
BEGIN:VEVENT
DTSTART;VALUE=DATE:20240529
DTEND;VALUE=DATE:20240530
DTSTAMP:20260423T220504
CREATED:20231001T044423Z
LAST-MODIFIED:20231001T044423Z
UID:10000501-1716940800-1717027199@comicquest.org
SUMMARY:New Comics
DESCRIPTION:New DC comics arrive each Tuesday. \nAll other comics (Including Marvel) arrive Wednesday. \n  \nList of new comics arrived and expected are located here: \nhttps://comicquest.org/category/comic-releases/ \nhttps://comicquest.org/category/comic-releases/
URL:https://comicquest.org/event/new-comics-66/
LOCATION:Comic Quest\, 23811 Bridger #111 CA 92630\, Lake Forest\, CA\, 92630\, United States
CATEGORIES:New Comics
ATTACH;FMTTYPE=image/jpeg:https://comicquest.org/wp-content/uploads/2023/03/imgE1.jpg
END:VEVENT
BEGIN:VEVENT
DTSTART;VALUE=DATE:20240528
DTEND;VALUE=DATE:20240529
DTSTAMP:20260423T220504
CREATED:20231001T044646Z
LAST-MODIFIED:20231001T044646Z
UID:10000505-1716854400-1716940799@comicquest.org
SUMMARY:New DC Comics
DESCRIPTION:New DC comics arrive each Tuesday. \nAll other comics (Including Marvel) arrive Wednesday. \n  \nList of new comics arrived and expected are located here: \nhttps://comicquest.org/category/comic-releases/ \n 
URL:https://comicquest.org/event/new-dc-comics-58/
LOCATION:Comic Quest\, 23811 Bridger #111 CA 92630\, Lake Forest\, CA\, 92630\, United States
CATEGORIES:New Comics
ATTACH;FMTTYPE=image/jpeg:https://comicquest.org/wp-content/uploads/2023/03/DC_Comics.jpg
END:VEVENT
BEGIN:VEVENT
DTSTART;VALUE=DATE:20240522
DTEND;VALUE=DATE:20240523
DTSTAMP:20260423T220504
CREATED:20231001T044357Z
LAST-MODIFIED:20231001T044357Z
UID:10000500-1716336000-1716422399@comicquest.org
SUMMARY:New Comics
DESCRIPTION:New DC comics arrive each Tuesday. \nAll other comics (Including Marvel) arrive Wednesday. \n  \nList of new comics arrived and expected are located here: \nhttps://comicquest.org/category/comic-releases/ \nhttps://comicquest.org/category/comic-releases/
URL:https://comicquest.org/event/new-comics-65/
LOCATION:Comic Quest\, 23811 Bridger #111 CA 92630\, Lake Forest\, CA\, 92630\, United States
CATEGORIES:New Comics
ATTACH;FMTTYPE=image/jpeg:https://comicquest.org/wp-content/uploads/2023/03/imgE1.jpg
END:VEVENT
BEGIN:VEVENT
DTSTART;VALUE=DATE:20240521
DTEND;VALUE=DATE:20240522
DTSTAMP:20260423T220504
CREATED:20231001T044616Z
LAST-MODIFIED:20231001T044616Z
UID:10000504-1716249600-1716335999@comicquest.org
SUMMARY:New DC Comics
DESCRIPTION:New DC comics arrive each Tuesday. \nAll other comics (Including Marvel) arrive Wednesday. \n  \nList of new comics arrived and expected are located here: \nhttps://comicquest.org/category/comic-releases/ \n 
URL:https://comicquest.org/event/new-dc-comics-57/
LOCATION:Comic Quest\, 23811 Bridger #111 CA 92630\, Lake Forest\, CA\, 92630\, United States
CATEGORIES:New Comics
ATTACH;FMTTYPE=image/jpeg:https://comicquest.org/wp-content/uploads/2023/03/DC_Comics.jpg
END:VEVENT
BEGIN:VEVENT
DTSTART;VALUE=DATE:20240515
DTEND;VALUE=DATE:20240516
DTSTAMP:20260423T220504
CREATED:20231001T044333Z
LAST-MODIFIED:20231001T044333Z
UID:10000499-1715731200-1715817599@comicquest.org
SUMMARY:New Comics
DESCRIPTION:New DC comics arrive each Tuesday. \nAll other comics (Including Marvel) arrive Wednesday. \n  \nList of new comics arrived and expected are located here: \nhttps://comicquest.org/category/comic-releases/ \nhttps://comicquest.org/category/comic-releases/
URL:https://comicquest.org/event/new-comics-64/
LOCATION:Comic Quest\, 23811 Bridger #111 CA 92630\, Lake Forest\, CA\, 92630\, United States
CATEGORIES:New Comics
ATTACH;FMTTYPE=image/jpeg:https://comicquest.org/wp-content/uploads/2023/03/imgE1.jpg
END:VEVENT
BEGIN:VEVENT
DTSTART;VALUE=DATE:20240514
DTEND;VALUE=DATE:20240515
DTSTAMP:20260423T220504
CREATED:20231001T044546Z
LAST-MODIFIED:20231001T044546Z
UID:10000503-1715644800-1715731199@comicquest.org
SUMMARY:New DC Comics
DESCRIPTION:New DC comics arrive each Tuesday. \nAll other comics (Including Marvel) arrive Wednesday. \n  \nList of new comics arrived and expected are located here: \nhttps://comicquest.org/category/comic-releases/ \n 
URL:https://comicquest.org/event/new-dc-comics-56/
LOCATION:Comic Quest\, 23811 Bridger #111 CA 92630\, Lake Forest\, CA\, 92630\, United States
CATEGORIES:New Comics
ATTACH;FMTTYPE=image/jpeg:https://comicquest.org/wp-content/uploads/2023/03/DC_Comics.jpg
END:VEVENT
BEGIN:VEVENT
DTSTART;VALUE=DATE:20240508
DTEND;VALUE=DATE:20240509
DTSTAMP:20260423T220504
CREATED:20231001T044311Z
LAST-MODIFIED:20231001T044311Z
UID:10000498-1715126400-1715212799@comicquest.org
SUMMARY:New Comics
DESCRIPTION:New DC comics arrive each Tuesday. \nAll other comics (Including Marvel) arrive Wednesday. \n  \nList of new comics arrived and expected are located here: \nhttps://comicquest.org/category/comic-releases/ \nhttps://comicquest.org/category/comic-releases/
URL:https://comicquest.org/event/new-comics-63/
LOCATION:Comic Quest\, 23811 Bridger #111 CA 92630\, Lake Forest\, CA\, 92630\, United States
CATEGORIES:New Comics
ATTACH;FMTTYPE=image/jpeg:https://comicquest.org/wp-content/uploads/2023/03/imgE1.jpg
END:VEVENT
BEGIN:VEVENT
DTSTART;VALUE=DATE:20240507
DTEND;VALUE=DATE:20240508
DTSTAMP:20260423T220504
CREATED:20231001T044513Z
LAST-MODIFIED:20231001T044513Z
UID:10000502-1715040000-1715126399@comicquest.org
SUMMARY:New DC Comics
DESCRIPTION:New DC comics arrive each Tuesday. \nAll other comics (Including Marvel) arrive Wednesday. \n  \nList of new comics arrived and expected are located here: \nhttps://comicquest.org/category/comic-releases/ \n 
URL:https://comicquest.org/event/new-dc-comics-55/
LOCATION:Comic Quest\, 23811 Bridger #111 CA 92630\, Lake Forest\, CA\, 92630\, United States
CATEGORIES:New Comics
ATTACH;FMTTYPE=image/jpeg:https://comicquest.org/wp-content/uploads/2023/03/DC_Comics.jpg
END:VEVENT
BEGIN:VEVENT
DTSTART;VALUE=DATE:20240501
DTEND;VALUE=DATE:20240502
DTSTAMP:20260423T220504
CREATED:20231001T044245Z
LAST-MODIFIED:20231001T044245Z
UID:10000497-1714521600-1714607999@comicquest.org
SUMMARY:New Comics
DESCRIPTION:New DC comics arrive each Tuesday. \nAll other comics (Including Marvel) arrive Wednesday. \n  \nList of new comics arrived and expected are located here: \nhttps://comicquest.org/category/comic-releases/ \nhttps://comicquest.org/category/comic-releases/
URL:https://comicquest.org/event/new-comics-62/
LOCATION:Comic Quest\, 23811 Bridger #111 CA 92630\, Lake Forest\, CA\, 92630\, United States
CATEGORIES:New Comics
ATTACH;FMTTYPE=image/jpeg:https://comicquest.org/wp-content/uploads/2023/03/imgE1.jpg
END:VEVENT
BEGIN:VEVENT
DTSTART;VALUE=DATE:20240430
DTEND;VALUE=DATE:20240501
DTSTAMP:20260423T220504
CREATED:20230930T024100Z
LAST-MODIFIED:20230930T024100Z
UID:10000488-1714435200-1714521599@comicquest.org
SUMMARY:New DC Comics
DESCRIPTION:New DC comics arrive each Tuesday. \nAll other comics (Including Marvel) arrive Wednesday. \n  \nList of new comics arrived and expected are located here: \nhttps://comicquest.org/category/comic-releases/ \n 
URL:https://comicquest.org/event/new-dc-comics-54/
LOCATION:Comic Quest\, 23811 Bridger #111 CA 92630\, Lake Forest\, CA\, 92630\, United States
CATEGORIES:New Comics
ATTACH;FMTTYPE=image/jpeg:https://comicquest.org/wp-content/uploads/2023/03/DC_Comics.jpg
END:VEVENT
END:VCALENDAR