BEGIN:VCALENDAR
VERSION:2.0
PRODID:-//Comic Quest - ECPv6.15.20//NONSGML v1.0//EN
CALSCALE:GREGORIAN
METHOD:PUBLISH
X-ORIGINAL-URL:https://comicquest.org
X-WR-CALDESC:Events for Comic Quest
REFRESH-INTERVAL;VALUE=DURATION:PT1H
X-Robots-Tag:noindex
X-PUBLISHED-TTL:PT1H
BEGIN:VTIMEZONE
TZID:Asia/Shanghai
BEGIN:STANDARD
TZOFFSETFROM:+0800
TZOFFSETTO:+0800
TZNAME:CST
DTSTART:20250101T000000
END:STANDARD
END:VTIMEZONE
BEGIN:VEVENT
DTSTART;VALUE=DATE:20260612
DTEND;VALUE=DATE:20260613
DTSTAMP:20260423T133425
CREATED:20260421T030733Z
LAST-MODIFIED:20260421T030733Z
UID:10004324-1781222400-1781308799@comicquest.org
SUMMARY:One Piece Release - (OP-16) – The Time of Battle
DESCRIPTION:  \n 
URL:https://comicquest.org/event/one-piece-release-op-16-the-time-of-battle/
LOCATION:Comic Quest\, 23811 Bridger #111 CA 92630\, Lake Forest\, CA\, 92630\, United States
CATEGORIES:Event,One Piece
ATTACH;FMTTYPE=image/png:https://comicquest.org/wp-content/uploads/2026/01/One-Piece-TCG-logo.png
END:VEVENT
END:VCALENDAR