BEGIN:VCALENDAR
VERSION:2.0
PRODID:-//Comic Quest - ECPv6.15.20//NONSGML v1.0//EN
CALSCALE:GREGORIAN
METHOD:PUBLISH
X-ORIGINAL-URL:https://comicquest.org
X-WR-CALDESC:Events for Comic Quest
REFRESH-INTERVAL;VALUE=DURATION:PT1H
X-Robots-Tag:noindex
X-PUBLISHED-TTL:PT1H
BEGIN:VTIMEZONE
TZID:Asia/Shanghai
BEGIN:STANDARD
TZOFFSETFROM:+0800
TZOFFSETTO:+0800
TZNAME:CST
DTSTART:20250101T000000
END:STANDARD
END:VTIMEZONE
BEGIN:VEVENT
DTSTART;VALUE=DATE:20260116
DTEND;VALUE=DATE:20260117
DTSTAMP:20260423T133256
CREATED:20260111T200848Z
LAST-MODIFIED:20260112T025636Z
UID:10004210-1768521600-1768607999@comicquest.org
SUMMARY:One Piece Release - AZURE SEA’S SEVEN (OP 14)
DESCRIPTION:OP-14 is themed around the Seven Warlords of the Sea!\n* Both new and classic members of the Seven Warlords\, along with characters from their respective crews\, make a grand appearance!\nCards that have appeared before now come in different colors\, bringing a fresh gameplay experience! \nHalf of the EB-04 cards are included ! EB-04 cards release first for English version!\n* To prepare for the worldwide release\, the EB-04 cards have been split in two. The first half is included in OP-14\, and the second half will be included in OP-15. Furthermore\, the EB-04 cards will be released first for English version! Get ready to enjoy a brand-new game environment! \nEach Box includes 1 Box Topper!\n* A Box Topper will be included in each box which encourages multiple purchase! 1 card per pack\, total 6 kinds! \n 
URL:https://comicquest.org/event/one-piece-release-azure-seas-seven-op-14/
LOCATION:Comic Quest\, 23811 Bridger #111 CA 92630\, Lake Forest\, CA\, 92630\, United States
CATEGORIES:Event,One Piece
ATTACH;FMTTYPE=image/png:https://comicquest.org/wp-content/uploads/2026/01/One-Piece-TCG-logo.png
END:VEVENT
END:VCALENDAR