BEGIN:VCALENDAR
VERSION:2.0
PRODID:-//Comic Quest - ECPv6.15.20//NONSGML v1.0//EN
CALSCALE:GREGORIAN
METHOD:PUBLISH
X-WR-CALNAME:Comic Quest
X-ORIGINAL-URL:https://comicquest.org
X-WR-CALDESC:Events for Comic Quest
REFRESH-INTERVAL;VALUE=DURATION:PT1H
X-Robots-Tag:noindex
X-PUBLISHED-TTL:PT1H
BEGIN:VTIMEZONE
TZID:UTC
BEGIN:STANDARD
TZOFFSETFROM:+0000
TZOFFSETTO:+0000
TZNAME:UTC
DTSTART:20230101T000000
END:STANDARD
END:VTIMEZONE
BEGIN:VEVENT
DTSTART;TZID=UTC:20241012T083000
DTEND;TZID=UTC:20241012T203000
DTSTAMP:20260425T044359
CREATED:20240801T023840Z
LAST-MODIFIED:20240801T025655Z
UID:10000976-1728721800-1728765000@comicquest.org
SUMMARY:Star Wars Legion LVOI Tourney
DESCRIPTION:Star Wars Legion LVOI Tournament \n\n Saturday\, Oct 12 at 8:45am\n\nComic Quest will be hosting another LVO Invitational tournament. It will be 4 rounds of Star Wars Legion with normal 800 point armies where you can earn points for LVO.\n\n\nSo if you missed the one in July\, or didn’t score the golden ticket\, here’s your chance to try again!\n\nIf you have any questions don’t hesitate to ask.\nSign up & additional details will be posted shortly\n\n\n\nLINK\n\nEntry Fee = $10.00 – Prize Pool\n8:30 am Check in\n8:45am Round 1 starts.
URL:https://comicquest.org/event/star-wars-legion-lvoi-tourney/
LOCATION:Comic Quest\, 23811 Bridger #111 CA 92630\, Lake Forest\, CA\, 92630\, United States
CATEGORIES:Event,Star Wars Legion,Tournament
ATTACH;FMTTYPE=image/png:https://comicquest.org/wp-content/uploads/2023/03/star_wars_legion_image.png
END:VEVENT
END:VCALENDAR