BEGIN:VCALENDAR
VERSION:2.0
PRODID:-//Comic Quest - ECPv6.15.20//NONSGML v1.0//EN
CALSCALE:GREGORIAN
METHOD:PUBLISH
X-WR-CALNAME:Comic Quest
X-ORIGINAL-URL:https://comicquest.org
X-WR-CALDESC:Events for Comic Quest
REFRESH-INTERVAL;VALUE=DURATION:PT1H
X-Robots-Tag:noindex
X-PUBLISHED-TTL:PT1H
BEGIN:VTIMEZONE
TZID:UTC
BEGIN:STANDARD
TZOFFSETFROM:+0000
TZOFFSETTO:+0000
TZNAME:UTC
DTSTART:20220101T000000
END:STANDARD
END:VTIMEZONE
BEGIN:VEVENT
DTSTART;VALUE=DATE:20230423
DTEND;VALUE=DATE:20230424
DTSTAMP:20260423T153838
CREATED:20230303T032425Z
LAST-MODIFIED:20230303T004310Z
UID:10000040-1682208000-1682294399@comicquest.org
SUMMARY:Star Wars Legion
DESCRIPTION:Star Wars Legion Gameplay! Come and join the fun!
URL:https://comicquest.org/event/star-wars-legion-3/
LOCATION:Comic Quest\, 23811 Bridger #111 CA 92630\, Lake Forest\, CA\, 92630\, United States
CATEGORIES:Event,Star Wars Legion,Tournament
ATTACH;FMTTYPE=image/png:https://comicquest.org/wp-content/uploads/2023/03/star_wars_legion_image.png
END:VEVENT
BEGIN:VEVENT
DTSTART;VALUE=DATE:20230326
DTEND;VALUE=DATE:20230327
DTSTAMP:20260423T153838
CREATED:20230405T214855Z
LAST-MODIFIED:20230405T214855Z
UID:10000187-1679788800-1679875199@comicquest.org
SUMMARY:Star Wars Statterpoint
DESCRIPTION:Star Legion Shatterpoint Launch
URL:https://comicquest.org/event/star-wars-statterpoint/
LOCATION:Comic Quest\, 23811 Bridger #111 CA 92630\, Lake Forest\, CA\, 92630\, United States
CATEGORIES:Event,Star Wars Legion,Tournament
ATTACH;FMTTYPE=image/png:https://comicquest.org/wp-content/uploads/2023/04/shatterpoint-logo.png
END:VEVENT
BEGIN:VEVENT
DTSTART;VALUE=DATE:20230326
DTEND;VALUE=DATE:20230327
DTSTAMP:20260423T153838
CREATED:20230303T032615Z
LAST-MODIFIED:20230321T184343Z
UID:10000041-1679788800-1679875199@comicquest.org
SUMMARY:Star Wars Legion
DESCRIPTION:Star Legion March Madness Skirmish \nSunday March 26th.  11am \n  \nHi all\, for this event we will be running a skirmish points size of 500 pts. & a 3’x3′ battlefield. Normal skirmish rules will apply with the following exceptions. \n1) Units cannot perform the same action twice – including\nthe Move action. However we will borrow from the beta special operations rules and add a new action:\nDash. When a unit makes a Dash action\, it may make a speed-1 move. This action will be considered a standard move action. \n2) Rather than using the skirmish battle cards to determine objective\, deployment & condtions; we will be playing missions from the special operations beta rules:\nhttps://www.atomicmassgames.com/…/Star-Wars-Legion… \nSpecifically we will either play “Bring Down The Shields” or “The Codes!”\, throughout the event. Per the mission rules matches are only 4 rounds. So ganes are pretty quick\, and more reps for practice. \nAnticpate playing 3 rounds minimum of matches. \nCost will be $10\, with prizes for 1st\, 2nd & 3rd. \nregister here to streamline matchmaking:\nhttps://www.longshanks.org/event/7949/ \nPlease post questions below.
URL:https://comicquest.org/event/star-wars-legion-4/
LOCATION:Comic Quest\, 23811 Bridger #111 CA 92630\, Lake Forest\, CA\, 92630\, United States
CATEGORIES:Event,Star Wars Legion,Tournament
ATTACH;FMTTYPE=image/png:https://comicquest.org/wp-content/uploads/2023/03/star_wars_legion_image.png
END:VEVENT
END:VCALENDAR