BEGIN:VCALENDAR
VERSION:2.0
PRODID:-//Comic Quest - ECPv6.15.20//NONSGML v1.0//EN
CALSCALE:GREGORIAN
METHOD:PUBLISH
X-ORIGINAL-URL:https://comicquest.org
X-WR-CALDESC:Events for Comic Quest
REFRESH-INTERVAL;VALUE=DURATION:PT1H
X-Robots-Tag:noindex
X-PUBLISHED-TTL:PT1H
BEGIN:VTIMEZONE
TZID:UTC
BEGIN:STANDARD
TZOFFSETFROM:+0000
TZOFFSETTO:+0000
TZNAME:UTC
DTSTART:20240101T000000
END:STANDARD
END:VTIMEZONE
BEGIN:VEVENT
DTSTART;TZID=UTC:20250817T103000
DTEND;TZID=UTC:20250817T140000
DTSTAMP:20260424T003549
CREATED:20250713T214540Z
LAST-MODIFIED:20250810T070608Z
UID:10001572-1755426600-1755439200@comicquest.org
SUMMARY:Star Wars Shatterpoint Learn to Play & Casual event
DESCRIPTION:Star Wars Shatterpoint Learn to Play ! \nSUNDAY\, August 17\, 10:30am to 2:00pm \nCome try out this cool Star Wars Shatterpoint miniatures game! It’s a smaller game play space. Capture the flag. Using your favorite Star Wars characters and teams. \n\n*Learn to Play games *Demo games\n*Comic Quest will provide the miniatures\, and terrain and everything you need!!!\n*If you have your own Shatterpoint Core Set or Minis – you can bring them too. And Learn to Play with your minis.\n*NO Entry fee! Just come and play.\n\nCasual event at Comic Quest next weekend on Sunday! We’ll be hosting a Learn To Play for new people – if you are interested in the game please come by\, you don’t need anything at all other than yourself! \nWe’ll be there from 10:30am – 2pm\, but if you want to just get some games in and meet other folks in the Shatterpoint community it’ll be a great time to come by and meet folks and play a game or two! If you do plan to come\, either to learn to play or just to get casual games in\, would love to know so – Confirm in the Discord.
URL:https://comicquest.org/event/star-wars-shatterpoint-learn-to-play-3/
LOCATION:Comic Quest\, 23811 Bridger #111 CA 92630\, Lake Forest\, CA\, 92630\, United States
CATEGORIES:Event,Star Wars Shatterpoint,Tournament
ATTACH;FMTTYPE=image/png:https://comicquest.org/wp-content/uploads/2023/05/shatterpoint_logo.png
END:VEVENT
END:VCALENDAR