BEGIN:VCALENDAR
VERSION:2.0
PRODID:-//Comic Quest - ECPv6.15.20//NONSGML v1.0//EN
CALSCALE:GREGORIAN
METHOD:PUBLISH
X-WR-CALNAME:Comic Quest
X-ORIGINAL-URL:https://comicquest.org
X-WR-CALDESC:Events for Comic Quest
REFRESH-INTERVAL;VALUE=DURATION:PT1H
X-Robots-Tag:noindex
X-PUBLISHED-TTL:PT1H
BEGIN:VTIMEZONE
TZID:UTC
BEGIN:STANDARD
TZOFFSETFROM:+0000
TZOFFSETTO:+0000
TZNAME:UTC
DTSTART:20220101T000000
END:STANDARD
END:VTIMEZONE
BEGIN:VEVENT
DTSTART;TZID=UTC:20240623T100000
DTEND;TZID=UTC:20240623T180000
DTSTAMP:20260423T140902
CREATED:20240322T212225Z
LAST-MODIFIED:20240618T041310Z
UID:10000861-1719136800-1719165600@comicquest.org
SUMMARY:Star Wars Shatterpoint
DESCRIPTION:Star Wars Shatterpoint \n\n\n\n\nStar Wars Shatterpoint Tournament \nSHATTERPOINT tournament at Comic Quest.\nSunday\, June 23rd.\n\nSet up = 9:30am (if you can\, please come help set up)\nRegistration = 10:00am\nRound 1 starts = 10:30am\nEntry fee = $15 into Prize pool. (Prize structure will be determined day-of based on number of participants and will be paid out in store credit for Comic Quest.)\nIf you have Terrain and a Mat – -please bring. \nSign-ups on Longshanks.\nDM the TO Eric Del Priore with questions\, and if you are coming early to help set up\, if you are bringing Terrain and/or a mat. So we can coordinate.\n\nThis tournament will use a [Premiere Showdown](https://cdn.svc.asmodee.net/…/SWP_PREMIER_SHOWDOWN…) format. Notably\, you must bring 4 squads\, and each squad must be played at least once.\n\nThe tournament will be 3 rounds:\nRound 1 – 10:30am to 12:30pm\nRound 2 – 1:30pm to 3:30pm\nRound 3 – 3:45pm to 5:45pm\nShatterpoint games can be long but we will keep rounds to 2 hours.\nPlease sign up in advance on Longshanks: https://shatterpoint.longshanks.org/event/15721/\n\n\n You do not need to declare your strike team before the day of the tourney.
URL:https://comicquest.org/event/star-wars-shatterpoint-4/
LOCATION:Comic Quest\, 23811 Bridger #111 CA 92630\, Lake Forest\, CA\, 92630\, United States
CATEGORIES:Event,Star Wars Shatterpoint,Tournament
ATTACH;FMTTYPE=image/png:https://comicquest.org/wp-content/uploads/2023/05/shatterpoint_logo.png
END:VEVENT
BEGIN:VEVENT
DTSTART;VALUE=DATE:20240406
DTEND;VALUE=DATE:20240407
DTSTAMP:20260423T140902
CREATED:20240322T212127Z
LAST-MODIFIED:20240402T152416Z
UID:10000860-1712361600-1712447999@comicquest.org
SUMMARY:Star Wars Shatterpoint
DESCRIPTION:Star Wars Shatterpoint \n\n\n\nStar Wars Shatterpoint\n\n\nLearn to Play Shatterpoint. Demo Day.\n\n\nSaturday April 6th. 1-5 pm.\n\n\nFREE Learn to play\n\n\nOr open casual play\n\n\n \n\n\nStar Wars Shatterpoint Miniature Game. Fun game.\n\n\nShatterpoint is a game where each player fields two heroes along with their small posse (that can be from all over the place alignment-wise as long as the share an era) who activate (mostly) randomly and earn points by outnumbering their opponents near rotating objective markers\, which builds up toward winning a tug-of-war like “struggle” between you and your opponent\n\n  \n  \n 
URL:https://comicquest.org/event/star-wars-shatterpoint-3/
LOCATION:Comic Quest\, 23811 Bridger #111 CA 92630\, Lake Forest\, CA\, 92630\, United States
CATEGORIES:Event,Star Wars Shatterpoint,Tournament
ATTACH;FMTTYPE=image/png:https://comicquest.org/wp-content/uploads/2023/05/shatterpoint_logo.png
END:VEVENT
BEGIN:VEVENT
DTSTART;VALUE=DATE:20230910
DTEND;VALUE=DATE:20230911
DTSTAMP:20260423T140902
CREATED:20230815T224518Z
LAST-MODIFIED:20230905T022331Z
UID:10000385-1694304000-1694390399@comicquest.org
SUMMARY:Star Wars Shatterpoint
DESCRIPTION:Star Wars Shatterpoint \n\n\nStar Wars Shatterpoint Tournament \nSunday Sept 10th.  11am. \nPrice $10 entry\nWill have “Initiation” kit with foil cards for prize support for the top 8 players that haven’t already received a set from CQ.\nEntry fees will also go into the prize pool. \nWill follow a standard “Showdown” format:\nhttps://static1.squarespace.com/…/1685…/SWP_SHOWDOWN.pdf \nEach player brings a strike team when they play the game.\nA player’s strike team is made up of a single Mission Set and\na list of their chosen squads and the Units that make them up.\nStrike teams contain two squads. Each squad contains three\nUnits. When building a strike team\, players may not include any\nUnit that shares the same Unique Name with another Unit in\ntheir strike team and may never include two Units that have the\nsame Unit name. \nregistration link\nhttps://www.longshanks.org/event/10661/
URL:https://comicquest.org/event/star-wars-shatterpoint-2/
LOCATION:Comic Quest\, 23811 Bridger #111 CA 92630\, Lake Forest\, CA\, 92630\, United States
CATEGORIES:Event,Star Wars Shatterpoint,Tournament
ATTACH;FMTTYPE=image/png:https://comicquest.org/wp-content/uploads/2023/05/shatterpoint_logo.png
END:VEVENT
BEGIN:VEVENT
DTSTART;VALUE=DATE:20230820
DTEND;VALUE=DATE:20230821
DTSTAMP:20260423T140902
CREATED:20230802T213149Z
LAST-MODIFIED:20230814T230547Z
UID:10000378-1692489600-1692575999@comicquest.org
SUMMARY:Star Wars Shatterpoint
DESCRIPTION:Star Wars Shatterpoint \nSunday August 20 \n\n\n\nShatterpoint Tournament \nSunday Aug 20. 11am \n\nDetails & Sign up at longshanks link below:\n\nhttps://www.longshanks.org/event/10116/ \nFREE
URL:https://comicquest.org/event/star-wars-shatterpoint/
LOCATION:Comic Quest\, 23811 Bridger #111 CA 92630\, Lake Forest\, CA\, 92630\, United States
CATEGORIES:Event,Star Wars Shatterpoint,Tournament
ATTACH;FMTTYPE=image/png:https://comicquest.org/wp-content/uploads/2023/05/shatterpoint_logo.png
END:VEVENT
BEGIN:VEVENT
DTSTART;VALUE=DATE:20230723
DTEND;VALUE=DATE:20230724
DTSTAMP:20260423T140902
CREATED:20230629T003357Z
LAST-MODIFIED:20230720T171238Z
UID:10000358-1690070400-1690156799@comicquest.org
SUMMARY:Star Wars Shatterpoint
DESCRIPTION:Star Wars Shatterpoint \nShatterpoint \nSunday July 23.  \n11:30 \nEntry fee: 0 \nGame Demos and Open play
URL:https://comicquest.org/event/star-wars-shatterpoint-learn-to-play-edit-date-before-publish/
LOCATION:Comic Quest\, 23811 Bridger #111 CA 92630\, Lake Forest\, CA\, 92630\, United States
CATEGORIES:Event,Star Wars Shatterpoint,Tournament
ATTACH;FMTTYPE=image/png:https://comicquest.org/wp-content/uploads/2023/05/shatterpoint_logo.png
END:VEVENT
BEGIN:VEVENT
DTSTART;VALUE=DATE:20230611
DTEND;VALUE=DATE:20230612
DTSTAMP:20260423T140902
CREATED:20230526T210700Z
LAST-MODIFIED:20230604T194009Z
UID:10000270-1686441600-1686527999@comicquest.org
SUMMARY:Star Wars Shatterpoint Learn to Play
DESCRIPTION:Star Wars Shatterpoint \nStar Wars Shatterpoint Launch Event \nSunday June 11th at 11:00am \n  \nCome try out the new Star Wars Shatterpoint game! \n*Learn to Play games\n*Demo games\nBring your Shatterpoint minis to Learn to Play.\nAnd/Or try out a Demo game with CQ minis.\n*Entry fee = $0.00 ! Just come and play.\n*Event Kit will be utilized \n  \nStar Wars Legion will be open game play as well! What? Both Star Wars games? YES! They share the same terrain\, just different play & game style.
URL:https://comicquest.org/event/star-wars-shatterpoint-learn-to-play/
LOCATION:Comic Quest\, 23811 Bridger #111 CA 92630\, Lake Forest\, CA\, 92630\, United States
CATEGORIES:Event,Star Wars Shatterpoint,Tournament
ATTACH;FMTTYPE=image/png:https://comicquest.org/wp-content/uploads/2023/05/shatterpoint_logo.png
END:VEVENT
BEGIN:VEVENT
DTSTART;VALUE=DATE:20230602
DTEND;VALUE=DATE:20230603
DTSTAMP:20260423T140902
CREATED:20230514T235122Z
LAST-MODIFIED:20230526T210935Z
UID:10000218-1685664000-1685750399@comicquest.org
SUMMARY:Star Wars Shatterpoint Release
DESCRIPTION:Star Wars Shatterpoint Release \n\nWe are taking preorders for Star Wars Shatterpoint.\n\n\nAhsoka is limited\, so the first 6 who order the bundle get her for free.\n\n\nAlso\, preorder discounts are available!\n\n\nRelease Friday June 2nd.
URL:https://comicquest.org/event/star-wars-shatterpoint-release/
LOCATION:Comic Quest\, 23811 Bridger #111 CA 92630\, Lake Forest\, CA\, 92630\, United States
CATEGORIES:Event,Star Wars Shatterpoint,Tournament
ATTACH;FMTTYPE=image/png:https://comicquest.org/wp-content/uploads/2023/05/shatterpoint_logo.png
END:VEVENT
END:VCALENDAR