BEGIN:VCALENDAR
VERSION:2.0
PRODID:-//Comic Quest - ECPv6.15.20//NONSGML v1.0//EN
CALSCALE:GREGORIAN
METHOD:PUBLISH
X-WR-CALNAME:Comic Quest
X-ORIGINAL-URL:https://comicquest.org
X-WR-CALDESC:Events for Comic Quest
REFRESH-INTERVAL;VALUE=DURATION:PT1H
X-Robots-Tag:noindex
X-PUBLISHED-TTL:PT1H
BEGIN:VTIMEZONE
TZID:UTC
BEGIN:STANDARD
TZOFFSETFROM:+0000
TZOFFSETTO:+0000
TZNAME:UTC
DTSTART:20230101T000000
END:STANDARD
END:VTIMEZONE
BEGIN:VEVENT
DTSTART;VALUE=DATE:20241101
DTEND;VALUE=DATE:20241102
DTSTAMP:20260424T211543
CREATED:20240925T151801Z
LAST-MODIFIED:20241101T211913Z
UID:10001211-1730419200-1730505599@comicquest.org
SUMMARY:Star Wars Unlimited - New Set Release - Twilight of the Republic
DESCRIPTION:Star Wars Unlimited-Twilight of the Republic PreRelease & Product \nPrerelease Event = Sun Nov 3.  Noon. \n$29.99 + tax \nStar Wars Unlimited: Twilight of the Republic\n– Prerelease event = Sunday Nov 3 at Noon. Sign up today. There is a PreRelease Kit. PreOrders in-store.\n– Product =  2-Player Starter Decks and Booster Boxes will be available to purchase all day. \n*Product available:\n– SW Unlimited Twilight of the Republic = Booster Box & Booster Packs\n– SW Unlimited Twilight of the Republic = 2-Player Starter Deck.\n– SW Unlimited Twilight of the Republic = Prerelease Event. &  PreRelease Kit \nMay the Force Be With You! \n\n\n\nGet your hands on the new cards before they are available to the general public the following week.  See the cards in action before anyone else.  See popular characters fight for your amusement. Great for new players to the game and folks who have been already been playing. Easy to jump in anytime. There are starter decks as well as boosters for easy entry. \n  \n \n  \n 
URL:https://comicquest.org/event/star-wars-unlimited-new-set-release-twilight-of-the-republic/
LOCATION:Comic Quest\, 23811 Bridger #111 CA 92630\, Lake Forest\, CA\, 92630\, United States
CATEGORIES:Event,Star Wars Unlimited,Tournament
ATTACH;FMTTYPE=image/jpeg:https://comicquest.org/wp-content/uploads/2023/10/star-wars-unlimited.jpg
END:VEVENT
BEGIN:VEVENT
DTSTART;TZID=UTC:20241103T120000
DTEND;TZID=UTC:20241103T160000
DTSTAMP:20260424T211543
CREATED:20240925T182059Z
LAST-MODIFIED:20241101T202804Z
UID:10001212-1730635200-1730649600@comicquest.org
SUMMARY:Star Wars Unlimited Prerelease -Twilight of the Republic
DESCRIPTION:Star Wars Unlimited-Twilight of the Republic PreRelease & Product PreOrders. \nPrerelease Event = Sun Nov 3.  Noon. \n$29.99 + tax \nStar Wars Unlimited: Twilight of the Republic\n– Prerelease event = Sunday Nov 3 at Noon. Sign up today. There is a PreRelease Kit. PreOrders in-store.\n– Product =  2-Player Starter Decks and Booster Boxes will be available to purchase all day. \n*THREE ITEMS available:\n– SW Unlimited Twilight of the Republic = Booster Box\n– SW Unlimited Twilight of the Republic = 2-Player Starter Deck.\n– SW Unlimited Twilight of the Republic = Prerelease Event. = PreRelease Kit \nMay the Force Be With You! \n\n\n\nGet your hands on the new cards before they are available to the general public the following week.  See the cards in action before anyone else.  See popular characters fight for your amusement. Great for new players to the game and folks who have been already been playing. Easy to jump in anytime. There are starter decks as well as boosters for easy entry. \n  \n \n  \n  \n 
URL:https://comicquest.org/event/star-wars-unlimited-prerelease-twilight-of-the-republic/
LOCATION:Comic Quest\, 23811 Bridger #111 CA 92630\, Lake Forest\, CA\, 92630\, United States
CATEGORIES:Event,Star Wars Unlimited,Tournament
ATTACH;FMTTYPE=image/jpeg:https://comicquest.org/wp-content/uploads/2023/10/star-wars-unlimited.jpg
END:VEVENT
END:VCALENDAR