BEGIN:VCALENDAR
VERSION:2.0
PRODID:-//Comic Quest - ECPv6.15.20//NONSGML v1.0//EN
CALSCALE:GREGORIAN
METHOD:PUBLISH
X-WR-CALNAME:Comic Quest
X-ORIGINAL-URL:https://comicquest.org
X-WR-CALDESC:Events for Comic Quest
REFRESH-INTERVAL;VALUE=DURATION:PT1H
X-Robots-Tag:noindex
X-PUBLISHED-TTL:PT1H
BEGIN:VTIMEZONE
TZID:UTC
BEGIN:STANDARD
TZOFFSETFROM:+0000
TZOFFSETTO:+0000
TZNAME:UTC
DTSTART:20250101T000000
END:STANDARD
END:VTIMEZONE
BEGIN:VEVENT
DTSTART;VALUE=DATE:20260508
DTEND;VALUE=DATE:20260509
DTSTAMP:20260423T125322
CREATED:20260419T192800Z
LAST-MODIFIED:20260419T192800Z
UID:10004310-1778198400-1778284799@comicquest.org
SUMMARY:Star Wars Unlimited - Twin Suns
DESCRIPTION:Star Wars Unlimited- Twin Suns \nWhy Play Twin Suns?\n\nThe primary multiplayer format of Star Wars: Unlimited  \nA fun and unpredictable format to play with friends\nSpecial deckbuilding rules allow for a unique experience compared to other formats\n\nTwin Suns Overview\nA constructed format utilizing the game’s multiplayer rules\, Twin Suns is a fun alternative way to play Star Wars: Unlimited with a unique approach to deckbuilding. Take on multiple opponents in a free-for-all and see if you can emerge victorious! \nTo play in the Twin Suns format\, you must build your deck ahead of time\, adhering to the following rules: \nYour deck must include exactly two leaders. The faceup sides of these leaders at the start of the game cannot have both the Heroism (white) and Villainy (black) aspects. You will start the game with both leaders in play\, and you’ll be able to use both of their abilities throughout the game. \nYour deck must include exactly one base. \nYour deck must include a minimum 80-card draw deck. You cannot have more than one copy of any card in your deck. \nTypically\, the winner of a Twin Suns match is determined by best-of-one game. Each game should take an average of 45 to 80 minutes to complete\, depending on the player count. \n 
URL:https://comicquest.org/event/star-wars-unlimited-twin-suns/
LOCATION:Comic Quest\, 23811 Bridger #111 CA 92630\, Lake Forest\, CA\, 92630\, United States
CATEGORIES:Event,Star Wars Unlimited,Tournament
ATTACH;FMTTYPE=image/jpeg:https://comicquest.org/wp-content/uploads/2023/10/star-wars-unlimited.jpg
END:VEVENT
END:VCALENDAR