BEGIN:VCALENDAR
VERSION:2.0
PRODID:-//Comic Quest - ECPv6.15.20//NONSGML v1.0//EN
CALSCALE:GREGORIAN
METHOD:PUBLISH
X-ORIGINAL-URL:https://comicquest.org
X-WR-CALDESC:Events for Comic Quest
REFRESH-INTERVAL;VALUE=DURATION:PT1H
X-Robots-Tag:noindex
X-PUBLISHED-TTL:PT1H
BEGIN:VTIMEZONE
TZID:UTC
BEGIN:STANDARD
TZOFFSETFROM:+0000
TZOFFSETTO:+0000
TZNAME:UTC
DTSTART:20230101T000000
END:STANDARD
END:VTIMEZONE
BEGIN:VEVENT
DTSTART;VALUE=DATE:20240712
DTEND;VALUE=DATE:20240713
DTSTAMP:20260423T154317
CREATED:20240403T212644Z
LAST-MODIFIED:20240623T205139Z
UID:10000883-1720742400-1720828799@comicquest.org
SUMMARY:Star Wars Unlimited - New Set Release
DESCRIPTION:Release Day Today – Friday July 12 \nStar Wars Unlimited-Shadows of the Galaxy PreRelease & PreOrders. \nThe next set for Star Wars Unlimited is ‘Shadows of the Galaxy’.\n– Prerelease event is  Sunday July 7 at Noon = sign up now.\n– PreOrders available now = for the Star Wars Unlimited PreRelease event\, Booster Box & 2-Player Starter Decks\n– The set releases Friday July 12. \n**THREE ITEMS TO PREPAY FOR:**\n– SW Unlimited Shadows of the Galaxy Booster Box (Limit 1)\n– SW Unlmtd 2-Player Starter Deck. (Limit 1)\n– SW Unlimited Prerelease Event. (Limit 1)\nThe PreRelease Event is the first time you’ll get to play and see the cards before the set is released the following Friday. There is a PreRelease Kit. PreOrders in-store only. \n \n 
URL:https://comicquest.org/event/star-wars-unlimited-shadows-of-the-galaxy-prerelease-preorders-2/
LOCATION:Comic Quest\, 23811 Bridger #111 CA 92630\, Lake Forest\, CA\, 92630\, United States
CATEGORIES:Event,Star Wars Unlimited,Tournament
ATTACH;FMTTYPE=image/jpeg:https://comicquest.org/wp-content/uploads/2023/10/star-wars-unlimited.jpg
END:VEVENT
BEGIN:VEVENT
DTSTART;TZID=UTC:20240707T120000
DTEND;TZID=UTC:20240707T180000
DTSTAMP:20260423T154317
CREATED:20240403T212823Z
LAST-MODIFIED:20240623T204551Z
UID:10000884-1720353600-1720375200@comicquest.org
SUMMARY:Star Wars Unlimited Prerelease -Shadows of the Galaxy
DESCRIPTION:Star Wars Unlimited-Shadows of the Galaxy PreRelease & PreOrders. \nPrerelease Event = Sun July 7th.  Play the NEW Second expansion of the game – Shadows of the Galaxy – before it is released next week 7/12. \n\nPreRelease Event = Sign-ups are available now.\nEntry Fee = $29.99 + tax = PreRelease Kit + Promo + booster pack prizing.\n12:00pm Noon = start\nWe are also taking preorders for product = Booster Boxes and 2-Player Starter Decks\n\nGet your hands on the new cards before they are available to the general public the following week.  See the cards in action before anyone else.  Play the new expansion to the card game based on Star Wars.  See popular characters fight for your amusement. Great for new players to the game and folks who have been already been playing. Easy to jump in anytime. There are starter decks as well as boosters for easy entry. \n  \n \n \n  \n 
URL:https://comicquest.org/event/star-wars-unlimited-shadows-of-the-galaxy-prerelease-preorders/
LOCATION:Comic Quest\, 23811 Bridger #111 CA 92630\, Lake Forest\, CA\, 92630\, United States
CATEGORIES:Event,Star Wars Unlimited,Tournament
ATTACH;FMTTYPE=image/jpeg:https://comicquest.org/wp-content/uploads/2023/10/star-wars-unlimited.jpg
END:VEVENT
BEGIN:VEVENT
DTSTART;VALUE=DATE:20240308
DTEND;VALUE=DATE:20240309
DTSTAMP:20260423T154317
CREATED:20231006T000327Z
LAST-MODIFIED:20240201T000945Z
UID:10000534-1709856000-1709942399@comicquest.org
SUMMARY:Star Wars Unlimited
DESCRIPTION:Release \n  \n 
URL:https://comicquest.org/event/star-wars-unlimited/
LOCATION:Comic Quest\, 23811 Bridger #111 CA 92630\, Lake Forest\, CA\, 92630\, United States
CATEGORIES:Event,Star Wars Unlimited,Tournament
ATTACH;FMTTYPE=image/jpeg:https://comicquest.org/wp-content/uploads/2023/10/star-wars-unlimited.jpg
END:VEVENT
BEGIN:VEVENT
DTSTART;TZID=UTC:20240302T120000
DTEND;TZID=UTC:20240302T190000
DTSTAMP:20260423T154317
CREATED:20240110T003409Z
LAST-MODIFIED:20240229T001713Z
UID:10000652-1709380800-1709406000@comicquest.org
SUMMARY:Star Wars Unlimited Prerelease
DESCRIPTION:Stars Wars Unlimited \nPrerelease Event.  Play the game before the game is released next week. \nSaturday March 2.  Noon. \n$29.99.  Reserve your spot in store.  Or come Saturday if space is available. \nGet your hands on the new cards before they are available to the general public (next week).  See the cards in action before anyone else.  Play the new card game based on Star Wars.  See popular characters fight for your amusement. \n \n  \n 
URL:https://comicquest.org/event/star-wars-unlimited-prerelease/
LOCATION:Comic Quest\, 23811 Bridger #111 CA 92630\, Lake Forest\, CA\, 92630\, United States
CATEGORIES:Event,Star Wars Unlimited,Tournament
ATTACH;FMTTYPE=image/jpeg:https://comicquest.org/wp-content/uploads/2023/10/star-wars-unlimited.jpg
END:VEVENT
END:VCALENDAR