BEGIN:VCALENDAR
VERSION:2.0
PRODID:-//Comic Quest - ECPv6.15.20//NONSGML v1.0//EN
CALSCALE:GREGORIAN
METHOD:PUBLISH
X-WR-CALNAME:Comic Quest
X-ORIGINAL-URL:https://comicquest.org
X-WR-CALDESC:Events for Comic Quest
REFRESH-INTERVAL;VALUE=DURATION:PT1H
X-Robots-Tag:noindex
X-PUBLISHED-TTL:PT1H
BEGIN:VTIMEZONE
TZID:UTC
BEGIN:STANDARD
TZOFFSETFROM:+0000
TZOFFSETTO:+0000
TZNAME:UTC
DTSTART:20220101T000000
END:STANDARD
END:VTIMEZONE
BEGIN:VTIMEZONE
TZID:Asia/Shanghai
BEGIN:STANDARD
TZOFFSETFROM:+0800
TZOFFSETTO:+0800
TZNAME:CST
DTSTART:20220101T000000
END:STANDARD
END:VTIMEZONE
BEGIN:VTIMEZONE
TZID:America/Los_Angeles
BEGIN:DAYLIGHT
TZOFFSETFROM:-0800
TZOFFSETTO:-0700
TZNAME:PDT
DTSTART:20220313T100000
END:DAYLIGHT
BEGIN:STANDARD
TZOFFSETFROM:-0700
TZOFFSETTO:-0800
TZNAME:PST
DTSTART:20221106T090000
END:STANDARD
BEGIN:DAYLIGHT
TZOFFSETFROM:-0800
TZOFFSETTO:-0700
TZNAME:PDT
DTSTART:20230312T100000
END:DAYLIGHT
BEGIN:STANDARD
TZOFFSETFROM:-0700
TZOFFSETTO:-0800
TZNAME:PST
DTSTART:20231105T090000
END:STANDARD
BEGIN:DAYLIGHT
TZOFFSETFROM:-0800
TZOFFSETTO:-0700
TZNAME:PDT
DTSTART:20240310T100000
END:DAYLIGHT
BEGIN:STANDARD
TZOFFSETFROM:-0700
TZOFFSETTO:-0800
TZNAME:PST
DTSTART:20241103T090000
END:STANDARD
END:VTIMEZONE
BEGIN:VEVENT
DTSTART;VALUE=DATE:20230702
DTEND;VALUE=DATE:20230703
DTSTAMP:20260425T181733
CREATED:20230622T141117Z
LAST-MODIFIED:20230627T200308Z
UID:10000355-1688256000-1688342399@comicquest.org
SUMMARY:Warhammer Age of Sigmar
DESCRIPTION:Warhammer Age of Sigmar \nSunday July 2nd.  9:45 am \nEntry Fee: $20 \nSign up: \nhttps://www.bestcoastpairings.com/event/henh7ekh?fbclid=IwAR3vL3XJbj6yFR3nqP6fIlZFhjBR7MI4gH1XTBPlaUUSo-PgtCelb6FKM9U \n \n  \nWarhammer Age of Sigmar Gameplay! Come and join the fun!
URL:https://comicquest.org/event/warhammer-age-of-sigmar-2/
LOCATION:Comic Quest\, 23811 Bridger #111 CA 92630\, Lake Forest\, CA\, 92630\, United States
CATEGORIES:Event,Tournament,Warhammer Age of SIgmar
ATTACH;FMTTYPE=image/jpeg:https://comicquest.org/wp-content/uploads/2023/03/age_of_sigmar.jpg
END:VEVENT
BEGIN:VEVENT
DTSTART;VALUE=DATE:20230704
DTEND;VALUE=DATE:20230705
DTSTAMP:20260425T181733
CREATED:20230304T060441Z
LAST-MODIFIED:20230304T060441Z
UID:10000149-1688428800-1688515199@comicquest.org
SUMMARY:Independence Day
DESCRIPTION:  \n 
URL:https://comicquest.org/event/independence-day/
LOCATION:Comic Quest\, 23811 Bridger #111 CA 92630\, Lake Forest\, CA\, 92630\, United States
CATEGORIES:Event
ATTACH;FMTTYPE=image/gif:https://comicquest.org/wp-content/uploads/2023/03/july_fourth_waving_lg_nwm1.gif
END:VEVENT
BEGIN:VEVENT
DTSTART;VALUE=DATE:20230704
DTEND;VALUE=DATE:20230705
DTSTAMP:20260425T181733
CREATED:20230527T054722Z
LAST-MODIFIED:20230703T200418Z
UID:10000315-1688428800-1688515199@comicquest.org
SUMMARY:FREE 4th of July Dice
DESCRIPTION:  \nFREE dice.   While supplies last. \nNo purchase necessary. \nKeeping the holiday tradition going. \n\nFREE Dice.\n\n\nTuesday 4th of July.\n\n\n11am – 7pm.\n\n\n \n\n\nOur Holiday gift to you. \n\n\nRoll for Freedom!\n\n\nRoll for Liberty!\n\n\nRoll for Hot Dogs & Apple Pie.\n\n\nRoll for Truth\, Justice and the America Way!
URL:https://comicquest.org/event/free-4th-of-july-dice/
LOCATION:Comic Quest\, 23811 Bridger #111 CA 92630\, Lake Forest\, CA\, 92630\, United States
CATEGORIES:Event
ATTACH;FMTTYPE=image/png:https://comicquest.org/wp-content/uploads/2023/05/Dice_4th_2023.png
END:VEVENT
BEGIN:VEVENT
DTSTART;TZID=America/Los_Angeles:20230705T190000
DTEND;TZID=America/Los_Angeles:20230705T220000
DTSTAMP:20260425T181733
CREATED:20230411T190237Z
LAST-MODIFIED:20230411T190237Z
UID:10000203-1688583600-1688594400@comicquest.org
SUMMARY:Dungeons & Dragons
DESCRIPTION:When do we play? \n\nWednesdays\, 7-9pm\nat Comic Quest (http://comicquest.org/)\n\nHow does this work? \n  \nHello! We play D&D 5e on Wednesday nights\, 7-9 pm\, in-person at Comic Quest in Lake Forest. If you are looking to join one of CQ’s Wednesday night D&D 5e groups\, here’s what you need to know. \nFirst\, join our Discord Server\, which is the primary way that we organize and discuss regularly scheduled D&D groups and events.  ** Once there\, please look at Start Here for general information. Link to our Discord server: https://discord.gg/vj2xcfD \nNo experience with D&D is required\, but different tables and DMs may have preferences. If you are interested in learning how to play there are “learn to play” sessions approximately once a month. \nOur games are frequently full.  Whether there is room at any given table changes week to week\, so you have to post a message on the channel of any table you think you might be interested in to see if there are currently openings\, as priority goes to regularly attending players. Some tables have PINNED information about their campaigns (click on the push-pin looking icon on the top ribbon of each campaign).  Also\, we often run a 1-shot table which is open to new players. \nFacebook Group \nWhat do I need to play? \nPlease check in with the DM of the table/game you are joining for these details\, but some helpful items: \n\nA character sheet (either your own or the pre-generated)\nA writing utensil (Pencil\, Pen)\nAppropriate dice for your character\nAppropriate source material for your character (basic book\, Players Handbook\, ability cards\, whatever floats your boat)\nA miniature (optional\, but helpful)\n\nWe also have a Discord server: https://discord.gg/vj2xcfD](https://discord.gg/vj2xcfD?fbclid=IwAR3KLXW32PY__0KkFJjOwkw0HKpYYQMb-Cgr5HUSvDvXbl-SMZOmS0uaKXo)
URL:https://comicquest.org/event/dungeons-dragons-18/
LOCATION:Comic Quest\, 23811 Bridger #111 CA 92630\, Lake Forest\, CA\, 92630\, United States
CATEGORIES:D&D,Event,Tournament
ATTACH;FMTTYPE=image/jpeg:https://comicquest.org/wp-content/uploads/2023/03/dungeons_and_dragons.jpg
END:VEVENT
BEGIN:VEVENT
DTSTART;TZID=Asia/Shanghai:20230706T180000
DTEND;TZID=Asia/Shanghai:20230706T220000
DTSTAMP:20260425T181733
CREATED:20230411T192838Z
LAST-MODIFIED:20230411T192838Z
UID:10000211-1688666400-1688680800@comicquest.org
SUMMARY:Tactical Thursday
DESCRIPTION:This event is for Tactical Thursday! Come and join the fun! \nAn evening dedicated to all popular miniature games. \n  \nSome Facebook Groups \nGames Workshop \nInfinity \nStar Wars Legion \nBattletech \nMiniature Club
URL:https://comicquest.org/event/tactical-thursday-24/
LOCATION:Comic Quest\, 23811 Bridger #111 CA 92630\, Lake Forest\, CA\, 92630\, United States
CATEGORIES:Event
ATTACH;FMTTYPE=image/jpeg:https://comicquest.org/wp-content/uploads/2023/01/Tactical_thursday.jpg
END:VEVENT
BEGIN:VEVENT
DTSTART;TZID=America/Los_Angeles:20230707T180000
DTEND;TZID=America/Los_Angeles:20230707T220000
DTSTAMP:20260425T181733
CREATED:20230411T190537Z
LAST-MODIFIED:20230411T190537Z
UID:10000207-1688752800-1688767200@comicquest.org
SUMMARY:Friday Night Magic
DESCRIPTION:Friday Night Magic! Come Join the fun! \nModern and Commander Formats. \nOn occasion sealed & draft around new set launches. \nPlease join our Facebook group. \nhttps://www.facebook.com/groups/426423864154241/
URL:https://comicquest.org/event/friday-night-magic-19/
LOCATION:Comic Quest\, 23811 Bridger #111 CA 92630\, Lake Forest\, CA\, 92630\, United States
CATEGORIES:Event,Magic,Tournament
ATTACH;FMTTYPE=image/jpeg:https://comicquest.org/wp-content/uploads/2023/01/Friday-Night-Magic.jpg
END:VEVENT
BEGIN:VEVENT
DTSTART;VALUE=DATE:20230708
DTEND;VALUE=DATE:20230709
DTSTAMP:20260425T181733
CREATED:20230303T033418Z
LAST-MODIFIED:20230303T033418Z
UID:10000046-1688774400-1688860799@comicquest.org
SUMMARY:Warhammer 40\,000
DESCRIPTION:Warhammer 40\,000 Gameplay! Come and join the fun!
URL:https://comicquest.org/event/warhammer-40000-5/
LOCATION:Comic Quest\, 23811 Bridger #111 CA 92630\, Lake Forest\, CA\, 92630\, United States
CATEGORIES:40K,Event,Tournament
ATTACH;FMTTYPE=image/jpeg:https://comicquest.org/wp-content/uploads/2023/01/40k-logo.jpg
END:VEVENT
BEGIN:VEVENT
DTSTART;TZID=Asia/Shanghai:20230708T120000
DTEND;TZID=Asia/Shanghai:20230708T235900
DTSTAMP:20260425T181733
CREATED:20230303T033503Z
LAST-MODIFIED:20230613T035100Z
UID:10000047-1688817600-1688860740@comicquest.org
SUMMARY:Book Club  - Catwoman Lonely City
DESCRIPTION:Each month we select a notable graphic novel for the book club.  It is 25% Off to everyone all month.  At the end of the month we meet to discuss. \nThis month’s selection is \nCatwoman Lonely City \nBy Cliff Chiang \nSaturday July 8th.  Noon. \nTen years ago\, the massacre known as Fools’ Night claimed the lives of Batman\, the Joker\, Nightwing\, and Commissioner Gordon…and sent Selina Kyle\, the Catwoman\, to prison. \nA decade later\, Gotham has grown up—it’s put away costumed heroism and villainy as childish things. The new Gotham is cleaner\, safer…and a lot less free\, under the watchful eye of Mayor Harvey Dent and his Batcops. It’s into this new city that Selina Kyle returns\, a changed woman…with her mind on that one last big score: the secrets hidden inside the Batcave! She doesn’t need the money—she just needs to know…who is “Orpheus”? \nPAST SELECTIONS: \n6/4/11 Morning Glories \n7/9/11 Irredeemable \n8/6/11 Chew \n9/10/11 Batwoman: Elegy \n10/8/11 Fables 1 Legends in Exile \n11/5/11 Marvel Zombies 1 \n12/3/11 Green Hornet: Sins of our Fathers 1 \n2/11/12 Sandman 1: Preludes & Nocturnes \n3/3/12  The New Teen Titans: Games \n4/12/12 Return of the Dapper Men \n6/2/12  Asterios Polyp \n8/22/12  Watchmen \n10/12/12 Locke & Key 1 \n12/12/12 Christmas Carole \n2/13/13 Invincible \n4/13/13 Building Stories \n6/18/13 Prophet \n8/3/13 Young Inhumans \n9/16/13 Midnight Nation \n10/13/13 Hawkeye: 1 My life as a weapon \n12/28/13  Blacksad \n2/12/14 Porcelain \n3/29/14 Saga 1 \n5/17/14 Fatale 1 \n6/25/14 The Property \n8/2/14 Good Dog \n9/3/14 Trillium \n10/1/14 Rat Queens \n11/8/14 WinterWorld \n12/5/14 Black Widow 1 \n1/10/15 Astro City: Life in the Big City \n2/28/15 Beautiful Darkness \n3/28/15 Seconds \n4/25/15 The Wake \n5/24/15 Here \n6/27/15 This One Summer \n7/25/15 Gigantic Beard That Was Evil \n9/5/15 The Wicked and the Divine \n10/3/15 Black Science: 1 \n11/7/15 Wytches \n12/5/15 Nimona \n1/30/16 Jessica Jones: AKA Alias \n3/5/16 Supermutant Magic Academy \n4/19/16 Private Eye \n5/14/16 Southern Bastard \n6/11/16 Lady Killer \n7/16/16 Long Walk to Valhalla \n8/13/16 Monstress \n9/10/16 Paper Girls \n10/15/16 Panther \n11/12/16 Afterlife with Archie \n12/10/16 Ruins \n1/7/17 Klaus \n2/17/17 Mooncop \n4/1/17 Sheriff of Babylon \n5/13/17 Vision: 1 \n6/27/17 Eartha \n7/29/17 Lennon \n8/26/17 Wonder Woman: A True Amazon \n9/30/17  Patience \n10/28/17 Halloween Tales \n11/25/17 My Favorite Things is Monsters \n1/6/18 Daytripper \n2/10/18 Snotgirl: Green Hair Don’t Care \n3/17/18 Black Panther \n4/7/18 Niourk \n5/12/18 Killing & Dying \n6/9/18 Infinity Gauntlet \n7/14/18 Black Hammer \n8/11/18 Boundless \n9/8/18 I Kill Giants \n10/20/18 Rome West \n12/1/18 Dark Nights Metal \n12/29/18 Skyward \n2/2/19 Roughneck \n3/2/19 Upgrade Soul \n4/6/19 WaterSnakes \n5/11/19 The Lie and How We Told It \n6/8/19 Mister Miracle \n7/13/19 Immortal Hulk \n8/10/19 Come Again \n9/14/19 My Heroes Have Always Been Junkies \n10/5/19 Batman White Knight \n11/2/19 Bone Parish 1 & 2 \n12/14/19 Exit Stage Left \n1/4/20 Heroes in Crisis \n2/1/20 Sabrina \n3/7/20 Green Lantern: Intergalactic Lawman \n4/18/20 Star Trek Next Generation Mirror Broken \n6/13/20 DIE \n7/11/20 Something is Killing the Children \n8/8/20 Once & Future \n9/12/20 Freedom Fighters \n10/10/20 Are you Listening? \n11/14/20 Uzamaki \n12/12/20 Cats of the Louvre \n1/4/21 4 Kids Walk Into a Bank \n2/13/21 The House \n3/13/21 Dracula MotherF**cker \n4/10/21 Superman’s Pal Jimmy Olsen \n5/8/21 Dead Day \n6/18/21 Rogue Planet \n7/10/21 We Only Find Them When They Are Dead \n8/7/21 Eight-Lane Runaways \n9/11/21 Resistance \n10/9/21 Pulp \n11/13/21 Basketful of Heads \n12/11/21 Department of Truth \n1/8/22 Last Stand of the Tin Can Sailors \n2/19/22 Stray Dogs \n3/12/22 Graveneye \n4/9/22 Oksi \n5/14 Carthago \n6/11/22 I want to eat your pancreas \n7/9/22 Bubble \n8/13/22 Ballad of Sophie \n9-10 In. \n10/8/22 Destroy All Monsters \n11/12/22 You Died an Anthology of the Afterlife \n12/10/22 Monsters \n1/14/23 Goblin Girl \n2/11/23 Fantastic Four Full Circle \n3/11/23 Ducks \n4/8/23 Radiant Black \n5/13/23 Nice House on the Lake \n6/10/23 TMNT – Last Ronin \n 
URL:https://comicquest.org/event/book-club-5/
LOCATION:Comic Quest\, 23811 Bridger #111 CA 92630\, Lake Forest\, CA\, 92630\, United States
CATEGORIES:Book Club,Event
ATTACH;FMTTYPE=image/jpeg:https://comicquest.org/wp-content/uploads/2023/03/bookclub.jpg
END:VEVENT
BEGIN:VEVENT
DTSTART;TZID=UTC:20230709T113000
DTEND;TZID=UTC:20230709T180000
DTSTAMP:20260425T181733
CREATED:20230629T202322Z
LAST-MODIFIED:20230701T231051Z
UID:10000359-1688902200-1688925600@comicquest.org
SUMMARY:Warhammer Age of Sigmar - Path to Glory
DESCRIPTION:Warhammer Age of Sigmar \nPath to Glory \nStarts 11:30 AM
URL:https://comicquest.org/event/warhammer-age-of-sigmar-path-to-glory-2/
LOCATION:Comic Quest\, 23811 Bridger #111 CA 92630\, Lake Forest\, CA\, 92630\, United States
CATEGORIES:Event,Tournament,Warhammer Age of SIgmar
ATTACH;FMTTYPE=image/jpeg:https://comicquest.org/wp-content/uploads/2023/03/age_of_sigmar.jpg
END:VEVENT
BEGIN:VEVENT
DTSTART;TZID=America/Los_Angeles:20230712T190000
DTEND;TZID=America/Los_Angeles:20230712T220000
DTSTAMP:20260425T181733
CREATED:20230411T190316Z
LAST-MODIFIED:20230411T190316Z
UID:10000204-1689188400-1689199200@comicquest.org
SUMMARY:Dungeons & Dragons
DESCRIPTION:When do we play? \n\nWednesdays\, 7-9pm\nat Comic Quest (http://comicquest.org/)\n\nHow does this work? \n  \nHello! We play D&D 5e on Wednesday nights\, 7-9 pm\, in-person at Comic Quest in Lake Forest. If you are looking to join one of CQ’s Wednesday night D&D 5e groups\, here’s what you need to know. \nFirst\, join our Discord Server\, which is the primary way that we organize and discuss regularly scheduled D&D groups and events.  ** Once there\, please look at Start Here for general information. Link to our Discord server: https://discord.gg/vj2xcfD \nNo experience with D&D is required\, but different tables and DMs may have preferences. If you are interested in learning how to play there are “learn to play” sessions approximately once a month. \nOur games are frequently full.  Whether there is room at any given table changes week to week\, so you have to post a message on the channel of any table you think you might be interested in to see if there are currently openings\, as priority goes to regularly attending players. Some tables have PINNED information about their campaigns (click on the push-pin looking icon on the top ribbon of each campaign).  Also\, we often run a 1-shot table which is open to new players. \nFacebook Group \nWhat do I need to play? \nPlease check in with the DM of the table/game you are joining for these details\, but some helpful items: \n\nA character sheet (either your own or the pre-generated)\nA writing utensil (Pencil\, Pen)\nAppropriate dice for your character\nAppropriate source material for your character (basic book\, Players Handbook\, ability cards\, whatever floats your boat)\nA miniature (optional\, but helpful)\n\nWe also have a Discord server: https://discord.gg/vj2xcfD](https://discord.gg/vj2xcfD?fbclid=IwAR3KLXW32PY__0KkFJjOwkw0HKpYYQMb-Cgr5HUSvDvXbl-SMZOmS0uaKXo)
URL:https://comicquest.org/event/dungeons-dragons-19/
LOCATION:Comic Quest\, 23811 Bridger #111 CA 92630\, Lake Forest\, CA\, 92630\, United States
CATEGORIES:D&D,Event,Tournament
ATTACH;FMTTYPE=image/jpeg:https://comicquest.org/wp-content/uploads/2023/03/dungeons_and_dragons.jpg
END:VEVENT
BEGIN:VEVENT
DTSTART;TZID=Asia/Shanghai:20230713T180000
DTEND;TZID=Asia/Shanghai:20230713T220000
DTSTAMP:20260425T181733
CREATED:20230411T192910Z
LAST-MODIFIED:20230411T192910Z
UID:10000212-1689271200-1689285600@comicquest.org
SUMMARY:Tactical Thursday
DESCRIPTION:This event is for Tactical Thursday! Come and join the fun! \nAn evening dedicated to all popular miniature games. \n  \nSome Facebook Groups \nGames Workshop \nInfinity \nStar Wars Legion \nBattletech \nMiniature Club
URL:https://comicquest.org/event/tactical-thursday-25/
LOCATION:Comic Quest\, 23811 Bridger #111 CA 92630\, Lake Forest\, CA\, 92630\, United States
CATEGORIES:Event
ATTACH;FMTTYPE=image/jpeg:https://comicquest.org/wp-content/uploads/2023/01/Tactical_thursday.jpg
END:VEVENT
BEGIN:VEVENT
DTSTART;TZID=America/Los_Angeles:20230714T180000
DTEND;TZID=America/Los_Angeles:20230714T220000
DTSTAMP:20260425T181733
CREATED:20230411T190607Z
LAST-MODIFIED:20230411T190607Z
UID:10000208-1689357600-1689372000@comicquest.org
SUMMARY:Friday Night Magic
DESCRIPTION:Friday Night Magic! Come Join the fun! \nModern and Commander Formats. \nOn occasion sealed & draft around new set launches. \nPlease join our Facebook group. \nhttps://www.facebook.com/groups/426423864154241/
URL:https://comicquest.org/event/friday-night-magic-20/
LOCATION:Comic Quest\, 23811 Bridger #111 CA 92630\, Lake Forest\, CA\, 92630\, United States
CATEGORIES:Event,Magic,Tournament
ATTACH;FMTTYPE=image/jpeg:https://comicquest.org/wp-content/uploads/2023/01/Friday-Night-Magic.jpg
END:VEVENT
BEGIN:VEVENT
DTSTART;TZID=America/Los_Angeles:20230719T190000
DTEND;TZID=America/Los_Angeles:20230719T220000
DTSTAMP:20260425T181733
CREATED:20230411T190346Z
LAST-MODIFIED:20230411T190346Z
UID:10000205-1689793200-1689804000@comicquest.org
SUMMARY:Dungeons & Dragons
DESCRIPTION:When do we play? \n\nWednesdays\, 7-9pm\nat Comic Quest (http://comicquest.org/)\n\nHow does this work? \n  \nHello! We play D&D 5e on Wednesday nights\, 7-9 pm\, in-person at Comic Quest in Lake Forest. If you are looking to join one of CQ’s Wednesday night D&D 5e groups\, here’s what you need to know. \nFirst\, join our Discord Server\, which is the primary way that we organize and discuss regularly scheduled D&D groups and events.  ** Once there\, please look at Start Here for general information. Link to our Discord server: https://discord.gg/vj2xcfD \nNo experience with D&D is required\, but different tables and DMs may have preferences. If you are interested in learning how to play there are “learn to play” sessions approximately once a month. \nOur games are frequently full.  Whether there is room at any given table changes week to week\, so you have to post a message on the channel of any table you think you might be interested in to see if there are currently openings\, as priority goes to regularly attending players. Some tables have PINNED information about their campaigns (click on the push-pin looking icon on the top ribbon of each campaign).  Also\, we often run a 1-shot table which is open to new players. \nFacebook Group \nWhat do I need to play? \nPlease check in with the DM of the table/game you are joining for these details\, but some helpful items: \n\nA character sheet (either your own or the pre-generated)\nA writing utensil (Pencil\, Pen)\nAppropriate dice for your character\nAppropriate source material for your character (basic book\, Players Handbook\, ability cards\, whatever floats your boat)\nA miniature (optional\, but helpful)\n\nWe also have a Discord server: https://discord.gg/vj2xcfD](https://discord.gg/vj2xcfD?fbclid=IwAR3KLXW32PY__0KkFJjOwkw0HKpYYQMb-Cgr5HUSvDvXbl-SMZOmS0uaKXo)
URL:https://comicquest.org/event/dungeons-dragons-20/
LOCATION:Comic Quest\, 23811 Bridger #111 CA 92630\, Lake Forest\, CA\, 92630\, United States
CATEGORIES:D&D,Event,Tournament
ATTACH;FMTTYPE=image/jpeg:https://comicquest.org/wp-content/uploads/2023/03/dungeons_and_dragons.jpg
END:VEVENT
BEGIN:VEVENT
DTSTART;TZID=Asia/Shanghai:20230720T180000
DTEND;TZID=Asia/Shanghai:20230720T220000
DTSTAMP:20260425T181733
CREATED:20230411T192938Z
LAST-MODIFIED:20230411T192938Z
UID:10000213-1689876000-1689890400@comicquest.org
SUMMARY:Tactical Thursday
DESCRIPTION:This event is for Tactical Thursday! Come and join the fun! \nAn evening dedicated to all popular miniature games. \n  \nSome Facebook Groups \nGames Workshop \nInfinity \nStar Wars Legion \nBattletech \nMiniature Club
URL:https://comicquest.org/event/tactical-thursday-26/
LOCATION:Comic Quest\, 23811 Bridger #111 CA 92630\, Lake Forest\, CA\, 92630\, United States
CATEGORIES:Event
ATTACH;FMTTYPE=image/jpeg:https://comicquest.org/wp-content/uploads/2023/01/Tactical_thursday.jpg
END:VEVENT
BEGIN:VEVENT
DTSTART;TZID=America/Los_Angeles:20230721T180000
DTEND;TZID=America/Los_Angeles:20230721T220000
DTSTAMP:20260425T181733
CREATED:20230411T190635Z
LAST-MODIFIED:20230411T190635Z
UID:10000209-1689962400-1689976800@comicquest.org
SUMMARY:Friday Night Magic
DESCRIPTION:Friday Night Magic! Come Join the fun! \nModern and Commander Formats. \nOn occasion sealed & draft around new set launches. \nPlease join our Facebook group. \nhttps://www.facebook.com/groups/426423864154241/
URL:https://comicquest.org/event/friday-night-magic-21/
LOCATION:Comic Quest\, 23811 Bridger #111 CA 92630\, Lake Forest\, CA\, 92630\, United States
CATEGORIES:Event,Magic,Tournament
ATTACH;FMTTYPE=image/jpeg:https://comicquest.org/wp-content/uploads/2023/01/Friday-Night-Magic.jpg
END:VEVENT
BEGIN:VEVENT
DTSTART;VALUE=DATE:20230722
DTEND;VALUE=DATE:20230723
DTSTAMP:20260425T181733
CREATED:20230406T001229Z
LAST-MODIFIED:20230720T171126Z
UID:10000191-1689984000-1690070399@comicquest.org
SUMMARY:Infinity
DESCRIPTION:Infinity \nInfinity Tournament \nSATURDAY July 22n.  11 AM \nSummer ITS \n$10 \n300 Point Tournament\noptions: Soldiers of fortune\, direct action \nFacebook Group
URL:https://comicquest.org/event/infinity/
LOCATION:Comic Quest\, 23811 Bridger #111 CA 92630\, Lake Forest\, CA\, 92630\, United States
CATEGORIES:Event,Infinity,Tournament
ATTACH;FMTTYPE=image/jpeg:https://comicquest.org/wp-content/uploads/2023/04/infinity-logo.jpg
END:VEVENT
BEGIN:VEVENT
DTSTART;VALUE=DATE:20230723
DTEND;VALUE=DATE:20230724
DTSTAMP:20260425T181733
CREATED:20230629T003357Z
LAST-MODIFIED:20230720T171238Z
UID:10000358-1690070400-1690156799@comicquest.org
SUMMARY:Star Wars Shatterpoint
DESCRIPTION:Star Wars Shatterpoint \nShatterpoint \nSunday July 23.  \n11:30 \nEntry fee: 0 \nGame Demos and Open play
URL:https://comicquest.org/event/star-wars-shatterpoint-learn-to-play-edit-date-before-publish/
LOCATION:Comic Quest\, 23811 Bridger #111 CA 92630\, Lake Forest\, CA\, 92630\, United States
CATEGORIES:Event,Star Wars Shatterpoint,Tournament
ATTACH;FMTTYPE=image/png:https://comicquest.org/wp-content/uploads/2023/05/shatterpoint_logo.png
END:VEVENT
BEGIN:VEVENT
DTSTART;TZID=America/Los_Angeles:20230726T190000
DTEND;TZID=America/Los_Angeles:20230726T220000
DTSTAMP:20260425T181733
CREATED:20230411T190420Z
LAST-MODIFIED:20230411T190420Z
UID:10000206-1690398000-1690408800@comicquest.org
SUMMARY:Dungeons & Dragons
DESCRIPTION:When do we play? \n\nWednesdays\, 7-9pm\nat Comic Quest (http://comicquest.org/)\n\nHow does this work? \n  \nHello! We play D&D 5e on Wednesday nights\, 7-9 pm\, in-person at Comic Quest in Lake Forest. If you are looking to join one of CQ’s Wednesday night D&D 5e groups\, here’s what you need to know. \nFirst\, join our Discord Server\, which is the primary way that we organize and discuss regularly scheduled D&D groups and events.  ** Once there\, please look at Start Here for general information. Link to our Discord server: https://discord.gg/vj2xcfD \nNo experience with D&D is required\, but different tables and DMs may have preferences. If you are interested in learning how to play there are “learn to play” sessions approximately once a month. \nOur games are frequently full.  Whether there is room at any given table changes week to week\, so you have to post a message on the channel of any table you think you might be interested in to see if there are currently openings\, as priority goes to regularly attending players. Some tables have PINNED information about their campaigns (click on the push-pin looking icon on the top ribbon of each campaign).  Also\, we often run a 1-shot table which is open to new players. \nFacebook Group \nWhat do I need to play? \nPlease check in with the DM of the table/game you are joining for these details\, but some helpful items: \n\nA character sheet (either your own or the pre-generated)\nA writing utensil (Pencil\, Pen)\nAppropriate dice for your character\nAppropriate source material for your character (basic book\, Players Handbook\, ability cards\, whatever floats your boat)\nA miniature (optional\, but helpful)\n\nWe also have a Discord server: https://discord.gg/vj2xcfD](https://discord.gg/vj2xcfD?fbclid=IwAR3KLXW32PY__0KkFJjOwkw0HKpYYQMb-Cgr5HUSvDvXbl-SMZOmS0uaKXo)
URL:https://comicquest.org/event/dungeons-dragons-21/
LOCATION:Comic Quest\, 23811 Bridger #111 CA 92630\, Lake Forest\, CA\, 92630\, United States
CATEGORIES:D&D,Event,Tournament
ATTACH;FMTTYPE=image/jpeg:https://comicquest.org/wp-content/uploads/2023/03/dungeons_and_dragons.jpg
END:VEVENT
BEGIN:VEVENT
DTSTART;TZID=Asia/Shanghai:20230727T180000
DTEND;TZID=Asia/Shanghai:20230727T220000
DTSTAMP:20260425T181733
CREATED:20230411T193003Z
LAST-MODIFIED:20230411T193003Z
UID:10000214-1690480800-1690495200@comicquest.org
SUMMARY:Tactical Thursday
DESCRIPTION:This event is for Tactical Thursday! Come and join the fun! \nAn evening dedicated to all popular miniature games. \n  \nSome Facebook Groups \nGames Workshop \nInfinity \nStar Wars Legion \nBattletech \nMiniature Club
URL:https://comicquest.org/event/tactical-thursday-27/
LOCATION:Comic Quest\, 23811 Bridger #111 CA 92630\, Lake Forest\, CA\, 92630\, United States
CATEGORIES:Event
ATTACH;FMTTYPE=image/jpeg:https://comicquest.org/wp-content/uploads/2023/01/Tactical_thursday.jpg
END:VEVENT
BEGIN:VEVENT
DTSTART;TZID=America/Los_Angeles:20230728T180000
DTEND;TZID=America/Los_Angeles:20230728T220000
DTSTAMP:20260425T181733
CREATED:20230411T190703Z
LAST-MODIFIED:20230411T190703Z
UID:10000210-1690567200-1690581600@comicquest.org
SUMMARY:Friday Night Magic
DESCRIPTION:Friday Night Magic! Come Join the fun! \nModern and Commander Formats. \nOn occasion sealed & draft around new set launches. \nPlease join our Facebook group. \nhttps://www.facebook.com/groups/426423864154241/
URL:https://comicquest.org/event/friday-night-magic-22/
LOCATION:Comic Quest\, 23811 Bridger #111 CA 92630\, Lake Forest\, CA\, 92630\, United States
CATEGORIES:Event,Magic,Tournament
ATTACH;FMTTYPE=image/jpeg:https://comicquest.org/wp-content/uploads/2023/01/Friday-Night-Magic.jpg
END:VEVENT
BEGIN:VEVENT
DTSTART;VALUE=DATE:20230729
DTEND;VALUE=DATE:20230730
DTSTAMP:20260425T181733
CREATED:20230710T233101Z
LAST-MODIFIED:20230724T235213Z
UID:10000373-1690588800-1690675199@comicquest.org
SUMMARY:Star Wars Legion
DESCRIPTION:Star Legion \nLegion Organized Play Event \nSaturday July 29th. 11am \n  \nDoing the latest OP kit called “the Asset”. Will be a casual tourney. Requires players bring two army list; a 800 pt. defender & 600 pt. attacker. Will be played on a 3×3. \nprizes will be store credit & Din Djarin full art card \ncost $10 \nregister here:\nhttps://www.longshanks.org/event/9852/
URL:https://comicquest.org/event/star-wars-legion-5/
LOCATION:Comic Quest\, 23811 Bridger #111 CA 92630\, Lake Forest\, CA\, 92630\, United States
CATEGORIES:Event,Star Wars Legion,Tournament
ATTACH;FMTTYPE=image/png:https://comicquest.org/wp-content/uploads/2023/03/star_wars_legion_image.png
END:VEVENT
BEGIN:VEVENT
DTSTART;VALUE=DATE:20230730
DTEND;VALUE=DATE:20230731
DTSTAMP:20260425T181733
CREATED:20230619T001418Z
LAST-MODIFIED:20230622T140942Z
UID:10000331-1690675200-1690761599@comicquest.org
SUMMARY:Warhammer Age of Sigmar
DESCRIPTION:Warhammer Age of Sigmar \n  \n  \nWarhammer Age of Sigmar Gameplay! Come and join the fun!
URL:https://comicquest.org/event/warhammer-age-of-sigmar-edit-date-before-publish/
LOCATION:Comic Quest\, 23811 Bridger #111 CA 92630\, Lake Forest\, CA\, 92630\, United States
CATEGORIES:Event,Tournament,Warhammer Age of SIgmar
ATTACH;FMTTYPE=image/jpeg:https://comicquest.org/wp-content/uploads/2023/03/age_of_sigmar.jpg
END:VEVENT
BEGIN:VEVENT
DTSTART;VALUE=DATE:20230731
DTEND;VALUE=DATE:20230801
DTSTAMP:20260425T181733
CREATED:20230304T060615Z
LAST-MODIFIED:20230304T060615Z
UID:10000150-1690761600-1690847999@comicquest.org
SUMMARY:Harry Potter Day
DESCRIPTION:  \n 
URL:https://comicquest.org/event/harry-potter-day/
LOCATION:Comic Quest\, 23811 Bridger #111 CA 92630\, Lake Forest\, CA\, 92630\, United States
CATEGORIES:Event
ATTACH;FMTTYPE=image/png:https://comicquest.org/wp-content/uploads/2023/03/harry_potter.png
END:VEVENT
END:VCALENDAR