BEGIN:VCALENDAR
VERSION:2.0
PRODID:-//Comic Quest - ECPv6.15.20//NONSGML v1.0//EN
CALSCALE:GREGORIAN
METHOD:PUBLISH
X-WR-CALNAME:Comic Quest
X-ORIGINAL-URL:https://comicquest.org
X-WR-CALDESC:Events for Comic Quest
REFRESH-INTERVAL;VALUE=DURATION:PT1H
X-Robots-Tag:noindex
X-PUBLISHED-TTL:PT1H
BEGIN:VTIMEZONE
TZID:UTC
BEGIN:STANDARD
TZOFFSETFROM:+0000
TZOFFSETTO:+0000
TZNAME:UTC
DTSTART:20220101T000000
END:STANDARD
END:VTIMEZONE
BEGIN:VTIMEZONE
TZID:Asia/Shanghai
BEGIN:STANDARD
TZOFFSETFROM:+0800
TZOFFSETTO:+0800
TZNAME:CST
DTSTART:20220101T000000
END:STANDARD
END:VTIMEZONE
BEGIN:VEVENT
DTSTART;VALUE=DATE:20230820
DTEND;VALUE=DATE:20230821
DTSTAMP:20260425T181917
CREATED:20230802T213149Z
LAST-MODIFIED:20230814T230547Z
UID:10000378-1692489600-1692575999@comicquest.org
SUMMARY:Star Wars Shatterpoint
DESCRIPTION:Star Wars Shatterpoint \nSunday August 20 \n\n\n\nShatterpoint Tournament \nSunday Aug 20. 11am \n\nDetails & Sign up at longshanks link below:\n\nhttps://www.longshanks.org/event/10116/ \nFREE
URL:https://comicquest.org/event/star-wars-shatterpoint/
LOCATION:Comic Quest\, 23811 Bridger #111 CA 92630\, Lake Forest\, CA\, 92630\, United States
CATEGORIES:Event,Star Wars Shatterpoint,Tournament
ATTACH;FMTTYPE=image/png:https://comicquest.org/wp-content/uploads/2023/05/shatterpoint_logo.png
END:VEVENT
BEGIN:VEVENT
DTSTART;VALUE=DATE:20230820
DTEND;VALUE=DATE:20230821
DTSTAMP:20260425T181917
CREATED:20230304T061835Z
LAST-MODIFIED:20230304T061835Z
UID:10000151-1692489600-1692575999@comicquest.org
SUMMARY:Cthulhu Day
DESCRIPTION:  \n 
URL:https://comicquest.org/event/cthulhu-day/
LOCATION:Comic Quest\, 23811 Bridger #111 CA 92630\, Lake Forest\, CA\, 92630\, United States
CATEGORIES:Event
ATTACH;FMTTYPE=image/jpeg:https://comicquest.org/wp-content/uploads/2023/03/cthulhu_icon_by_akedos-d8gne7k.jpg
END:VEVENT
END:VCALENDAR