BEGIN:VCALENDAR
VERSION:2.0
PRODID:-//Comic Quest - ECPv6.15.20//NONSGML v1.0//EN
CALSCALE:GREGORIAN
METHOD:PUBLISH
X-WR-CALNAME:Comic Quest
X-ORIGINAL-URL:https://comicquest.org
X-WR-CALDESC:Events for Comic Quest
REFRESH-INTERVAL;VALUE=DURATION:PT1H
X-Robots-Tag:noindex
X-PUBLISHED-TTL:PT1H
BEGIN:VTIMEZONE
TZID:UTC
BEGIN:STANDARD
TZOFFSETFROM:+0000
TZOFFSETTO:+0000
TZNAME:UTC
DTSTART:20220101T000000
END:STANDARD
END:VTIMEZONE
BEGIN:VEVENT
DTSTART;TZID=UTC:20230827T120000
DTEND;TZID=UTC:20230827T160000
DTSTAMP:20260425T181912
CREATED:20230731T224912Z
LAST-MODIFIED:20230823T022325Z
UID:10000377-1693137600-1693152000@comicquest.org
SUMMARY:Paint Day
DESCRIPTION:PAINT DAY* \nSUNDAY August 27 * Noon to 4:00pm \nPaint & Take Day *Enlarged Duergar Paint Kit – $19.99 (Dwarf) *Paint kit contains: Mini\, 12 paints\, 2 brushes & water pot!! Paint Master Octave Villar on hand for Tips/Tricks!! Bring your own paint projects as well!
URL:https://comicquest.org/event/paint-day-2/
LOCATION:Comic Quest\, 23811 Bridger #111 CA 92630\, Lake Forest\, CA\, 92630\, United States
CATEGORIES:Event,Paint Day
ATTACH;FMTTYPE=image/png:https://comicquest.org/wp-content/uploads/2023/03/paintdaycalendar3x2.png
END:VEVENT
END:VCALENDAR