BEGIN:VCALENDAR
VERSION:2.0
PRODID:-//Comic Quest - ECPv6.15.20//NONSGML v1.0//EN
CALSCALE:GREGORIAN
METHOD:PUBLISH
X-ORIGINAL-URL:https://comicquest.org
X-WR-CALDESC:Events for Comic Quest
REFRESH-INTERVAL;VALUE=DURATION:PT1H
X-Robots-Tag:noindex
X-PUBLISHED-TTL:PT1H
BEGIN:VTIMEZONE
TZID:Asia/Shanghai
BEGIN:STANDARD
TZOFFSETFROM:+0800
TZOFFSETTO:+0800
TZNAME:CST
DTSTART:20220101T000000
END:STANDARD
END:VTIMEZONE
BEGIN:VEVENT
DTSTART;VALUE=DATE:20230904
DTEND;VALUE=DATE:20230905
DTSTAMP:20260425T170045
CREATED:20230304T195127Z
LAST-MODIFIED:20230304T205656Z
UID:10000169-1693785600-1693871999@comicquest.org
SUMMARY:Labor Day
DESCRIPTION:  \n 
URL:https://comicquest.org/event/memorial-day-2/
LOCATION:Comic Quest\, 23811 Bridger #111 CA 92630\, Lake Forest\, CA\, 92630\, United States
CATEGORIES:Event
ATTACH;FMTTYPE=image/jpeg:https://comicquest.org/wp-content/uploads/2023/03/labor-day-icon.jpeg
END:VEVENT
BEGIN:VEVENT
DTSTART;VALUE=DATE:20230904
DTEND;VALUE=DATE:20230905
DTSTAMP:20260425T170045
CREATED:20230904T024556Z
LAST-MODIFIED:20230904T024556Z
UID:10000392-1693785600-1693871999@comicquest.org
SUMMARY:Labor Day Sale
DESCRIPTION:Labor Day Sale \nMonday Sept 4th. \n20% OFF all Graphic Novels \n20% OFF all Manga \n20% OFF all Dice \n20% OFF all Board Games \n  \nComic Quest \nOpen 11am – 7pm on Mondays
URL:https://comicquest.org/event/labor-day-sale/
LOCATION:Comic Quest\, 23811 Bridger #111 CA 92630\, Lake Forest\, CA\, 92630\, United States
CATEGORIES:Event
ATTACH;FMTTYPE=image/png:https://comicquest.org/wp-content/uploads/2023/09/lab3.png
END:VEVENT
END:VCALENDAR