BEGIN:VCALENDAR
VERSION:2.0
PRODID:-//Comic Quest - ECPv6.15.20//NONSGML v1.0//EN
CALSCALE:GREGORIAN
METHOD:PUBLISH
X-ORIGINAL-URL:https://comicquest.org
X-WR-CALDESC:Events for Comic Quest
REFRESH-INTERVAL;VALUE=DURATION:PT1H
X-Robots-Tag:noindex
X-PUBLISHED-TTL:PT1H
BEGIN:VTIMEZONE
TZID:UTC
BEGIN:STANDARD
TZOFFSETFROM:+0000
TZOFFSETTO:+0000
TZNAME:UTC
DTSTART:20220101T000000
END:STANDARD
END:VTIMEZONE
BEGIN:VEVENT
DTSTART;VALUE=DATE:20230924
DTEND;VALUE=DATE:20230925
DTSTAMP:20260425T170039
CREATED:20230914T140228Z
LAST-MODIFIED:20230918T234148Z
UID:10000393-1695513600-1695599999@comicquest.org
SUMMARY:Warhammer Age of Sigmar - RTT
DESCRIPTION:Warhammer Age of Sigmar RTT \nWarhammer Age of Sigmar RTT: September Smackdown! \nSunday 9/24. 9:45 start \n$20 (Goes to Prizes) \nAoS RTT Missions are the following: \nRound 1 Limited Resources \nRound 2: Every Step is Forward \nRound 3: Fountains of Frost \n \nWarhammer Age of Sigmar Gameplay! Come and join the fun!
URL:https://comicquest.org/event/warhammer-age-of-sigmar-rtt/
LOCATION:Comic Quest\, 23811 Bridger #111 CA 92630\, Lake Forest\, CA\, 92630\, United States
CATEGORIES:Event,Tournament,Warhammer Age of SIgmar
ATTACH;FMTTYPE=image/jpeg:https://comicquest.org/wp-content/uploads/2023/03/age_of_sigmar.jpg
END:VEVENT
END:VCALENDAR