BEGIN:VCALENDAR
VERSION:2.0
PRODID:-//Comic Quest - ECPv6.15.20//NONSGML v1.0//EN
CALSCALE:GREGORIAN
METHOD:PUBLISH
X-ORIGINAL-URL:https://comicquest.org
X-WR-CALDESC:Events for Comic Quest
REFRESH-INTERVAL;VALUE=DURATION:PT1H
X-Robots-Tag:noindex
X-PUBLISHED-TTL:PT1H
BEGIN:VTIMEZONE
TZID:Asia/Shanghai
BEGIN:STANDARD
TZOFFSETFROM:+0800
TZOFFSETTO:+0800
TZNAME:CST
DTSTART:20220101T000000
END:STANDARD
END:VTIMEZONE
BEGIN:VEVENT
DTSTART;VALUE=DATE:20231005
DTEND;VALUE=DATE:20231006
DTSTAMP:20260425T170001
CREATED:20230304T194019Z
LAST-MODIFIED:20230304T194019Z
UID:10000163-1696464000-1696550399@comicquest.org
SUMMARY:James Bond Day
DESCRIPTION:  \n 
URL:https://comicquest.org/event/james-bond-day/
LOCATION:Comic Quest\, 23811 Bridger #111 CA 92630\, Lake Forest\, CA\, 92630\, United States
CATEGORIES:Event
ATTACH;FMTTYPE=image/jpeg:https://comicquest.org/wp-content/uploads/2023/03/Bond_Day.jpg
END:VEVENT
BEGIN:VEVENT
DTSTART;TZID=Asia/Shanghai:20231005T180000
DTEND;TZID=Asia/Shanghai:20231005T220000
DTSTAMP:20260425T170001
CREATED:20230527T052215Z
LAST-MODIFIED:20230527T052215Z
UID:10000285-1696528800-1696543200@comicquest.org
SUMMARY:Tactical Thursday
DESCRIPTION:This event is for Tactical Thursday! Come and join the fun! \nAn evening dedicated to all popular miniature games. \n  \nSome Facebook Groups \nGames Workshop \nInfinity \nStar Wars Legion \nBattletech \nMiniature Club
URL:https://comicquest.org/event/tactical-thursday-37/
LOCATION:Comic Quest\, 23811 Bridger #111 CA 92630\, Lake Forest\, CA\, 92630\, United States
CATEGORIES:Event
ATTACH;FMTTYPE=image/jpeg:https://comicquest.org/wp-content/uploads/2023/01/Tactical_thursday.jpg
END:VEVENT
END:VCALENDAR