BEGIN:VCALENDAR
VERSION:2.0
PRODID:-//Comic Quest - ECPv6.15.20//NONSGML v1.0//EN
CALSCALE:GREGORIAN
METHOD:PUBLISH
X-ORIGINAL-URL:https://comicquest.org
X-WR-CALDESC:Events for Comic Quest
REFRESH-INTERVAL;VALUE=DURATION:PT1H
X-Robots-Tag:noindex
X-PUBLISHED-TTL:PT1H
BEGIN:VTIMEZONE
TZID:UTC
BEGIN:STANDARD
TZOFFSETFROM:+0000
TZOFFSETTO:+0000
TZNAME:UTC
DTSTART:20220101T000000
END:STANDARD
END:VTIMEZONE
BEGIN:VTIMEZONE
TZID:Asia/Shanghai
BEGIN:STANDARD
TZOFFSETFROM:+0800
TZOFFSETTO:+0800
TZNAME:CST
DTSTART:20220101T000000
END:STANDARD
END:VTIMEZONE
BEGIN:VEVENT
DTSTART;VALUE=DATE:20231007
DTEND;VALUE=DATE:20231008
DTSTAMP:20260425T152811
CREATED:20230704T013629Z
LAST-MODIFIED:20230920T013527Z
UID:10000362-1696636800-1696723199@comicquest.org
SUMMARY:Warhammer 40\,000 Store Championship
DESCRIPTION:  \nStore Championship \nStore Championship Event \nPrizes for: Top 3\, Best Painted\, Most Sporting \nEvery player receives a set of Core Stratagem cards and a set of Transfer sheets. \nCool glass trophy for Winner! \n3 round ITC event with player placed terrain. Missions TBD. 2\,000 points. \nAll players will receive 10 points for being Battle Ready. \n2h45m rounds. 30 minute lunch. \nRound 1 starts at 10AM.
URL:https://comicquest.org/event/warhammer-40000-7/
LOCATION:Comic Quest\, 23811 Bridger #111 CA 92630\, Lake Forest\, CA\, 92630\, United States
CATEGORIES:40K,Event,Tournament
ATTACH;FMTTYPE=image/jpeg:https://comicquest.org/wp-content/uploads/2023/01/40k-logo.jpg
END:VEVENT
BEGIN:VEVENT
DTSTART;VALUE=DATE:20231007
DTEND;VALUE=DATE:20231008
DTSTAMP:20260425T152811
CREATED:20230304T194137Z
LAST-MODIFIED:20231005T234205Z
UID:10000164-1696636800-1696723199@comicquest.org
SUMMARY:Bad Dice Day
DESCRIPTION:Bad Dice Day\n\n\nSaturday Oct 7th.\n\n\n \n\n\nBring your BAD dice in\, and make them pay for their traitorous roles. Some dice let you down when you need them most. Punish your bad dice and replace them.\n\n\n \n\n\nBad dice will be placed in the Chamber of Punishment:\n\n\nForced to Endure Nickelback all day.\n\n\n \n\n\nSale of New Replacement Dice.\n\n\n20% All Dice\n\n\n 
URL:https://comicquest.org/event/bad-dice-day/
LOCATION:Comic Quest\, 23811 Bridger #111 CA 92630\, Lake Forest\, CA\, 92630\, United States
CATEGORIES:Event
ATTACH;FMTTYPE=image/jpeg:https://comicquest.org/wp-content/uploads/2023/03/bad_dice.jpg
END:VEVENT
END:VCALENDAR