BEGIN:VCALENDAR
VERSION:2.0
PRODID:-//Comic Quest - ECPv6.15.20//NONSGML v1.0//EN
CALSCALE:GREGORIAN
METHOD:PUBLISH
X-ORIGINAL-URL:https://comicquest.org
X-WR-CALDESC:Events for Comic Quest
REFRESH-INTERVAL;VALUE=DURATION:PT1H
X-Robots-Tag:noindex
X-PUBLISHED-TTL:PT1H
BEGIN:VTIMEZONE
TZID:UTC
BEGIN:STANDARD
TZOFFSETFROM:+0000
TZOFFSETTO:+0000
TZNAME:UTC
DTSTART:20220101T000000
END:STANDARD
END:VTIMEZONE
BEGIN:VEVENT
DTSTART;VALUE=DATE:20231008
DTEND;VALUE=DATE:20231009
DTSTAMP:20260425T152810
CREATED:20231002T214625Z
LAST-MODIFIED:20231002T231358Z
UID:10000530-1696723200-1696809599@comicquest.org
SUMMARY:Warhammer Age of Sigmar - RTT - Ligma of Fury
DESCRIPTION:  \nComic Quest Age Of Sigmar RTT Ligma Of Fury \nSun Oct 8 \n$20 entry fee. 10:00am start. (9:45am setup) \nMissions: 1. Frigid zephyr 2. Fountains of Frost 3 Every Step is Forward \nhttps://www.bestcoastpairings.com/event/6jmqrm3q \nWarhammer Age of Sigmar Gameplay! Come and join the fun!
URL:https://comicquest.org/event/warhammer-age-of-sigmar-rtt-ligma-of-fury/
LOCATION:Comic Quest\, 23811 Bridger #111 CA 92630\, Lake Forest\, CA\, 92630\, United States
CATEGORIES:Event,Tournament,Warhammer Age of SIgmar
ATTACH;FMTTYPE=image/jpeg:https://comicquest.org/wp-content/uploads/2023/03/age_of_sigmar.jpg
END:VEVENT
END:VCALENDAR