BEGIN:VCALENDAR
VERSION:2.0
PRODID:-//Comic Quest - ECPv6.15.20//NONSGML v1.0//EN
CALSCALE:GREGORIAN
METHOD:PUBLISH
X-WR-CALNAME:Comic Quest
X-ORIGINAL-URL:https://comicquest.org
X-WR-CALDESC:Events for Comic Quest
REFRESH-INTERVAL;VALUE=DURATION:PT1H
X-Robots-Tag:noindex
X-PUBLISHED-TTL:PT1H
BEGIN:VTIMEZONE
TZID:Asia/Shanghai
BEGIN:STANDARD
TZOFFSETFROM:+0800
TZOFFSETTO:+0800
TZNAME:CST
DTSTART:20220101T000000
END:STANDARD
END:VTIMEZONE
BEGIN:VEVENT
DTSTART;VALUE=DATE:20231021
DTEND;VALUE=DATE:20231022
DTSTAMP:20260425T152613
CREATED:20230304T193713Z
LAST-MODIFIED:20231015T171737Z
UID:10000161-1697846400-1697932799@comicquest.org
SUMMARY:Ork-Tober
DESCRIPTION:Sat/Sun  \nOct 21 & 22 \nFREE Orc Mini \nWith Purchase of $15 or More in Miniatures \nLimited  Supply so come early! \n20% OFF Sale \non Orcs & Orks \n 
URL:https://comicquest.org/event/ork-tober/
LOCATION:Comic Quest\, 23811 Bridger #111 CA 92630\, Lake Forest\, CA\, 92630\, United States
CATEGORIES:Event
ATTACH;FMTTYPE=image/jpeg:https://comicquest.org/wp-content/uploads/2023/03/Orktober.jpg
END:VEVENT
BEGIN:VEVENT
DTSTART;VALUE=DATE:20231021
DTEND;VALUE=DATE:20231022
DTSTAMP:20260425T152613
CREATED:20230304T193841Z
LAST-MODIFIED:20230304T193841Z
UID:10000162-1697846400-1697932799@comicquest.org
SUMMARY:Back to the Future Day
DESCRIPTION:  \n 
URL:https://comicquest.org/event/back-to-the-future-day/
LOCATION:Comic Quest\, 23811 Bridger #111 CA 92630\, Lake Forest\, CA\, 92630\, United States
CATEGORIES:Event
ATTACH;FMTTYPE=image/jpeg:https://comicquest.org/wp-content/uploads/2023/03/back_to_future_day.jpg
END:VEVENT
END:VCALENDAR