BEGIN:VCALENDAR
VERSION:2.0
PRODID:-//Comic Quest - ECPv6.15.20//NONSGML v1.0//EN
CALSCALE:GREGORIAN
METHOD:PUBLISH
X-ORIGINAL-URL:https://comicquest.org
X-WR-CALDESC:Events for Comic Quest
REFRESH-INTERVAL;VALUE=DURATION:PT1H
X-Robots-Tag:noindex
X-PUBLISHED-TTL:PT1H
BEGIN:VTIMEZONE
TZID:UTC
BEGIN:STANDARD
TZOFFSETFROM:+0000
TZOFFSETTO:+0000
TZNAME:UTC
DTSTART:20220101T000000
END:STANDARD
END:VTIMEZONE
BEGIN:VTIMEZONE
TZID:Asia/Shanghai
BEGIN:STANDARD
TZOFFSETFROM:+0800
TZOFFSETTO:+0800
TZNAME:CST
DTSTART:20220101T000000
END:STANDARD
END:VTIMEZONE
BEGIN:VEVENT
DTSTART;VALUE=DATE:20231028
DTEND;VALUE=DATE:20231029
DTSTAMP:20260425T165930
CREATED:20230903T214644Z
LAST-MODIFIED:20231014T154447Z
UID:10000391-1698451200-1698537599@comicquest.org
SUMMARY:Trick Or Read (Free Comics)
DESCRIPTION:Saturday October 28th \n11am to 8pm \nFREE Comics\, So many to Choose From \n \n \n  \n 
URL:https://comicquest.org/event/trick-or-read-free-comics/
LOCATION:Comic Quest\, 23811 Bridger #111 CA 92630\, Lake Forest\, CA\, 92630\, United States
CATEGORIES:Event
ATTACH;FMTTYPE=image/png:https://comicquest.org/wp-content/uploads/2023/09/trick_or_read.png
END:VEVENT
BEGIN:VEVENT
DTSTART;VALUE=DATE:20231028
DTEND;VALUE=DATE:20231029
DTSTAMP:20260425T165930
CREATED:20231018T013430Z
LAST-MODIFIED:20231018T013430Z
UID:10000564-1698451200-1698537599@comicquest.org
SUMMARY:Mini Club Turn In - Harbinger
DESCRIPTION:  \nEvery two months we select a unique miniature\, and offer it for 25% Off for everyone.   Then at the end of the period\, painters turn their miniatures in for an exhibition. Everyone paints the same miniature\, but do in in unique ways.  Color choices\, techniques\, conversation\, etc. \nThe new mini club is available. \nHarbinger \nTurn in Saturday Oct 28th \nThe Mini-Club turn in date is this Saturday. Get to the finishing touches (or you should start now?). \n\nTurn in you mini on Saturday\nWe take glamour shots of all the minis that night\nLeave your mini for display (if you can) for a few days.\nThen sometime during the week pick up your mini\, and you get another mini for FREE!\n\n  \n  \n 
URL:https://comicquest.org/event/mini-club-turn-in-harbinger/
LOCATION:Comic Quest\, 23811 Bridger #111 CA 92630\, Lake Forest\, CA\, 92630\, United States
CATEGORIES:Event,Mini Club
ATTACH;FMTTYPE=image/png:https://comicquest.org/wp-content/uploads/2023/10/Harbinger-Oct-23.png
END:VEVENT
BEGIN:VEVENT
DTSTART;TZID=Asia/Shanghai:20231028T120000
DTEND;TZID=Asia/Shanghai:20231028T190000
DTSTAMP:20260425T165930
CREATED:20231024T162319Z
LAST-MODIFIED:20231024T162319Z
UID:10000619-1698494400-1698519600@comicquest.org
SUMMARY:Lorcana Casual Event
DESCRIPTION:We are excited to announce our first LORCANA TOURNAMENT !! Woot Hoo! \nTOURNAMENT * SEALED * CASUAL \nSaturday Oct 28 * 12:00pm Noon \nPlayers buy 6 booster pack bundle = $41.99 \nIn-store prepay sign-ups only. *Limited Space Available* \nPlayers will create a 40 card minimum deck from their 6 booster packs. (No max deck size\, except that decks are limited in size by the card pool they are built from). \nFUTURE EVENTS: After Chapter 2 Floodborn launch\, we will have more events including a League. Stay tuned! \n  \n 
URL:https://comicquest.org/event/lorcana-casual-event/
LOCATION:Comic Quest\, 23811 Bridger #111 CA 92630\, Lake Forest\, CA\, 92630\, United States
CATEGORIES:Event
ATTACH;FMTTYPE=image/jpeg:https://comicquest.org/wp-content/uploads/2023/04/loracana.jpg
END:VEVENT
END:VCALENDAR