BEGIN:VCALENDAR
VERSION:2.0
PRODID:-//Comic Quest - ECPv6.15.20//NONSGML v1.0//EN
CALSCALE:GREGORIAN
METHOD:PUBLISH
X-WR-CALNAME:Comic Quest
X-ORIGINAL-URL:https://comicquest.org
X-WR-CALDESC:Events for Comic Quest
REFRESH-INTERVAL;VALUE=DURATION:PT1H
X-Robots-Tag:noindex
X-PUBLISHED-TTL:PT1H
BEGIN:VTIMEZONE
TZID:UTC
BEGIN:STANDARD
TZOFFSETFROM:+0000
TZOFFSETTO:+0000
TZNAME:UTC
DTSTART:20220101T000000
END:STANDARD
END:VTIMEZONE
BEGIN:VEVENT
DTSTART;TZID=UTC:20231029T120000
DTEND;TZID=UTC:20231029T170000
DTSTAMP:20260425T135737
CREATED:20231005T030400Z
LAST-MODIFIED:20231025T235846Z
UID:10000533-1698580800-1698598800@comicquest.org
SUMMARY:Learn-to-Play D&D and other RPG's *Spooky Version
DESCRIPTION:Learn-To-Play-D&D and OTHER RPG’s *Spooky Version*\n – Two sessions for games.\nSun Oct 29\n\n\n12:00pm to 2:00pm &\n\n\n3:00pm to 5:00pm\n\n\nLearn to play D&D and these other RPG’s. Yep\, D&D spawned many other games. Come see what other games you can roleplay besides D&D.\n\nNext RPG Learn to Play – D&D and other RPG games on Sunday\, October 29. THE SPOOKY VERSIONS! To celebrate Halloween we have quite a few spooky games to play!! *Limited space available. Sign-ups recommended. Sign up via the Comic Quest D&D Discord. TWO SESSIONS PER GAME. 12pm to 2pm and 3pm to 5pm. SIGNUP FOR GAMES in the specific signup channel for each game and time session you want. *Two games only have (1) Session: Call of Cthulhu and Essence 20 Transformers.\n\nWHAT TO BRING: Pencil\, Dice. Specific details listed in discord for each game.\nABOUT EACH GAME: Specific details about each adventure is listed in the Discord under each game channel. Brief\, very brief descriptions are below.\n\nLIST of RPG GAMES:\n\nD&D 5e\nVampire: the Masquerade. *Age Range: 18+\nCall of Cthulhu = The Dare\nMonster of the Week = Horror Trick or Treating\nEssence20 Universe (PowerRangers/Transformers/GIJoe) = Transformer adventure\n\nSeating is limited so advanced sign ups are required.\nYou must join our CQ D&D Discord first. Here’s the link:\n\nhttps://discord.gg/PDDeeTRS \n\n**Join the CQ D&D discord first\, scroll down to the category “Learn-to-Play Day 10/29” and sign up under the channel of the RPG game & time session you want.
URL:https://comicquest.org/event/dd-learn-to-play-adults-4/
LOCATION:Comic Quest\, 23811 Bridger #111 CA 92630\, Lake Forest\, CA\, 92630\, United States
CATEGORIES:D&D,Event
ATTACH;FMTTYPE=image/jpeg:https://comicquest.org/wp-content/uploads/2023/10/Learn-to-Play-DD-two-sessions_other-rpgs_line_halloweenWEB.jpg
END:VEVENT
END:VCALENDAR