BEGIN:VCALENDAR
VERSION:2.0
PRODID:-//Comic Quest - ECPv6.15.20//NONSGML v1.0//EN
CALSCALE:GREGORIAN
METHOD:PUBLISH
X-WR-CALNAME:Comic Quest
X-ORIGINAL-URL:https://comicquest.org
X-WR-CALDESC:Events for Comic Quest
REFRESH-INTERVAL;VALUE=DURATION:PT1H
X-Robots-Tag:noindex
X-PUBLISHED-TTL:PT1H
BEGIN:VTIMEZONE
TZID:UTC
BEGIN:STANDARD
TZOFFSETFROM:+0000
TZOFFSETTO:+0000
TZNAME:UTC
DTSTART:20220101T000000
END:STANDARD
END:VTIMEZONE
BEGIN:VEVENT
DTSTART;VALUE=DATE:20231202
DTEND;VALUE=DATE:20231203
DTSTAMP:20260425T135742
CREATED:20230710T233200Z
LAST-MODIFIED:20231128T195908Z
UID:10000374-1701475200-1701561599@comicquest.org
SUMMARY:Star Wars Legion - Store Championship
DESCRIPTION:Star Legion Store Championship \n\nComic Quest store champs Dec. 2nd Sat.\nregistration now open\nhttps://www.longshanks.org/event/11683/ \n\n\n\n\n10$ fee\, prepay @ store (preferred) or via phone.\nregistration/setup starts 9am\n1st round promptly begins @ 930\n4 rounds @ 2.5 hours each.\nAt the last 15 minute mark of each round\, you will be notified to finish the round you are in.\nUpload your complete army list (army with upgrades\, command cards & battle plans) to the longshanks registration. Bring 2 hard copies: 1 full list to submit\, 1 list of just the army to share with opponent.\n\n\nrules:\nhttps://www.atomicmassgames.com/swlegiondocs/ \n\n\n\n\nrefer to the “GALACTIC CONQUEST EVENT” for tournament rules\n\n\nBring food & drinks\, it’s going to be a full day.\nTons of prizes for all places will be given.\nAssuming we get a minimum of 16 registered/playing\, the grand prize will include a seat @ the Adepticon Legion tournament in Chicago\, Illinois. Travel cost & lodging not included.
URL:https://comicquest.org/event/star-wars-legion-store-championship/
LOCATION:Comic Quest\, 23811 Bridger #111 CA 92630\, Lake Forest\, CA\, 92630\, United States
CATEGORIES:Event,Star Wars Legion,Tournament
ATTACH;FMTTYPE=image/png:https://comicquest.org/wp-content/uploads/2023/03/star_wars_legion_image.png
END:VEVENT
END:VCALENDAR