BEGIN:VCALENDAR
VERSION:2.0
PRODID:-//Comic Quest - ECPv6.15.20//NONSGML v1.0//EN
CALSCALE:GREGORIAN
METHOD:PUBLISH
X-WR-CALNAME:Comic Quest
X-ORIGINAL-URL:https://comicquest.org
X-WR-CALDESC:Events for Comic Quest
REFRESH-INTERVAL;VALUE=DURATION:PT1H
X-Robots-Tag:noindex
X-PUBLISHED-TTL:PT1H
BEGIN:VTIMEZONE
TZID:UTC
BEGIN:STANDARD
TZOFFSETFROM:+0000
TZOFFSETTO:+0000
TZNAME:UTC
DTSTART:20230101T000000
END:STANDARD
END:VTIMEZONE
BEGIN:VEVENT
DTSTART;VALUE=DATE:20240114
DTEND;VALUE=DATE:20240115
DTSTAMP:20260425T110846
CREATED:20231228T010511Z
LAST-MODIFIED:20240109T213409Z
UID:10000648-1705190400-1705276799@comicquest.org
SUMMARY:Warhammer Age of Sigmar - Path to Glory
DESCRIPTION:Warhammer Age of Sigmar \nPath to Glory \nAge of Sigmar PATH TO GLORY escalation league – launch event.\n\n\nSunday Jan 14\, 11:00am.\n\n\n700 points army to start.\n\n\nShort\, 3 rounds. Not an RTT. Using the Path to Glory rules. Mini RTT if you will. *See note below.\n\n\nMeet and greet for the league. Questions answered. Great for all levels of players.\n\n\nSign-ups preferred to guarantee your spot.\n\n\nSign up today – in store!!\n\n\nNo entry free.\n\n\nJoin the CQ AoS discord for more info. https://discord.gg/aPNxrKwM5u\n\n\nNot an actual RTT\, just that it will be 3 rounds like an RTT.\nThe smaller point size of starting armies will make the games much faster than a normal RTT\, and with smaller boards more games can be going. Also\, it will be using the path to glory rules rather than matched play / tournament pack rules (unless someone decides otherwise)
URL:https://comicquest.org/event/warhammer-age-of-sigmar-path-to-glory-3/
LOCATION:Comic Quest\, 23811 Bridger #111 CA 92630\, Lake Forest\, CA\, 92630\, United States
CATEGORIES:Event,Tournament,Warhammer Age of SIgmar
ATTACH;FMTTYPE=image/jpeg:https://comicquest.org/wp-content/uploads/2023/03/age_of_sigmar.jpg
END:VEVENT
END:VCALENDAR