BEGIN:VCALENDAR
VERSION:2.0
PRODID:-//Comic Quest - ECPv6.15.20//NONSGML v1.0//EN
CALSCALE:GREGORIAN
METHOD:PUBLISH
X-WR-CALNAME:Comic Quest
X-ORIGINAL-URL:https://comicquest.org
X-WR-CALDESC:Events for Comic Quest
REFRESH-INTERVAL;VALUE=DURATION:PT1H
X-Robots-Tag:noindex
X-PUBLISHED-TTL:PT1H
BEGIN:VTIMEZONE
TZID:UTC
BEGIN:STANDARD
TZOFFSETFROM:+0000
TZOFFSETTO:+0000
TZNAME:UTC
DTSTART:20230101T000000
END:STANDARD
END:VTIMEZONE
BEGIN:VEVENT
DTSTART;VALUE=DATE:20240120
DTEND;VALUE=DATE:20240121
DTSTAMP:20260425T110850
CREATED:20231229T191051Z
LAST-MODIFIED:20240112T063946Z
UID:10000649-1705708800-1705795199@comicquest.org
SUMMARY:D&D Learn to Play (and Other RPGS)
DESCRIPTION:Next RPG Learn to Play on a variety of different RPG games is on *Saturday Jan 20.\nD&D plus others! Come see what other games you can roleplay besides D&D.\n*Limited space available. Sign-ups recommended. Sign up via the Comic Quest D&D Discord.\nhttps://discord.gg/v6WEAwtu5J\n\n\nSESSIONS (each game may have more than 1 session):\n· 12pm to 2pm\n· 3pm to 5pm\n· 5:30pm to 7:30pm\n\n\n*SIGNUP FOR GAMES in the specific signup channel for each game and time session you want. *Details/descriptions in Discord. Once in the discord channel (Link above)\, scroll down to the “Learn To Play Day Jan 20” section.\n\n\n*LIST of RPG GAMES:\n· D&D 5e\n· Vampire: the Masquerade\n· Genesys\, Shadow of the Beanstalk (Cyberpunk world)\n· Marvel Multiverse
URL:https://comicquest.org/event/dd-learn-to-play/
LOCATION:Comic Quest\, 23811 Bridger #111 CA 92630\, Lake Forest\, CA\, 92630\, United States
CATEGORIES:D&D,Event
ATTACH;FMTTYPE=image/jpeg:https://comicquest.org/wp-content/uploads/2023/03/DND_LEARN_TO_PLAY.jpg
END:VEVENT
END:VCALENDAR