BEGIN:VCALENDAR
VERSION:2.0
PRODID:-//Comic Quest - ECPv6.15.20//NONSGML v1.0//EN
CALSCALE:GREGORIAN
METHOD:PUBLISH
X-ORIGINAL-URL:https://comicquest.org
X-WR-CALDESC:Events for Comic Quest
REFRESH-INTERVAL;VALUE=DURATION:PT1H
X-Robots-Tag:noindex
X-PUBLISHED-TTL:PT1H
BEGIN:VTIMEZONE
TZID:UTC
BEGIN:STANDARD
TZOFFSETFROM:+0000
TZOFFSETTO:+0000
TZNAME:UTC
DTSTART:20230101T000000
END:STANDARD
END:VTIMEZONE
BEGIN:VEVENT
DTSTART;VALUE=DATE:20240211
DTEND;VALUE=DATE:20240212
DTSTAMP:20260425T084555
CREATED:20240123T225901Z
LAST-MODIFIED:20240124T011957Z
UID:10000726-1707609600-1707695999@comicquest.org
SUMMARY:Moonstone
DESCRIPTION:Moonstone Event. \nMoonstone – Feb 11 Sunday. 11:00am to 4:40pm. \nHome before 1st quarter Super Bowl ends! \n3 Round\, 5 Model 8 Roster Moonstone tournament \nCost: $10. Prizes from Kits. \nSign-up on longshanks – link below: \nhttps://www.longshanks.org/event/13208/ \nJoin our Comic Quest Discord\, for more Moonstone discussion: \nhttps://discord.gg/v28DffQbdF \n********** \nOther info for website click thru info: *ONLY USE below ON WEBSITE along with the info above. \nRegistration = 11am-11: 15am \nRound 1: 11:15am – 1pm \nLunch: 1pm-1:30pm \nRound2: 1:30pm – 3pm \nRound 3: 3:10pm – 4:40pm
URL:https://comicquest.org/event/moonstone-3/
LOCATION:Comic Quest\, 23811 Bridger #111 CA 92630\, Lake Forest\, CA\, 92630\, United States
CATEGORIES:Event,Moonstone,Tournament
ATTACH;FMTTYPE=image/png:https://comicquest.org/wp-content/uploads/2023/09/Moonstone-logo.png
END:VEVENT
END:VCALENDAR