BEGIN:VCALENDAR
VERSION:2.0
PRODID:-//Comic Quest - ECPv6.15.20//NONSGML v1.0//EN
CALSCALE:GREGORIAN
METHOD:PUBLISH
X-WR-CALNAME:Comic Quest
X-ORIGINAL-URL:https://comicquest.org
X-WR-CALDESC:Events for Comic Quest
REFRESH-INTERVAL;VALUE=DURATION:PT1H
X-Robots-Tag:noindex
X-PUBLISHED-TTL:PT1H
BEGIN:VTIMEZONE
TZID:UTC
BEGIN:STANDARD
TZOFFSETFROM:+0000
TZOFFSETTO:+0000
TZNAME:UTC
DTSTART:20230101T000000
END:STANDARD
END:VTIMEZONE
BEGIN:VEVENT
DTSTART;VALUE=DATE:20240224
DTEND;VALUE=DATE:20240225
DTSTAMP:20260425T085728
CREATED:20240127T043259Z
LAST-MODIFIED:20240127T043259Z
UID:10000737-1708732800-1708819199@comicquest.org
SUMMARY:Warhammer Age of Sigmar - Path to Glory
DESCRIPTION:Warhammer Age of Sigmar \nPath to Glory \nSaturday February 24th\, AoS Path to Glory 1000pt escalation event game
URL:https://comicquest.org/event/warhammer-age-of-sigmar-path-to-glory-4/
LOCATION:Comic Quest\, 23811 Bridger #111 CA 92630\, Lake Forest\, CA\, 92630\, United States
CATEGORIES:Event,Tournament,Warhammer Age of SIgmar
ATTACH;FMTTYPE=image/jpeg:https://comicquest.org/wp-content/uploads/2023/03/age_of_sigmar.jpg
END:VEVENT
END:VCALENDAR