BEGIN:VCALENDAR
VERSION:2.0
PRODID:-//Comic Quest - ECPv6.15.20//NONSGML v1.0//EN
CALSCALE:GREGORIAN
METHOD:PUBLISH
X-WR-CALNAME:Comic Quest
X-ORIGINAL-URL:https://comicquest.org
X-WR-CALDESC:Events for Comic Quest
REFRESH-INTERVAL;VALUE=DURATION:PT1H
X-Robots-Tag:noindex
X-PUBLISHED-TTL:PT1H
BEGIN:VTIMEZONE
TZID:UTC
BEGIN:STANDARD
TZOFFSETFROM:+0000
TZOFFSETTO:+0000
TZNAME:UTC
DTSTART:20230101T000000
END:STANDARD
END:VTIMEZONE
BEGIN:VEVENT
DTSTART;TZID=UTC:20240303T120000
DTEND;TZID=UTC:20240303T160000
DTSTAMP:20260425T095014
CREATED:20240123T230246Z
LAST-MODIFIED:20240229T002621Z
UID:10000728-1709467200-1709481600@comicquest.org
SUMMARY:Paint Day
DESCRIPTION:Paint Day\n\n\nSunday March 3rd.\n\n\nCome paint with other painters. Bring your latest project\, paint\, and hang out with other painters.\n\n\nWe also have some Wizkids kits still available. Contains a cool model and some paint. Or bring your own minis.\n\n 
URL:https://comicquest.org/event/paint-day-3/
LOCATION:Comic Quest\, 23811 Bridger #111 CA 92630\, Lake Forest\, CA\, 92630\, United States
CATEGORIES:Event,Paint Day
ATTACH;FMTTYPE=image/jpeg:https://comicquest.org/wp-content/uploads/2023/10/Paint_day_image_and_logo.jpg
END:VEVENT
END:VCALENDAR