BEGIN:VCALENDAR
VERSION:2.0
PRODID:-//Comic Quest - ECPv6.15.20//NONSGML v1.0//EN
CALSCALE:GREGORIAN
METHOD:PUBLISH
X-WR-CALNAME:Comic Quest
X-ORIGINAL-URL:https://comicquest.org
X-WR-CALDESC:Events for Comic Quest
REFRESH-INTERVAL;VALUE=DURATION:PT1H
X-Robots-Tag:noindex
X-PUBLISHED-TTL:PT1H
BEGIN:VTIMEZONE
TZID:UTC
BEGIN:STANDARD
TZOFFSETFROM:+0000
TZOFFSETTO:+0000
TZNAME:UTC
DTSTART:20230101T000000
END:STANDARD
END:VTIMEZONE
BEGIN:VTIMEZONE
TZID:Asia/Shanghai
BEGIN:STANDARD
TZOFFSETFROM:+0800
TZOFFSETTO:+0800
TZNAME:CST
DTSTART:20230101T000000
END:STANDARD
END:VTIMEZONE
BEGIN:VEVENT
DTSTART;VALUE=DATE:20240420
DTEND;VALUE=DATE:20240421
DTSTAMP:20260425T055619
CREATED:20240319T162116Z
LAST-MODIFIED:20240321T003918Z
UID:10000857-1713571200-1713657599@comicquest.org
SUMMARY:Armypainter Rack
DESCRIPTION:Arrives 4/20 \n  \n\n\n\n\n 
URL:https://comicquest.org/event/armypainter-rack/
LOCATION:Comic Quest\, 23811 Bridger #111 CA 92630\, Lake Forest\, CA\, 92630\, United States
CATEGORIES:Event,Paint Day
ATTACH;FMTTYPE=image/jpeg:https://comicquest.org/wp-content/uploads/2024/03/warpaint-fanatic.jpg
END:VEVENT
BEGIN:VEVENT
DTSTART;VALUE=DATE:20240420
DTEND;VALUE=DATE:20240421
DTSTAMP:20260425T055619
CREATED:20240303T014901Z
LAST-MODIFIED:20240416T020432Z
UID:10000843-1713571200-1713657599@comicquest.org
SUMMARY:Warhammer Old World
DESCRIPTION:WARHAMMER THE OLD WORLD \nOWL – Warhammer: The Old World RTT \nSaturday April 20. 10:00am \nSign-up on BCP (Best Coast Pairings): https://www.bestcoastpairings.com/event/61PAUV6TCC \n**April Event is currently sold out\, but there is a waitlist** \nNow taking sign-ups for the May 19th RTT: \nhttps://www.bestcoastpairings.com/event/3GJVT8CKF3 \n\nFOR BEGINNERS – This is the second & third in an ongoing series of OWL RTTs that will be held at Comic Quest. Everyone is currently a beginner in Old World! Just show up with hype for the hobby and patience as we all learn together. \nArmy Size = 2\,000 points \nLegacy Armies = 100% allowed and encouraged! \nPainting = There is NO painting requirement for this event \nBase Sizes = DON’T stress\, if you haven’t rebased your models yet or are using AOS bases just bring movement trays of the correct size. If you need help reach out to us.
URL:https://comicquest.org/event/warhammer-old-world-2/
LOCATION:Comic Quest\, 23811 Bridger #111 CA 92630\, Lake Forest\, CA\, 92630\, United States
CATEGORIES:Event,Tournament,Warhammer Old World
ATTACH;FMTTYPE=image/png:https://comicquest.org/wp-content/uploads/2024/01/warhammer_old_world_logo.png
END:VEVENT
BEGIN:VEVENT
DTSTART;TZID=Asia/Shanghai:20240420T110000
DTEND;TZID=Asia/Shanghai:20240420T140000
DTSTAMP:20260425T055619
CREATED:20240413T231830Z
LAST-MODIFIED:20240413T232729Z
UID:10000892-1713610800-1713621600@comicquest.org
SUMMARY:Board Game Demo - Sagrada
DESCRIPTION:FREE Demo: Sagrada \nSaturday April 20th. 11am – 2pm \nComic Quest is providing FREE demos of a fun board game. Learn in a couple of minutes\, it might be your next favorite game. \nDraft dice and use the tools-of-the-trade in Sagrada to carefully construct your stained glass window masterpiece. \nIn more detail\, each player builds a stained glass window by building up a grid of dice on their player board. Each board has some restrictions on which color or shade (value) of die can be placed there. Dice of the same shade or color may never be placed next to each other. Dice are drafted in player order\, with the start player rotating each round\, snaking back around after the last player drafts two dice. Scoring is variable per game based on achieving various patterns and varieties of placement…as well as bonus points for dark shades of a particular hidden goal color.
URL:https://comicquest.org/event/board-game-demo-sagrada/
LOCATION:Comic Quest\, 23811 Bridger #111 CA 92630\, Lake Forest\, CA\, 92630\, United States
CATEGORIES:Demo,Event
ATTACH;FMTTYPE=image/png:https://comicquest.org/wp-content/uploads/2024/04/sagrada_banner.png
END:VEVENT
END:VCALENDAR