BEGIN:VCALENDAR
VERSION:2.0
PRODID:-//Comic Quest - ECPv6.15.20//NONSGML v1.0//EN
CALSCALE:GREGORIAN
METHOD:PUBLISH
X-WR-CALNAME:Comic Quest
X-ORIGINAL-URL:https://comicquest.org
X-WR-CALDESC:Events for Comic Quest
REFRESH-INTERVAL;VALUE=DURATION:PT1H
X-Robots-Tag:noindex
X-PUBLISHED-TTL:PT1H
BEGIN:VTIMEZONE
TZID:UTC
BEGIN:STANDARD
TZOFFSETFROM:+0000
TZOFFSETTO:+0000
TZNAME:UTC
DTSTART:20230101T000000
END:STANDARD
END:VTIMEZONE
BEGIN:VTIMEZONE
TZID:Asia/Shanghai
BEGIN:STANDARD
TZOFFSETFROM:+0800
TZOFFSETTO:+0800
TZNAME:CST
DTSTART:20230101T000000
END:STANDARD
END:VTIMEZONE
BEGIN:VEVENT
DTSTART;VALUE=DATE:20240425
DTEND;VALUE=DATE:20240426
DTSTAMP:20260425T055618
CREATED:20240327T221647Z
LAST-MODIFIED:20240327T221647Z
UID:10000864-1714003200-1714089599@comicquest.org
SUMMARY:Monument Paint - New
DESCRIPTION:Arrives 4/25 \nMonument Hobbies is happy to announce on April 25th we will release the Signature Series: Flameon Miniatures\, Signature Series: Rogue Hobbies\, and the AdeptiCon Spray Team set. These paints have been in development for some time and we are excited to bring them to market. \nThese sets offer brilliant and vibrant colors to complement the current Pro Acryl range. Distributors and Retailers will have the opportunity to pre-order the sets early\, so their orders can be shipped to their locations before the release date.\n\n\n\nSignature Series 5 comes from Maciek at Flameon Miniatures. Maciek has developed a large Patreon following with his unique and recognizable paint style. His set features a color palette used for a bright gold NMM (non-metallic metal) technique and the set also offers a range of paints \nSignature Series 6 comes from Louise Sugden at Rogue Hobbies. Louise is an extraordinary artist known for her dynamic painting style and use of bright colors. The Rogue Hobbies set features striking hues and vibrant colors that make a bold statement.\n  \n\n\nThe AdeptiCon Spray Team Set will offer a wide range of colors from a bright flesh tone to a gritty metallic color. Monument Hobbies and the AdeptiCon Spray Team worked together to create colors and hues that the Spray Team will utilize on their AdeptiCon projects.
URL:https://comicquest.org/event/monument-paint-new/
LOCATION:Comic Quest\, 23811 Bridger #111 CA 92630\, Lake Forest\, CA\, 92630\, United States
CATEGORIES:Event,Paint Day
ATTACH;FMTTYPE=image/png:https://comicquest.org/wp-content/uploads/2024/03/monument-new-paint.png
END:VEVENT
BEGIN:VEVENT
DTSTART;VALUE=DATE:20240425
DTEND;VALUE=DATE:20240426
DTSTAMP:20260425T055618
CREATED:20231001T050549Z
LAST-MODIFIED:20240502T165723Z
UID:10000526-1714003200-1714089599@comicquest.org
SUMMARY:Perfect Date
DESCRIPTION:  \n \nMay 25th \nFrom Miss Congeniality
URL:https://comicquest.org/event/perfect-date-2/
LOCATION:Comic Quest\, 23811 Bridger #111 CA 92630\, Lake Forest\, CA\, 92630\, United States
CATEGORIES:Event
ATTACH;FMTTYPE=image/jpeg:https://comicquest.org/wp-content/uploads/2023/07/Perfect_date.jpg
END:VEVENT
BEGIN:VEVENT
DTSTART;TZID=Asia/Shanghai:20240425T180000
DTEND;TZID=Asia/Shanghai:20240425T220000
DTSTAMP:20260425T055618
CREATED:20230930T022628Z
LAST-MODIFIED:20230930T022628Z
UID:10000463-1714068000-1714082400@comicquest.org
SUMMARY:Tactical Thursday
DESCRIPTION:This event is for Tactical Thursday! Come and join the fun! \nAn evening dedicated to all popular miniature games. \n  \nSome Facebook Groups \nGames Workshop \nInfinity \nStar Wars Legion \nBattletech \nMiniature Club
URL:https://comicquest.org/event/tactical-thursday-65/
LOCATION:Comic Quest\, 23811 Bridger #111 CA 92630\, Lake Forest\, CA\, 92630\, United States
CATEGORIES:Event
ATTACH;FMTTYPE=image/jpeg:https://comicquest.org/wp-content/uploads/2023/01/Tactical_thursday.jpg
END:VEVENT
END:VCALENDAR