BEGIN:VCALENDAR
VERSION:2.0
PRODID:-//Comic Quest - ECPv6.15.20//NONSGML v1.0//EN
CALSCALE:GREGORIAN
METHOD:PUBLISH
X-ORIGINAL-URL:https://comicquest.org
X-WR-CALDESC:Events for Comic Quest
REFRESH-INTERVAL;VALUE=DURATION:PT1H
X-Robots-Tag:noindex
X-PUBLISHED-TTL:PT1H
BEGIN:VTIMEZONE
TZID:Asia/Shanghai
BEGIN:STANDARD
TZOFFSETFROM:+0800
TZOFFSETTO:+0800
TZNAME:CST
DTSTART:20230101T000000
END:STANDARD
END:VTIMEZONE
BEGIN:VTIMEZONE
TZID:UTC
BEGIN:STANDARD
TZOFFSETFROM:+0000
TZOFFSETTO:+0000
TZNAME:UTC
DTSTART:20230101T000000
END:STANDARD
END:VTIMEZONE
BEGIN:VEVENT
DTSTART;TZID=Asia/Shanghai:20240803T110000
DTEND;TZID=Asia/Shanghai:20240803T140000
DTSTAMP:20260424T193302
CREATED:20240729T224906Z
LAST-MODIFIED:20240729T224906Z
UID:10000973-1722682800-1722693600@comicquest.org
SUMMARY:Board Game Demo - Forest Shuffle
DESCRIPTION:FREE Board Game Demo: Forest Shuffle \nSaturday Aug 3. 11am – 2pm \nComic Quest is providing FREE demos of a fun board game. Learn in a couple of minutes\, it might be your next favorite game. \nAlso\, a discount on the game! \nIn Forest Shuffle\, players compete to gather the most valuable trees\, then attract species to these trees\, thus creating an ecologically balanced habitat for flora and fauna. \nTo start\, each player has six cards in hand\, with cards depicting either a particular type of tree or two forest dwellers (animal\, plant\, mushroom\, etc.)\, with these latter cards being divided in half\, whether vertically or horizontally\, with one dweller in each card half.
URL:https://comicquest.org/event/board-game-demo-forest-shuffle/
LOCATION:Comic Quest\, 23811 Bridger #111 CA 92630\, Lake Forest\, CA\, 92630\, United States
CATEGORIES:Demo,Event
ATTACH;FMTTYPE=image/png:https://comicquest.org/wp-content/uploads/2024/07/forest-shuffle.png
END:VEVENT
BEGIN:VEVENT
DTSTART;TZID=UTC:20240803T110000
DTEND;TZID=UTC:20240803T183000
DTSTAMP:20260424T193302
CREATED:20240620T082234Z
LAST-MODIFIED:20240730T171754Z
UID:10000937-1722682800-1722709800@comicquest.org
SUMMARY:Conquest - Casual Tournament
DESCRIPTION:Conquest Casual Tourney Sat Aug 3rd.\nComic Quest Casual 2000 point Tourney\nSaturday August 3rd \nEntry fee: $10.00 \nRegistration: 10:45AM \nGames start: 11:00AM sharp \nNo Painting Requirement (Prize for best painted\, however!) \nFormat: 3 Rounds\, Ranked (Melee\, Breakout) 2000 Points using 2.0 Ruleset \nSign up on Longshanks link below: \nhttps://conquest.longshanks.org/event/16362/ \n \n 
URL:https://comicquest.org/event/conquest-casual-tourney-sat-aug-3rd/
LOCATION:Comic Quest\, 23811 Bridger #111 CA 92630\, Lake Forest\, CA\, 92630\, United States
CATEGORIES:Conquest,Event,Tournament
ATTACH;FMTTYPE=image/webp:https://comicquest.org/wp-content/uploads/2024/03/conquest_logo.webp
END:VEVENT
END:VCALENDAR