BEGIN:VCALENDAR
VERSION:2.0
PRODID:-//Comic Quest - ECPv6.15.20//NONSGML v1.0//EN
CALSCALE:GREGORIAN
METHOD:PUBLISH
X-WR-CALNAME:Comic Quest
X-ORIGINAL-URL:https://comicquest.org
X-WR-CALDESC:Events for Comic Quest
REFRESH-INTERVAL;VALUE=DURATION:PT1H
X-Robots-Tag:noindex
X-PUBLISHED-TTL:PT1H
BEGIN:VTIMEZONE
TZID:Asia/Shanghai
BEGIN:STANDARD
TZOFFSETFROM:+0800
TZOFFSETTO:+0800
TZNAME:CST
DTSTART:20230101T000000
END:STANDARD
END:VTIMEZONE
BEGIN:VTIMEZONE
TZID:America/Los_Angeles
BEGIN:DAYLIGHT
TZOFFSETFROM:-0800
TZOFFSETTO:-0700
TZNAME:PDT
DTSTART:20230312T100000
END:DAYLIGHT
BEGIN:STANDARD
TZOFFSETFROM:-0700
TZOFFSETTO:-0800
TZNAME:PST
DTSTART:20231105T090000
END:STANDARD
BEGIN:DAYLIGHT
TZOFFSETFROM:-0800
TZOFFSETTO:-0700
TZNAME:PDT
DTSTART:20240310T100000
END:DAYLIGHT
BEGIN:STANDARD
TZOFFSETFROM:-0700
TZOFFSETTO:-0800
TZNAME:PST
DTSTART:20241103T090000
END:STANDARD
BEGIN:DAYLIGHT
TZOFFSETFROM:-0800
TZOFFSETTO:-0700
TZNAME:PDT
DTSTART:20250309T100000
END:DAYLIGHT
BEGIN:STANDARD
TZOFFSETFROM:-0700
TZOFFSETTO:-0800
TZNAME:PST
DTSTART:20251102T090000
END:STANDARD
END:VTIMEZONE
BEGIN:VEVENT
DTSTART;VALUE=DATE:20240922
DTEND;VALUE=DATE:20240923
DTSTAMP:20260424T192747
CREATED:20240113T012306Z
LAST-MODIFIED:20240920T070432Z
UID:10000708-1726963200-1727049599@comicquest.org
SUMMARY:Hobbit Day
DESCRIPTION:Hobbit Day Sale\n\n\nSept 22nd is the Birthday for Bilbo & Frodo Baggins.\n\n\nCelebrate all things Hobbits\, and Lord of the Rings.\n\n\n \n\n\n20% OFF All Hobbits\, Halflings\, and anything related to Lord of the Rings.\n\n 
URL:https://comicquest.org/event/hobbit-day-2/
LOCATION:Comic Quest\, 23811 Bridger #111 CA 92630\, Lake Forest\, CA\, 92630\, United States
CATEGORIES:Event
ATTACH;FMTTYPE=image/jpeg:https://comicquest.org/wp-content/uploads/2023/03/hobit_day.jpg
END:VEVENT
BEGIN:VEVENT
DTSTART;VALUE=DATE:20240922
DTEND;VALUE=DATE:20240923
DTSTAMP:20260424T192747
CREATED:20240903T205448Z
LAST-MODIFIED:20240927T015133Z
UID:10001200-1726963200-1727049599@comicquest.org
SUMMARY:Banned Books Week
DESCRIPTION:Be a rebel and read a banned Graphic Novel \nSept 22 – 28 2024 \nhttps://guides.hmcpl.org/bannedbooks/comics \nBanned & Challenged Comics \n \nhttps://bannedbooksweek.org/11-challenged-and-banned-comics/ \n  \nhttps://libguides.calstatela.edu/c.php?g=1141475&p=9908198 \n  \nHere is a list of banned and challenged books we keep in stock: \n  \nAmerican Born Chinese \nBatman: The Dark Knight Strikes Again \nBatman: The Killing Joke \nBlankets \nBone \nDragon Ball \nDrama \nFun Homer) \nGender Queer: A Memoir \nHabibi \nLaura Dean Keeps Breaking up with Me \nNew Kid \nSaga \nSandman \nSlaughterhouse-Five: the Graphic Novel \nThe Boy \nThe Complete Maus \nThe Walking Dead \nThey Called Us Enemy \nThis One Summer \nTo Kill a Mockingbird \nWatchmen \n 
URL:https://comicquest.org/event/banned-books-week/
LOCATION:Comic Quest\, 23811 Bridger #111 CA 92630\, Lake Forest\, CA\, 92630\, United States
CATEGORIES:Event
ATTACH;FMTTYPE=image/jpeg:https://comicquest.org/wp-content/uploads/2024/09/banned-book-week-logo.jpg
END:VEVENT
BEGIN:VEVENT
DTSTART;TZID=America/Los_Angeles:20240922T120000
DTEND;TZID=America/Los_Angeles:20240922T170000
DTSTAMP:20260424T192747
CREATED:20240525T211006Z
LAST-MODIFIED:20240917T181223Z
UID:10000919-1727006400-1727024400@comicquest.org
SUMMARY:Magic Prerelease -Duskmourn Sunday event
DESCRIPTION:Prerelease is your community’s first opportunity to get their hands on the newest Magic: The Gathering release and explore what the set has to offer\, and Prerelease Packs are the perfect product to fuel the first events of this new set. \n\n\n\n\n\n \n \n \n\nNew Magic The Gathering set prerelease events:  Duskmourn House of Horror. \nSaturday Sept 21.  Noon \nSunday Sept 22. Noon \n$33.99 \n  \nFIGHT TO SURVIVE IN A HOUSE OF NIGHTMARES—Dare to enter Duskmourn\, a plane-enveloping House that sets the scene for your opponent’s greatest fears to come to life \n  \nPrizes for participation and prizes for winning matches. \nAlso\, a limited edition custom time token while supplies last. \n  \nAlso don’t forget that packs and boxes are available starting Friday Sept 20.   With a cool buy-a-box card Twitching Doll
URL:https://comicquest.org/event/magic-prerelease-september-sunday-event/
LOCATION:Comic Quest\, 23811 Bridger #111 CA 92630\, Lake Forest\, CA\, 92630\, United States
CATEGORIES:Event,Magic,Tournament
ATTACH;FMTTYPE=image/jpeg:https://comicquest.org/wp-content/uploads/2023/03/magic_prerelease.jpg
END:VEVENT
END:VCALENDAR