BEGIN:VCALENDAR
VERSION:2.0
PRODID:-//Comic Quest - ECPv6.15.20//NONSGML v1.0//EN
CALSCALE:GREGORIAN
METHOD:PUBLISH
X-ORIGINAL-URL:https://comicquest.org
X-WR-CALDESC:Events for Comic Quest
REFRESH-INTERVAL;VALUE=DURATION:PT1H
X-Robots-Tag:noindex
X-PUBLISHED-TTL:PT1H
BEGIN:VTIMEZONE
TZID:UTC
BEGIN:STANDARD
TZOFFSETFROM:+0000
TZOFFSETTO:+0000
TZNAME:UTC
DTSTART:20230101T000000
END:STANDARD
END:VTIMEZONE
BEGIN:VTIMEZONE
TZID:Asia/Shanghai
BEGIN:STANDARD
TZOFFSETFROM:+0800
TZOFFSETTO:+0800
TZNAME:CST
DTSTART:20230101T000000
END:STANDARD
END:VTIMEZONE
BEGIN:VEVENT
DTSTART;VALUE=DATE:20241005
DTEND;VALUE=DATE:20241006
DTSTAMP:20260424T152957
CREATED:20240801T030137Z
LAST-MODIFIED:20241001T201301Z
UID:10000977-1728086400-1728172799@comicquest.org
SUMMARY:Warhammer 40\,000 RTT Tourney
DESCRIPTION:Comic Quest 40k RTT Tourney by Dicehammer. \nSaturday October 5th.  9:30 AM \n\n\n\n\n\n3 round ITC event. Missions and GW terrain layout TBD.\n\n\n2\,000 points. All players will receive 10 points for being Battle Ready.\n\n\n2h45m rounds. 30 minute lunch. Round 1 starts at 10AM. Chess clocks are recommended to keep games on track.\n\n\n\n\n\nLink to BCP (Best Coast Pairings) – Oct 5 RTT at CQ – sign up link\nhttps://www.bestcoastpairings.com/event/UXEJ3T61RL
URL:https://comicquest.org/event/warhammer-40000-rtt-tourney/
LOCATION:Comic Quest\, 23811 Bridger #111 CA 92630\, Lake Forest\, CA\, 92630\, United States
CATEGORIES:40K,Event,Tournament
ATTACH;FMTTYPE=image/jpeg:https://comicquest.org/wp-content/uploads/2023/01/40k-logo.jpg
END:VEVENT
BEGIN:VEVENT
DTSTART;VALUE=DATE:20241005
DTEND;VALUE=DATE:20241006
DTSTAMP:20260424T152957
CREATED:20240113T012419Z
LAST-MODIFIED:20240920T070529Z
UID:10000709-1728086400-1728172799@comicquest.org
SUMMARY:James Bond Day
DESCRIPTION:  \n 
URL:https://comicquest.org/event/james-bond-day-2/
LOCATION:Comic Quest\, 23811 Bridger #111 CA 92630\, Lake Forest\, CA\, 92630\, United States
CATEGORIES:Event
ATTACH;FMTTYPE=image/jpeg:https://comicquest.org/wp-content/uploads/2023/03/Bond_Day.jpg
END:VEVENT
BEGIN:VEVENT
DTSTART;VALUE=DATE:20241005
DTEND;VALUE=DATE:20241006
DTSTAMP:20260424T152957
CREATED:20241112T045037Z
LAST-MODIFIED:20241112T045037Z
UID:10001298-1728086400-1728172799@comicquest.org
SUMMARY:Banned Books Week
DESCRIPTION:Be a rebel and read a banned Graphic Novel \nOct 5 – 11 2025 \nhttps://guides.hmcpl.org/bannedbooks/comics \nBanned & Challenged Comics \n \nhttps://bannedbooksweek.org/11-challenged-and-banned-comics/ \n  \nhttps://libguides.calstatela.edu/c.php?g=1141475&p=9908198 \n  \nHere is a list of banned and challenged books we keep in stock: \n  \nAmerican Born Chinese \nBatman: The Dark Knight Strikes Again \nBatman: The Killing Joke \nBlankets \nBone \nDragon Ball \nDrama \nFun Homer) \nGender Queer: A Memoir \nHabibi \nLaura Dean Keeps Breaking up with Me \nNew Kid \nSaga \nSandman \nSlaughterhouse-Five: the Graphic Novel \nThe Boy \nThe Complete Maus \nThe Walking Dead \nThey Called Us Enemy \nThis One Summer \nTo Kill a Mockingbird \nWatchmen \n 
URL:https://comicquest.org/event/banned-books-week-2/
LOCATION:Comic Quest\, 23811 Bridger #111 CA 92630\, Lake Forest\, CA\, 92630\, United States
CATEGORIES:Event
ATTACH;FMTTYPE=image/jpeg:https://comicquest.org/wp-content/uploads/2024/09/banned-book-week-logo.jpg
END:VEVENT
BEGIN:VEVENT
DTSTART;TZID=Asia/Shanghai:20241005T110000
DTEND;TZID=Asia/Shanghai:20241005T140000
DTSTAMP:20260424T152957
CREATED:20241001T171510Z
LAST-MODIFIED:20241001T171510Z
UID:10001216-1728126000-1728136800@comicquest.org
SUMMARY:Board Game Demo - Zoomies
DESCRIPTION:FREE Board Game Demo Sushi Boat \n  \nFREE Board Game Demo: Zoomies \n  \nSaturday Oct 5. 11am – 2pm \nComic Quest is providing FREE demos of a fun board game. Learn in a couple of minutes\, it might be your next favorite game. \nAlso\, a discount on the game! \n  \nIn Zoomies\, you’re a dog walker helping your pups at the dog park make friends\, become the leader of the pack\, collect bones\, and get the zoomies. \nYour goal is to score the most points by matching a dog tile to the middle of the table and placing a scoring token on that tile. Tokens give you points based on adjacent dogs\, bone icons\, and more. \nPlay your dogs right and you can add points to a previous token while digging up a whole new way to score. At the end of the game\, score each token to see who’s top dog.
URL:https://comicquest.org/event/board-game-demo-zoomies/
LOCATION:Comic Quest\, 23811 Bridger #111 CA 92630\, Lake Forest\, CA\, 92630\, United States
CATEGORIES:Demo,Event
ATTACH;FMTTYPE=image/png:https://comicquest.org/wp-content/uploads/2024/10/zoomies_banner.png
END:VEVENT
END:VCALENDAR