BEGIN:VCALENDAR
VERSION:2.0
PRODID:-//Comic Quest - ECPv6.15.20//NONSGML v1.0//EN
CALSCALE:GREGORIAN
METHOD:PUBLISH
X-ORIGINAL-URL:https://comicquest.org
X-WR-CALDESC:Events for Comic Quest
REFRESH-INTERVAL;VALUE=DURATION:PT1H
X-Robots-Tag:noindex
X-PUBLISHED-TTL:PT1H
BEGIN:VTIMEZONE
TZID:Asia/Shanghai
BEGIN:STANDARD
TZOFFSETFROM:+0800
TZOFFSETTO:+0800
TZNAME:CST
DTSTART:20230101T000000
END:STANDARD
END:VTIMEZONE
BEGIN:VEVENT
DTSTART;VALUE=DATE:20241019
DTEND;VALUE=DATE:20241020
DTSTAMP:20260424T141226
CREATED:20231015T171826Z
LAST-MODIFIED:20241016T213216Z
UID:10000537-1729296000-1729382399@comicquest.org
SUMMARY:Ork-Tober Event
DESCRIPTION:Ork-tober! Sat/Sun  Oct 19 \nFREE Orc Mini with Purchase of $25 or More in Miniatures \nLimited  Supply so come early! \n20% OFF Sale on Orcs & Orks \n 
URL:https://comicquest.org/event/ork-tober-2/
LOCATION:Comic Quest\, 23811 Bridger #111 CA 92630\, Lake Forest\, CA\, 92630\, United States
CATEGORIES:Event
ATTACH;FMTTYPE=image/jpeg:https://comicquest.org/wp-content/uploads/2023/03/Orktober.jpg
END:VEVENT
BEGIN:VEVENT
DTSTART;VALUE=DATE:20241019
DTEND;VALUE=DATE:20241020
DTSTAMP:20260424T141226
CREATED:20240113T012701Z
LAST-MODIFIED:20240920T070658Z
UID:10000712-1729296000-1729382399@comicquest.org
SUMMARY:Durin's Day
DESCRIPTION:  \n 
URL:https://comicquest.org/event/durins-day-2/
LOCATION:Comic Quest\, 23811 Bridger #111 CA 92630\, Lake Forest\, CA\, 92630\, United States
CATEGORIES:Event
ATTACH;FMTTYPE=image/jpeg:https://comicquest.org/wp-content/uploads/2023/03/durins-day.jpg
END:VEVENT
BEGIN:VEVENT
DTSTART;TZID=Asia/Shanghai:20241019T110000
DTEND;TZID=Asia/Shanghai:20241019T140000
DTSTAMP:20260424T141226
CREATED:20241013T020853Z
LAST-MODIFIED:20241013T020853Z
UID:10001219-1729335600-1729346400@comicquest.org
SUMMARY:Board Game Demo - Mind Space
DESCRIPTION:FREE Board Game Demo: Mind Space \n  \nSaturday Oct 19. 11am – 2pm \nComic Quest is providing FREE demos of a fun board game. Learn in a couple of minutes\, it might be your next favorite game. \nAlso\, a discount on the game! \n  \nWhere is your mind? \nMind Space is a thoughtful game in which players are trying to achieve serenity by adding emotions to their Brain Board. \nEach emotion is represented by a polyomino shape. Five of the possible Seventeen emotion cards will be available each round\, and five rolled dice will determine which colors can be used to add those shapes to a Brain Board. \nAfter 12 rounds\, the game is scored\, and points can be earned by completing sections of the brain\, achieving public goal cards\, and meeting the organizational criteria of each color. The one section of each Brain Board with the most unfilled squares will result in a deduction of 1 point for each unfilled square in that section.
URL:https://comicquest.org/event/board-game-demo-mind-space/
LOCATION:Comic Quest\, 23811 Bridger #111 CA 92630\, Lake Forest\, CA\, 92630\, United States
CATEGORIES:Demo,Event
ATTACH;FMTTYPE=image/png:https://comicquest.org/wp-content/uploads/2024/10/Mind-space-vert-1.png
END:VEVENT
END:VCALENDAR