BEGIN:VCALENDAR
VERSION:2.0
PRODID:-//Comic Quest - ECPv6.15.20//NONSGML v1.0//EN
CALSCALE:GREGORIAN
METHOD:PUBLISH
X-ORIGINAL-URL:https://comicquest.org
X-WR-CALDESC:Events for Comic Quest
REFRESH-INTERVAL;VALUE=DURATION:PT1H
X-Robots-Tag:noindex
X-PUBLISHED-TTL:PT1H
BEGIN:VTIMEZONE
TZID:Asia/Shanghai
BEGIN:STANDARD
TZOFFSETFROM:+0800
TZOFFSETTO:+0800
TZNAME:CST
DTSTART:20230101T000000
END:STANDARD
END:VTIMEZONE
BEGIN:VTIMEZONE
TZID:America/Los_Angeles
BEGIN:DAYLIGHT
TZOFFSETFROM:-0800
TZOFFSETTO:-0700
TZNAME:PDT
DTSTART:20230312T100000
END:DAYLIGHT
BEGIN:STANDARD
TZOFFSETFROM:-0700
TZOFFSETTO:-0800
TZNAME:PST
DTSTART:20231105T090000
END:STANDARD
BEGIN:DAYLIGHT
TZOFFSETFROM:-0800
TZOFFSETTO:-0700
TZNAME:PDT
DTSTART:20240310T100000
END:DAYLIGHT
BEGIN:STANDARD
TZOFFSETFROM:-0700
TZOFFSETTO:-0800
TZNAME:PST
DTSTART:20241103T090000
END:STANDARD
BEGIN:DAYLIGHT
TZOFFSETFROM:-0800
TZOFFSETTO:-0700
TZNAME:PDT
DTSTART:20250309T100000
END:DAYLIGHT
BEGIN:STANDARD
TZOFFSETFROM:-0700
TZOFFSETTO:-0800
TZNAME:PST
DTSTART:20251102T090000
END:STANDARD
END:VTIMEZONE
BEGIN:VEVENT
DTSTART;VALUE=DATE:20241129
DTEND;VALUE=DATE:20241130
DTSTAMP:20260424T154634
CREATED:20240130T065649Z
LAST-MODIFIED:20241108T000504Z
UID:10000782-1732838400-1732924799@comicquest.org
SUMMARY:Thanksgiving - FREE Dice
DESCRIPTION:  \n \nOur Holiday Treat to you.\nNo purchase necessary\, just stop by Comic Quest.\nKeeping the 10+ year tradition of giving away holiday dice.\nLimited edition. Supplies can run out.
URL:https://comicquest.org/event/thanksgiving-free-dice-2/
LOCATION:Comic Quest\, 23811 Bridger #111 CA 92630\, Lake Forest\, CA\, 92630\, United States
CATEGORIES:Event
ATTACH;FMTTYPE=image/png:https://comicquest.org/wp-content/uploads/2024/11/Thanksgiving-2024-with-title-banner.png
END:VEVENT
BEGIN:VEVENT
DTSTART;VALUE=DATE:20241129
DTEND;VALUE=DATE:20241130
DTSTAMP:20260424T154634
CREATED:20240130T065835Z
LAST-MODIFIED:20241126T044101Z
UID:10000783-1732838400-1732924799@comicquest.org
SUMMARY:Black Friday Sale & EVENT DETAILS!!
DESCRIPTION:BLACK FRIDAY SALE & EVENT DETAILS!! We open early at 10am \n*FREE DICE!  Because we are thankful for you! \nThe Day after Thanksgiving.  Friday November 29th. \nOur Holiday Dice Tradition continues with our FREE Exclusive Ltd Edition CQ Holiday Dice. While Supplies Last. \nOpen early (10am) on Black Friday at Comic Quest \n*Holiday Scratchers are back!  Spend $20 or more on Black Friday & you get a CQ Holiday Scratcher Card. \n\nBring it back – unscratched – between Dec 7 & Dec 13\, 2024\, to reveal your Discount.\n\n  \nSALE!   SALE!    SALE!  SALE!  SALE! \n*25% OFF Back Issues (Does not Include Key Comics) \n*20% OFF all Graphic Novels \n*20% OFF all Miniatures \n*20% OFF all UGear Mechanical Models (Made in Ukraine) \n*20% OFF all Puzzles \n  \nDoor Busters. 50% Off \nGraphic Novel = Alan Moore’s ‘From Hell’ \nGraphic Novel = Daniel Clowes ‘Monica’ \nGraphic Novel = Batman: The World HC \nAll Star Wars X-Wing \nAll Star Wars Armada \nD&D: Bixby Presents: Glory of the Giants \nD&D: Journey Through the Radiant Citadel \nD&D: Dragonlance Shadow of the Dragon Queen Deluxe Edition \nPOP! Pokémon Wooloo \n  \nDoor Busters. 40% Off \nBoardgame: Root Clockwork Expansion 2 \nMiniature Game: Heroscape base game \nMiniature Game: Marvel Crisis Protocol base game \nMiniature Game: Star Wars Shatterpoint base game \nMiniature Game: Marvel Zombies Core Box \nBoardgame/Miniature: Frosthaven \n  \nDoor Busters. 30% Off \nPlaymats: All Magic the Gathering Playmats \nDeck Boxes = Lorcana Mulan & Sisu. \n  \nDoor Busters. Crazy Deals in Limited Quantities: \nPokémon TCG: Paldea Fates Tins (Black Tin and Green Tin) $21.00 \nPokémon TCG: Build & Battle BOXES: \n*Paldea Evolved $14.99 \n*Scarlet & Violet $14.99 \n*Twilight Masquerade $14.99 \n*Temporal Forces $14.99 \n* Paradox Rift $14.99 \nPokémon TCG: Build & Battle STADIUMS \n* Paldea Evolved Stadium $40.00 \n* Paradox Rift Stadium      $35.00 \n*Magic: Murders at Karlov Manor PLAY Booster Box $99.99 \n*Magic: Outlaws of Thunder Junction PLAY Booster Box $122.49 \n*Lorcana: Azurite Sea TROVE    $32.00 \n*Lorcana: Azurite Sea COLLECTOR SET STITCH $32.00 \n*Lorcana: Into the Inklands GIFT SET   $20.00 \n*Lorcana: Shimmering Skies Booster Box $85.99 \n*Lorcana: Rise of the Floodborn Starter Deck (Amber & Sapphire) $9.00 \n*Lorcana: Rise of the Floodborn Starter Deck (Amethyst & Steel) $13.00 \n*Lorcana: Into the Inklands Starter Decks $7.00 ea \n*Star Wars Unlimited: Twilight of the Republic Booster Boxes $68.99 \n  \n  \n 
URL:https://comicquest.org/event/black-friday-sale-event-details/
LOCATION:Comic Quest\, 23811 Bridger #111 CA 92630\, Lake Forest\, CA\, 92630\, United States
CATEGORIES:Event
ATTACH;FMTTYPE=image/jpeg:https://comicquest.org/wp-content/uploads/2023/03/Black_Friday_Logo.jpg
END:VEVENT
BEGIN:VEVENT
DTSTART;TZID=America/Los_Angeles:20241129T180000
DTEND;TZID=America/Los_Angeles:20241129T220000
DTSTAMP:20260424T154634
CREATED:20240130T064235Z
LAST-MODIFIED:20240130T064309Z
UID:10000772-1732903200-1732917600@comicquest.org
SUMMARY:Friday Night Magic
DESCRIPTION:Friday Night Magic! Come Join the fun! \nModern and Commander Formats. \nOn occasion sealed & draft around new set launches. \nPlease join our Facebook group. \nhttps://www.facebook.com/groups/426423864154241/
URL:https://comicquest.org/event/friday-night-magic-90/
LOCATION:Comic Quest\, 23811 Bridger #111 CA 92630\, Lake Forest\, CA\, 92630\, United States
CATEGORIES:Event,Magic,Tournament
ATTACH;FMTTYPE=image/jpeg:https://comicquest.org/wp-content/uploads/2023/01/Friday-Night-Magic.jpg
END:VEVENT
END:VCALENDAR