BEGIN:VCALENDAR
VERSION:2.0
PRODID:-//Comic Quest - ECPv6.15.20//NONSGML v1.0//EN
CALSCALE:GREGORIAN
METHOD:PUBLISH
X-WR-CALNAME:Comic Quest
X-ORIGINAL-URL:https://comicquest.org
X-WR-CALDESC:Events for Comic Quest
REFRESH-INTERVAL;VALUE=DURATION:PT1H
X-Robots-Tag:noindex
X-PUBLISHED-TTL:PT1H
BEGIN:VTIMEZONE
TZID:UTC
BEGIN:STANDARD
TZOFFSETFROM:+0000
TZOFFSETTO:+0000
TZNAME:UTC
DTSTART:20230101T000000
END:STANDARD
END:VTIMEZONE
BEGIN:VTIMEZONE
TZID:Asia/Shanghai
BEGIN:STANDARD
TZOFFSETFROM:+0800
TZOFFSETTO:+0800
TZNAME:CST
DTSTART:20230101T000000
END:STANDARD
END:VTIMEZONE
BEGIN:VEVENT
DTSTART;TZID=UTC:20241130T093000
DTEND;TZID=UTC:20241130T180000
DTSTAMP:20260424T141429
CREATED:20241106T022131Z
LAST-MODIFIED:20241128T012330Z
UID:10001242-1732959000-1732989600@comicquest.org
SUMMARY:Star Wars Shatterpoint Tournament
DESCRIPTION:Star Wars Shatterpoint Tournament \n\n\n\n\n\n\nCome join us at Comic Quest in Lake Forest for a Star Wars Shatterpoint Tournament!\n\n\n\nSaturday\, November 30th\n9:30 am Registration\n10 am Round 1\n1 pm Round 2\n 3 pm Round 3\n\nDetails \n– $15 Entry Fee – All $$ goes to prize pool (CQ store credit) \n– If you have Terrain and a mat\, please bring it or check with TO: Eric Del Priore. \n– You may bring \n\n2 squads (a normal strike force) OR\n4 (a premiere list). If you opt to bring 4 squads\, you must follow the premiere format rules (each squad must be played once).\n\nEvery participant will get a promotional order card! \nPlease register on longshanks in advance https://shatterpoint.longshanks.org/event/21207/ \nJoin our CQ General Discord\, and scroll to the Star Wars Shatterpoint Channel section.
URL:https://comicquest.org/event/star-wars-shatterpoint-5/
LOCATION:Comic Quest\, 23811 Bridger #111 CA 92630\, Lake Forest\, CA\, 92630\, United States
CATEGORIES:Event,Star Wars Shatterpoint,Tournament
ATTACH;FMTTYPE=image/png:https://comicquest.org/wp-content/uploads/2023/05/shatterpoint_logo.png
END:VEVENT
BEGIN:VEVENT
DTSTART;TZID=Asia/Shanghai:20241130T190000
DTEND;TZID=Asia/Shanghai:20241130T210000
DTSTAMP:20260424T141429
CREATED:20241030T225005Z
LAST-MODIFIED:20241127T214543Z
UID:10001239-1732993200-1733000400@comicquest.org
SUMMARY:Star Wars Holiday Special
DESCRIPTION:Star Wars Holiday Special \nSaturday Nov 30th. 7pm \nFREE \nJoin our viewing party! \nCome watch the worst Star Wars movie of all time!\nBack in the 1970’s\, they filmed (and televised) this terrible Holiday TV special with the original Star Wars actors.\nThose who were in it\, disavow its existence. Those who have seen it\, are scarred and shamed. \nEach year you ask us to show it again\, so if you want to suffer\, we won’t stop you. \nComic Quest will be projecting it at the store\, popcorn will be provided\, and snide comments are recommended. \n 
URL:https://comicquest.org/event/star-wars-holiday-special/
LOCATION:Comic Quest\, 23811 Bridger #111 CA 92630\, Lake Forest\, CA\, 92630\, United States
CATEGORIES:Event
ATTACH;FMTTYPE=image/jpeg:https://comicquest.org/wp-content/uploads/2024/10/star-wars-holiday-special-banner2.jpg
END:VEVENT
END:VCALENDAR