BEGIN:VCALENDAR
VERSION:2.0
PRODID:-//Comic Quest - ECPv6.15.20//NONSGML v1.0//EN
CALSCALE:GREGORIAN
METHOD:PUBLISH
X-WR-CALNAME:Comic Quest
X-ORIGINAL-URL:https://comicquest.org
X-WR-CALDESC:Events for Comic Quest
REFRESH-INTERVAL;VALUE=DURATION:PT1H
X-Robots-Tag:noindex
X-PUBLISHED-TTL:PT1H
BEGIN:VTIMEZONE
TZID:Asia/Shanghai
BEGIN:STANDARD
TZOFFSETFROM:+0800
TZOFFSETTO:+0800
TZNAME:CST
DTSTART:20240101T000000
END:STANDARD
END:VTIMEZONE
BEGIN:VEVENT
DTSTART;VALUE=DATE:20250310
DTEND;VALUE=DATE:20250311
DTSTAMP:20260424T054209
CREATED:20240828T022409Z
LAST-MODIFIED:20250309T051109Z
UID:10001070-1741564800-1741651199@comicquest.org
SUMMARY:Mario Day
DESCRIPTION:Mario Day! Sale!\n\n\nMarch 10 is Mario Day.\n\n\n20% OFF all Mario and Mario related cool stuff\n\n\nPins\n\n\nGraphic Novels\n\n\nPuzzles\n\n\nToys\n\n\nand More.
URL:https://comicquest.org/event/mario-day-4/
LOCATION:Comic Quest\, 23811 Bridger #111 CA 92630\, Lake Forest\, CA\, 92630\, United States
CATEGORIES:Event
ATTACH;FMTTYPE=image/gif:https://comicquest.org/wp-content/uploads/2023/09/mario-day-animated.gif
END:VEVENT
END:VCALENDAR