BEGIN:VCALENDAR
VERSION:2.0
PRODID:-//Comic Quest - ECPv6.15.20//NONSGML v1.0//EN
CALSCALE:GREGORIAN
METHOD:PUBLISH
X-ORIGINAL-URL:https://comicquest.org
X-WR-CALDESC:Events for Comic Quest
REFRESH-INTERVAL;VALUE=DURATION:PT1H
X-Robots-Tag:noindex
X-PUBLISHED-TTL:PT1H
BEGIN:VTIMEZONE
TZID:America/Los_Angeles
BEGIN:DAYLIGHT
TZOFFSETFROM:-0800
TZOFFSETTO:-0700
TZNAME:PDT
DTSTART:20240310T100000
END:DAYLIGHT
BEGIN:STANDARD
TZOFFSETFROM:-0700
TZOFFSETTO:-0800
TZNAME:PST
DTSTART:20241103T090000
END:STANDARD
BEGIN:DAYLIGHT
TZOFFSETFROM:-0800
TZOFFSETTO:-0700
TZNAME:PDT
DTSTART:20250309T100000
END:DAYLIGHT
BEGIN:STANDARD
TZOFFSETFROM:-0700
TZOFFSETTO:-0800
TZNAME:PST
DTSTART:20251102T090000
END:STANDARD
BEGIN:DAYLIGHT
TZOFFSETFROM:-0800
TZOFFSETTO:-0700
TZNAME:PDT
DTSTART:20260308T100000
END:DAYLIGHT
BEGIN:STANDARD
TZOFFSETFROM:-0700
TZOFFSETTO:-0800
TZNAME:PST
DTSTART:20261101T090000
END:STANDARD
END:VTIMEZONE
BEGIN:VEVENT
DTSTART;VALUE=DATE:20250404
DTEND;VALUE=DATE:20250405
DTSTAMP:20260424T083754
CREATED:20250219T000811Z
LAST-MODIFIED:20250328T193123Z
UID:10001482-1743724800-1743811199@comicquest.org
SUMMARY:Tarkir Dragonstorm -New Magic Set Early Release
DESCRIPTION:There Be Dragons!\n\n\n\n\nNew Magic Set Early Release Date = Friday April 4th \nFor FLGS stores \n\n\n\nPreOrders now available for Product & PreRelease\nBooster Boxes Play & Collector\nPreRelease Sign ups.\n*Commander Decks & Bundles available at Launch \n\n\n\n\n\n\n\nPrerelease is your community’s first opportunity to get their hands on the newest Magic: The Gathering release and explore what the set has to offer\, and Prerelease Packs are the perfect product to fuel the first events of this new set. \n\n\n\n\n\nMagic the Gathering: Tarkir Dragonstorm \nPreRelease Event = Sat& Sun April 5 & April 6 = 12pm Noon both dates. \nStay tuned to our Socials and Discords for updates and news. \n\n\n\n \n  \n  \n  \n 
URL:https://comicquest.org/event/tarkir-dragonstorm-new-magic-set-early-release/
LOCATION:Comic Quest\, 23811 Bridger #111 CA 92630\, Lake Forest\, CA\, 92630\, United States
CATEGORIES:Event,Magic,Tournament
ATTACH;FMTTYPE=image/png:https://comicquest.org/wp-content/uploads/2023/09/magic_the_gathering_logo.png
END:VEVENT
BEGIN:VEVENT
DTSTART;TZID=America/Los_Angeles:20250404T180000
DTEND;TZID=America/Los_Angeles:20250404T220000
DTSTAMP:20260424T083754
CREATED:20240828T070308Z
LAST-MODIFIED:20240828T070308Z
UID:10001115-1743789600-1743804000@comicquest.org
SUMMARY:Friday Night Magic
DESCRIPTION:Friday Night Magic! Come Join the fun! \nModern and Commander Formats. \nOn occasion sealed & draft around new set launches. \nPlease join our Facebook group. \nhttps://www.facebook.com/groups/426423864154241/
URL:https://comicquest.org/event/friday-night-magic-109/
LOCATION:Comic Quest\, 23811 Bridger #111 CA 92630\, Lake Forest\, CA\, 92630\, United States
CATEGORIES:Event,Magic,Tournament
ATTACH;FMTTYPE=image/jpeg:https://comicquest.org/wp-content/uploads/2023/01/Friday-Night-Magic.jpg
END:VEVENT
END:VCALENDAR