BEGIN:VCALENDAR
VERSION:2.0
PRODID:-//Comic Quest - ECPv6.15.20//NONSGML v1.0//EN
CALSCALE:GREGORIAN
METHOD:PUBLISH
X-ORIGINAL-URL:https://comicquest.org
X-WR-CALDESC:Events for Comic Quest
REFRESH-INTERVAL;VALUE=DURATION:PT1H
X-Robots-Tag:noindex
X-PUBLISHED-TTL:PT1H
BEGIN:VTIMEZONE
TZID:UTC
BEGIN:STANDARD
TZOFFSETFROM:+0000
TZOFFSETTO:+0000
TZNAME:UTC
DTSTART:20240101T000000
END:STANDARD
END:VTIMEZONE
BEGIN:VTIMEZONE
TZID:Asia/Shanghai
BEGIN:STANDARD
TZOFFSETFROM:+0800
TZOFFSETTO:+0800
TZNAME:CST
DTSTART:20240101T000000
END:STANDARD
END:VTIMEZONE
BEGIN:VEVENT
DTSTART;VALUE=DATE:20250628
DTEND;VALUE=DATE:20250629
DTSTAMP:20260424T004117
CREATED:20250425T210304Z
LAST-MODIFIED:20250425T210304Z
UID:10001516-1751068800-1751155199@comicquest.org
SUMMARY:Mini Club Turn In - Darkrasp Death Priest
DESCRIPTION:Every two months we select a unique miniature\, and offer it for 25% Off for everyone.   Then at the end of the period\, painters turn their miniatures in for an exhibition. Everyone paints the same miniature\, but do in in unique ways.  Color choices\, techniques\, conversation\, etc. \nThe new mini club is available. \nDarkrasp Death Priest \nTurn in is Saturday June 30th \n\n\n\n\n  \nThe Mini-Club turn in date is this Saturday. Get to the finishing touches (or you should start now?). \n\nTurn in your mini on Saturday\nWe take glamour shots of all the minis that night\nLeave your mini for display (if you can) for a few days.\nThen sometime during the week pick up your mini\, and you get another mini for FREE!
URL:https://comicquest.org/event/mini-club-turn-in-darkrasp-death-priest/
LOCATION:Comic Quest\, 23811 Bridger #111 CA 92630\, Lake Forest\, CA\, 92630\, United States
CATEGORIES:Event,Mini Club
ATTACH;FMTTYPE=image/png:https://comicquest.org/wp-content/uploads/2025/04/darkrasp-June-2025.png
END:VEVENT
BEGIN:VEVENT
DTSTART;TZID=UTC:20250628T100000
DTEND;TZID=UTC:20250628T193000
DTSTAMP:20260424T004117
CREATED:20250529T082826Z
LAST-MODIFIED:20250610T234450Z
UID:10001535-1751104800-1751139000@comicquest.org
SUMMARY:Conquest Casual Tournament
DESCRIPTION:Conquest Casual Tournament \nSaturday JUNE 28 \nRegistration: 10:00am \nGames Start time: 10:30am Sharp. Dice start Rolling \nEntry fee: $10.00 \nFormat: 3 Rounds\, Ranked. 2000 points. (Using the latest Rules) \nSign-ups: Longshanks — Link https://www.longshanks.org/event/26229/ \nNo Painting Requirement (Prize for best painted\, however!!)Prizes & Aghm Points! \n  \n  \n  \n 
URL:https://comicquest.org/event/conquest-casual-tournament-5/
LOCATION:Comic Quest\, 23811 Bridger #111 CA 92630\, Lake Forest\, CA\, 92630\, United States
CATEGORIES:Conquest,Event,Tournament
ATTACH;FMTTYPE=image/webp:https://comicquest.org/wp-content/uploads/2024/03/conquest_logo.webp
END:VEVENT
BEGIN:VEVENT
DTSTART;TZID=Asia/Shanghai:20250628T120000
DTEND;TZID=Asia/Shanghai:20250628T150000
DTSTAMP:20260424T004117
CREATED:20250623T013601Z
LAST-MODIFIED:20250623T013601Z
UID:10001556-1751112000-1751122800@comicquest.org
SUMMARY:Board Game Demo - Star Wars Unlimited
DESCRIPTION:FREE Board Game Demo: Star Wars Unlimited \nSaturday Jun 28 Noon – 3pm \nComic Quest is providing a FREE demos of Star Wars Unlimited Card Game. Learn in a couple of minutes\, it might be your next favorite game. \n\nPlus\, a discount on the starter decks all day!\nPlus\, 4 Free Booster Packs! (2 Jump to Lightspeed & 2 Twilight of the Republic).\n\nStar Wars: Unlimited is a trading card game set in the Star Wars universe\, designed for two-player competitive play. Players build decks using cards featuring characters\, ships\, and events from across the Star Wars galaxy. The game emphasizes strategic deck building and tactical decision-making\, with a focus on player interaction and engaging gameplay. \n\n 
URL:https://comicquest.org/event/board-game-demo-star-wars-unlimited-2/
LOCATION:Comic Quest\, 23811 Bridger #111 CA 92630\, Lake Forest\, CA\, 92630\, United States
CATEGORIES:Demo,Event
ATTACH;FMTTYPE=image/png:https://comicquest.org/wp-content/uploads/2025/06/star-wars-unl-banner.png
END:VEVENT
END:VCALENDAR