BEGIN:VCALENDAR
VERSION:2.0
PRODID:-//Comic Quest - ECPv6.15.20//NONSGML v1.0//EN
CALSCALE:GREGORIAN
METHOD:PUBLISH
X-ORIGINAL-URL:https://comicquest.org
X-WR-CALDESC:Events for Comic Quest
REFRESH-INTERVAL;VALUE=DURATION:PT1H
X-Robots-Tag:noindex
X-PUBLISHED-TTL:PT1H
BEGIN:VTIMEZONE
TZID:Asia/Shanghai
BEGIN:STANDARD
TZOFFSETFROM:+0800
TZOFFSETTO:+0800
TZNAME:CST
DTSTART:20240101T000000
END:STANDARD
END:VTIMEZONE
BEGIN:VEVENT
DTSTART;TZID=Asia/Shanghai:20250812T180000
DTEND;TZID=Asia/Shanghai:20250812T210000
DTSTAMP:20260423T220606
CREATED:20241112T041815Z
LAST-MODIFIED:20250714T104228Z
UID:10001247-1755021600-1755032400@comicquest.org
SUMMARY:Lorcana Night
DESCRIPTION:WEEKLY LORCANA at COMIC QUEST. \nTuesdays – 6pm to 9pm. \nCasual League play – 2 game format. 3 – 4 rounds. \nConstructed – bring your own deck! \nNew Weekly League Season – REIGN OF JAFAR!! \nReign of Jafar – Lorcana League Season – 6/3 – 8/19/25 \nCome Join Us for weekly play. \nEarn points for weekly random prizes – Pins\, Promo cards and more! \nWays to Earn Points: \n\n1. Pick from one of the deck themes (1 point)\n2. Wear your Disney garb/merch. Wear something with Disney on it. Pins\, Hats\, Socks\, Shirts\, Shoes\, etc (1 point) (Marvel and Star Wars do not count)\n3. Bring a friend that’s new to the league (1 point)\n4. Teach someone to play (5 points. Must spend a total of 1.5 hours minimum teaching someone how to play\, proper play strategies\, deck building\, etc)\n5. Win a match in “Best of 2 (2 Game Format)” = 2 points. Tie = 1 point each. Lose = 1 point.\n6. Bring cards to trade\n7.Play a group game.\n8.Beat Palace Heist.\n9. FOUR OF A KIND: In a single turn\, Play four characters with the same name (4 points).\n\n& More! Details provided during league. \nPrizes will still be given out weekly and at random. While everyone who comes to the league will receive one entry for prize wheel of randomness\, \nDECK THEMES (unless stated otherwise\, points earned from deck themes can only be earned in the 2 Game Format matches\, once per unique match.). 1 x per league season. \nNOTE: TOTAL POINTS FOR THE FULL 12 WEEKS OF LEAGUE will be factored in for the last week of Prize Outs for the League (Amythest Ink symbol Pins\, Red Deck boxes\, Lore counters\, extra promo cards + CQ Pin). So\, your weekly points DO and WILL count towards MORE prizing. \nDECK THEMES – REIGN OF JAFAR League Season \n\nINK CASTER: On your turn\, play 2 dual ink cards.\nA WHOLE NEW SHIFT: On your turn\, Shift onto a character of a different name (Baymax (universal Shift\, morph\, Thunderbolt (Puppy shift)\, etc)\nROYAL BALL (survey recommended): Have Four Princesses and Four Princes in play until the start of your next turn.\,\nOHANA: On your turn\, have a parent/grandparent/legal guardian and child in play (Duchess and Marie\, Belle and Maurice\, Moana and Grandma Tala\, Bambi and… wait…)\,\nBREAKFAST CLUB (survey recommended): build a deck consisting of all of ONE of the following archetypes: INVENTOR\, HERO\, ALLY\, PRINCESS\, VILLAIN (Bonus point: the characters in your deck cannot share keywords [ie. you cannot have a character card that is a hero and an inventor]. Deck must be verified by TO.\nCOUPLE GOALS: Play a Disney Couple (Beast & Belle\, Aurora and Philip\, Rapunzel and Flynn Rider) on your turn.\,\nBOARD WIPE (survey recommended): Banish 4 or more characters in a single turn.\,\nTEAMWORK: Give another character an ability such as Evasive or Ward or ……..\nFRANCHISE PLAYER: Play a deck using cards from a single movie franchise (Aladdin\, Lady & Tramp\, etc). As this may be difficult for some franchises\, a list of franchises with number of cards is provided. For each Franchise some supplemental cards from the Disney Lorcana franchise are allowed as indicated on the chart. TO must confirm/verify deck.\nNO RULES (survey recommended): Play a deck with banned cards (current: Hiram\, Fortisphere)\nBEST FRIENDS: On your turn\, Play a pet and the owner (Mickey and Pluto\, Kristoff and Sven\, Anna and Olaf\, Lilo and Stitch\, …).\nILLUSIONS: Play an Illusion Character AND Make an Illusion Vanish (Hint: The Illusion does not have to be your opponent’s Illusion)\n\nNOTE: For Deck Themes # 5\, 9 & 10 – *do another theme – the thing – during a match for an extra point per match if accomplished.
URL:https://comicquest.org/event/lorcana-night-80/
LOCATION:Comic Quest\, 23811 Bridger #111 CA 92630\, Lake Forest\, CA\, 92630\, United States
CATEGORIES:Event,Lorcana
ATTACH;FMTTYPE=image/jpeg:https://comicquest.org/wp-content/uploads/2023/04/loracana.jpg
END:VEVENT
END:VCALENDAR