BEGIN:VCALENDAR
VERSION:2.0
PRODID:-//Comic Quest - ECPv6.15.20//NONSGML v1.0//EN
CALSCALE:GREGORIAN
METHOD:PUBLISH
X-WR-CALNAME:Comic Quest
X-ORIGINAL-URL:https://comicquest.org
X-WR-CALDESC:Events for Comic Quest
REFRESH-INTERVAL;VALUE=DURATION:PT1H
X-Robots-Tag:noindex
X-PUBLISHED-TTL:PT1H
BEGIN:VTIMEZONE
TZID:Asia/Shanghai
BEGIN:STANDARD
TZOFFSETFROM:+0800
TZOFFSETTO:+0800
TZNAME:CST
DTSTART:20240101T000000
END:STANDARD
END:VTIMEZONE
BEGIN:VTIMEZONE
TZID:UTC
BEGIN:STANDARD
TZOFFSETFROM:+0000
TZOFFSETTO:+0000
TZNAME:UTC
DTSTART:20240101T000000
END:STANDARD
END:VTIMEZONE
BEGIN:VEVENT
DTSTART;VALUE=DATE:20250927
DTEND;VALUE=DATE:20250928
DTSTAMP:20260423T205419
CREATED:20241112T045259Z
LAST-MODIFIED:20241112T045535Z
UID:10001300-1758931200-1759017599@comicquest.org
SUMMARY:Local Comic Shop Day
DESCRIPTION:Local Comic Shop Day\n\n\n\n\n\nVISIT YOUR LOCAL COMIC SHOP THIS SATURDAY – SEP 27 – LOCAL COMIC SHOP DAY! \n\n\n\n\nLocal Comic Shop Day® is a day to celebrate all of the independently owned comic shops that have played (and continue to play) an important role in comic fandom. \n \nUnique variants available for purchase. \n\n\n\n\n 
URL:https://comicquest.org/event/local-comic-shop-day-2/
LOCATION:Comic Quest\, 23811 Bridger #111 CA 92630\, Lake Forest\, CA\, 92630\, United States
CATEGORIES:Event
ATTACH;FMTTYPE=image/png:https://comicquest.org/wp-content/uploads/2024/09/local-comic-shop-day-logo.png
END:VEVENT
BEGIN:VEVENT
DTSTART;TZID=UTC:20250927T103000
DTEND;TZID=UTC:20250927T180000
DTSTAMP:20260423T205419
CREATED:20250730T232750Z
LAST-MODIFIED:20250922T182842Z
UID:10002103-1758969000-1758996000@comicquest.org
SUMMARY:Kill Team RTT Tournament
DESCRIPTION:Kill Team Tournament \nIt’s the last practice event before LVO at Comic Quest! \nSunday SEPTEMBER 27\, 2025 \n\nCheck-in = 10:30am\nRound 1 starts = 11:00am\nEntry Fee = $10. Goes to Prize Support\n3 rounds\, 2 hours each\, with a lunch in the middle!\n\nSign up  = Link & Details  on BCP (Best Coast Pairings) = https://www.bestcoastpairings.com/event/IaNy8Cz40ALd \nITC points!!! \nThis will be a 3 round 2hour per round event starting at 11am to 6pm. \n\n\n$10 fee will be used for prize support \nRegistration 10:30am-11:00am \nRound One: 11:00am-1:00 pm \nLunch 1:00pm-1:30pm \nRound Two: 1:30pm-3:30pm \nRound Three 3:45pm-5:45pm \n  \n \n  \n  \n \n 
URL:https://comicquest.org/event/kill-team-rtt-tournament/
LOCATION:Comic Quest\, 23811 Bridger #111 CA 92630\, Lake Forest\, CA\, 92630\, United States
CATEGORIES:40K,Event,Tournament
ATTACH;FMTTYPE=image/jpeg:https://comicquest.org/wp-content/uploads/2023/03/Killteam.jpg
END:VEVENT
END:VCALENDAR