BEGIN:VCALENDAR
VERSION:2.0
PRODID:-//Comic Quest - ECPv6.15.20//NONSGML v1.0//EN
CALSCALE:GREGORIAN
METHOD:PUBLISH
X-ORIGINAL-URL:https://comicquest.org
X-WR-CALDESC:Events for Comic Quest
REFRESH-INTERVAL;VALUE=DURATION:PT1H
X-Robots-Tag:noindex
X-PUBLISHED-TTL:PT1H
BEGIN:VTIMEZONE
TZID:UTC
BEGIN:STANDARD
TZOFFSETFROM:+0000
TZOFFSETTO:+0000
TZNAME:UTC
DTSTART:20250101T000000
END:STANDARD
END:VTIMEZONE
BEGIN:VEVENT
DTSTART;TZID=UTC:20260111T103000
DTEND;TZID=UTC:20260111T173000
DTSTAMP:20260423T154325
CREATED:20251224T200734Z
LAST-MODIFIED:20260103T012516Z
UID:10003795-1768127400-1768152600@comicquest.org
SUMMARY:Warhammer Age of Sigmar SPEARHEAD
DESCRIPTION:Warhammer Age of Sigmar SPEARHEAD \nSUNDAY  JANUARY 11  \nSign up Link & Event Details: \n\nBCP link  = Sign up here: https://www.bestcoastpairings.com/event/PHsDiGithGxF\nDETAILS:\n\n10:30am\n3 Round Spearhead Tournament\nCost:$10\n90 min rounds\nPlease bring your copy of Spearhead Sand and Bone along with your cards\n\n\n\nHope to see you there!!!! \nJoin our Discord = https://discord.gg/GKGFRbn3gx \n  \n  \n 
URL:https://comicquest.org/event/warhammer-age-of-sigmar-spearhead/
LOCATION:Comic Quest\, 23811 Bridger #111 CA 92630\, Lake Forest\, CA\, 92630\, United States
CATEGORIES:Event,Tournament,Warhammer Age of SIgmar
ATTACH;FMTTYPE=image/jpeg:https://comicquest.org/wp-content/uploads/2025/12/WarHammer-Age-of-Sigmar-Spearhead.jpg
END:VEVENT
BEGIN:VEVENT
DTSTART;TZID=UTC:20260111T110000
DTEND;TZID=UTC:20260111T160000
DTSTAMP:20260423T154325
CREATED:20240819T221011Z
LAST-MODIFIED:20260110T004346Z
UID:10000994-1768129200-1768147200@comicquest.org
SUMMARY:Paint & Hobby Day
DESCRIPTION:PAINT & HOBBY DAY! \n\nSunday JANURAY 11 – 11:00am to 4:00pm\n\n\n\n\n\n\n\n-Come paint with other painters. \n-Bring your latest miniature or terrain project\, paint/craft\, and hang out with other painters. \n-Get tips & tricks from Master Painter Octave Villar. Need mini priming? We’ll have that available.\n\n\nWhat to bring? \nWhatever you want to work on.\nSome examples: \n\nYour current WIP (work in progress)\nYour fav mini you are dying to paint.\nAny current terrain you’re working on.\nYour favorite brush.\nYour favorite paint.\n\nComic Quest will provide: \n\n*Miniature Priming available on site.\n*We will have paint available for use\, (but if there are certain colors you need – bring those to be sure you have what you need.)\n*Master Painter Octave – will be on site for guidance\, tips & tricks.\n*Paint pallets
URL:https://comicquest.org/event/paint-hobby-day/
LOCATION:Comic Quest\, 23811 Bridger #111 CA 92630\, Lake Forest\, CA\, 92630\, United States
CATEGORIES:Event,Paint Day
ATTACH;FMTTYPE=image/png:https://comicquest.org/wp-content/uploads/2024/08/paint-hobby-day-Aug-24.png
END:VEVENT
END:VCALENDAR