BEGIN:VCALENDAR
VERSION:2.0
PRODID:-//Comic Quest - ECPv6.15.20//NONSGML v1.0//EN
CALSCALE:GREGORIAN
METHOD:PUBLISH
X-ORIGINAL-URL:https://comicquest.org
X-WR-CALDESC:Events for Comic Quest
REFRESH-INTERVAL;VALUE=DURATION:PT1H
X-Robots-Tag:noindex
X-PUBLISHED-TTL:PT1H
BEGIN:VTIMEZONE
TZID:America/Los_Angeles
BEGIN:DAYLIGHT
TZOFFSETFROM:-0800
TZOFFSETTO:-0700
TZNAME:PDT
DTSTART:20250309T100000
END:DAYLIGHT
BEGIN:STANDARD
TZOFFSETFROM:-0700
TZOFFSETTO:-0800
TZNAME:PST
DTSTART:20251102T090000
END:STANDARD
BEGIN:DAYLIGHT
TZOFFSETFROM:-0800
TZOFFSETTO:-0700
TZNAME:PDT
DTSTART:20260308T100000
END:DAYLIGHT
BEGIN:STANDARD
TZOFFSETFROM:-0700
TZOFFSETTO:-0800
TZNAME:PST
DTSTART:20261101T090000
END:STANDARD
BEGIN:DAYLIGHT
TZOFFSETFROM:-0800
TZOFFSETTO:-0700
TZNAME:PDT
DTSTART:20270314T100000
END:DAYLIGHT
BEGIN:STANDARD
TZOFFSETFROM:-0700
TZOFFSETTO:-0800
TZNAME:PST
DTSTART:20271107T090000
END:STANDARD
END:VTIMEZONE
BEGIN:VTIMEZONE
TZID:Asia/Shanghai
BEGIN:STANDARD
TZOFFSETFROM:+0800
TZOFFSETTO:+0800
TZNAME:CST
DTSTART:20250101T000000
END:STANDARD
END:VTIMEZONE
BEGIN:VEVENT
DTSTART;TZID=America/Los_Angeles:20260328T100000
DTEND;TZID=America/Los_Angeles:20260328T170000
DTSTAMP:20260423T125450
CREATED:20251204T212115Z
LAST-MODIFIED:20260118T003434Z
UID:10003786-1774692000-1774717200@comicquest.org
SUMMARY:Riftbound League of Legends TCG - Summoner Skirmish
DESCRIPTION:Riftbound League of Legends TCG Summoner Skirmish \nSaturday March 28\, 2026\n10:00am Check in.\n10:30am Round 1 \nFormat:\n1v1 Constructed\, Best of 3 Matches; Tournament Rules are available for reference \nSwiss Rounds with Top Cut \n**Entry Fee = TBA soon! \nPrizes = TBA
URL:https://comicquest.org/event/riftbound-league-of-legends-tcg-summoner-skirmish-3/
LOCATION:Comic Quest\, 23811 Bridger #111 CA 92630\, Lake Forest\, CA\, 92630\, United States
CATEGORIES:Event
ATTACH;FMTTYPE=image/jpeg:https://comicquest.org/wp-content/uploads/2025/09/RiftboundOG.jpg
END:VEVENT
BEGIN:VEVENT
DTSTART;TZID=Asia/Shanghai:20260328T120000
DTEND;TZID=Asia/Shanghai:20260328T150000
DTSTAMP:20260423T125450
CREATED:20260323T031107Z
LAST-MODIFIED:20260323T031107Z
UID:10004299-1774699200-1774710000@comicquest.org
SUMMARY:Board Game Demo - Star Wars Super Teams
DESCRIPTION:FREE Board Game Demo: Star Wars Super Teams \nSaturday March 28 Noon  – 3pm \nComic Quest is providing FREE demos of a fun board game. Learn in a couple of minutes\, it might be your next favorite game. \nPlus\, a discount on the game all day! \n  \nEnjoy a fast-paced race through the galaxy in Star Wars: Super Teams! Choose your team\, pick your cards and go full speed through the track. But beware\, your opponents could send you into traps… \nSuper Teams is a light strategy game for the whole family\, perfect for Star Wars fans! \n\nRACE THROUGH THE GALAXY: Pick your team\, play your cards\, and speed through the track while dodging traps and outsmarting your opponents.\nLIGHT STRATEGY & FAST ACTION: A fun\, easy-to-learn game that combines quick decision-making and tactical gameplay for all skill levels.\nBEWARE OF TRAPS: Your rivals can set obstacles in your path—plan ahead to avoid setbacks and race to victory!\nFUN FOR ALL AGES: Designed for ages 8 and up\, this family-friendly strategy game is great for game nights\, parties\, and Star Wars enthusiast
URL:https://comicquest.org/event/board-game-demo-star-wars-super-teams/
LOCATION:Comic Quest\, 23811 Bridger #111 CA 92630\, Lake Forest\, CA\, 92630\, United States
CATEGORIES:Demo,Event
ATTACH;FMTTYPE=image/png:https://comicquest.org/wp-content/uploads/2026/03/star-wars-super-team-banner.png
END:VEVENT
END:VCALENDAR